BEGIN:VCALENDAR
VERSION:2.0
PRODID:-//Visit Midhurst - ECPv6.15.0.1//NONSGML v1.0//EN
CALSCALE:GREGORIAN
METHOD:PUBLISH
X-ORIGINAL-URL:https://visitmidhurst.com
X-WR-CALDESC:Events for Visit Midhurst
REFRESH-INTERVAL;VALUE=DURATION:PT1H
X-Robots-Tag:noindex
X-PUBLISHED-TTL:PT1H
BEGIN:VTIMEZONE
TZID:Europe/London
BEGIN:DAYLIGHT
TZOFFSETFROM:+0000
TZOFFSETTO:+0100
TZNAME:BST
DTSTART:20260329T010000
END:DAYLIGHT
BEGIN:STANDARD
TZOFFSETFROM:+0100
TZOFFSETTO:+0000
TZNAME:GMT
DTSTART:20261025T010000
END:STANDARD
END:VTIMEZONE
BEGIN:VEVENT
DTSTART;TZID=Europe/London:20260531T093000
DTEND;TZID=Europe/London:20260531T130000
DTSTAMP:20260424T111718
CREATED:20260105T163802Z
LAST-MODIFIED:20260105T171356Z
UID:10001088-1780219800-1780232400@visitmidhurst.com
SUMMARY:Toy Fair @ The Grange
DESCRIPTION:
URL:https://visitmidhurst.com/event/toy-fair-the-grange-2/
LOCATION:The Grange Community and Leisure Centre\, GU29 9DH
CATEGORIES:Shopping
ATTACH;FMTTYPE=image/png:https://visitmidhurst.com/content/uploads/2026/01/Toy-Fair.png
END:VEVENT
BEGIN:VEVENT
DTSTART;TZID=Europe/London:20260601T200000
DTEND;TZID=Europe/London:20260601T230000
DTSTAMP:20260424T111718
CREATED:20260415T183853Z
LAST-MODIFIED:20260415T193319Z
UID:10003001-1780344000-1780354800@visitmidhurst.com
SUMMARY:Snooker Tournament
DESCRIPTION:
URL:https://visitmidhurst.com/event/snooker-tournament/2026-06-01/
LOCATION:midhurst club\, 47a North Street\, Midhurst\, West sussex\, GU29 9DR\, United Kingdom
CATEGORIES:Activities
ATTACH;FMTTYPE=image/jpeg:https://visitmidhurst.com/content/uploads/2026/04/snooker.jpg
END:VEVENT
BEGIN:VEVENT
DTSTART;TZID=Europe/London:20260602T093000
DTEND;TZID=Europe/London:20260602T110000
DTSTAMP:20260424T111718
CREATED:20250312T113448Z
LAST-MODIFIED:20260112T192207Z
UID:10000631-1780392600-1780398000@visitmidhurst.com
SUMMARY:Active Antz by Everyone Active - Soft Play for Under 5's
DESCRIPTION:
URL:https://visitmidhurst.com/event/active-antz-by-everyone-active-soft-play-for-under-5s/2026-06-02/
LOCATION:The Grange Community and Leisure Centre\, GU29 9DH
CATEGORIES:Children
ATTACH;FMTTYPE=image/png:https://visitmidhurst.com/content/uploads/2025/03/Active-ants.png
END:VEVENT
BEGIN:VEVENT
DTSTART;TZID=Europe/London:20260602T093000
DTEND;TZID=Europe/London:20260602T110000
DTSTAMP:20260424T111718
CREATED:20260331T170010Z
LAST-MODIFIED:20260331T170010Z
UID:10002582-1780392600-1780398000@visitmidhurst.com
SUMMARY:Hunston to Birdham & Back Canal Walk - Approx. 3.25 Miles 5.25km
DESCRIPTION:
URL:https://visitmidhurst.com/event/hunston-to-birdham-back-canal-walk-approx-3-25-miles-5-25km-3/
LOCATION:West sussex
CATEGORIES:Activities,Sport
ATTACH;FMTTYPE=image/jpeg:https://visitmidhurst.com/content/uploads/2026/01/Coats-On.jpg
END:VEVENT
BEGIN:VEVENT
DTSTART;TZID=Europe/London:20260602T110000
DTEND;TZID=Europe/London:20260602T123000
DTSTAMP:20260424T111718
CREATED:20260331T170049Z
LAST-MODIFIED:20260409T120631Z
UID:10002583-1780398000-1780403400@visitmidhurst.com
SUMMARY:Hunston to Chichester and Back Canal Walk - Approx. 3 Miles 5km
DESCRIPTION:
URL:https://visitmidhurst.com/event/hunston-to-chichester-and-back-canal-walk-approx-3-miles-5km-3/
LOCATION:West sussex
CATEGORIES:Activities,Sport
ATTACH;FMTTYPE=image/jpeg:https://visitmidhurst.com/content/uploads/2026/03/wellbeing-walks.jpg
END:VEVENT
BEGIN:VEVENT
DTSTART;TZID=Europe/London:20260602T164500
DTEND;TZID=Europe/London:20260602T180000
DTSTAMP:20260424T111718
CREATED:20260120T200055Z
LAST-MODIFIED:20260120T200113Z
UID:10001474-1780418700-1780423200@visitmidhurst.com
SUMMARY:South Downs Sing Squad: Community Choir
DESCRIPTION:A new Community Choir has just launched for all in years 3-8 who love to sing.\n\n\n\nCome along on Tuesday afternoons at 1645 to Midhurst Parish Church* to sing with the South Downs Sing Squad!— at Midhurst Parish Church.\n\n\nTerm Time Only
URL:https://visitmidhurst.com/event/south-downs-sing-squad-community-choir/2026-06-02/
LOCATION:Midhurst Parish Church\, Sheep Lane\, Midhurst\, West Sussex\, GU29 9NT\, United Kingdom
CATEGORIES:Activities,Children,Music
ATTACH;FMTTYPE=image/png:https://visitmidhurst.com/content/uploads/2026/01/20260120_193350000_iOS.png
END:VEVENT
BEGIN:VEVENT
DTSTART;TZID=Europe/London:20260603T080000
DTEND;TZID=Europe/London:20260603T170000
DTSTAMP:20260424T111718
CREATED:20260122T185902Z
LAST-MODIFIED:20260122T185902Z
UID:10001726-1780473600-1780506000@visitmidhurst.com
SUMMARY:Langham's Brewer For a Day Experience
DESCRIPTION:
URL:https://visitmidhurst.com/event/langhams-brewer-for-a-day-experience/2026-06-03/
LOCATION:langhams Brewer\, The Granary\, Langham Lane\,\, Lodsworth\, west sussex\, GU28 9BU\, United Kingdom
CATEGORIES:Activities
ATTACH;FMTTYPE=image/png:https://visitmidhurst.com/content/uploads/2026/01/Langhams.png
END:VEVENT
BEGIN:VEVENT
DTSTART;TZID=Europe/London:20260603T153000
DTEND;TZID=Europe/London:20260603T163000
DTSTAMP:20260424T111718
CREATED:20260117T150019Z
LAST-MODIFIED:20260117T150019Z
UID:10001362-1780500600-1780504200@visitmidhurst.com
SUMMARY:Construction Club @ Midhurst Library
DESCRIPTION:Little people with little bricks and big ideas. \nFree of charge\, drop in\, no booking required.  Age 4+ accompanied by an adult.
URL:https://visitmidhurst.com/event/construction-club-midhurst-library/2026-06-03/
LOCATION:Midhurst Library\, The Grange Leisure Centre\, Midhurst\, west Sussex\, GU29 9HD\, United Kingdom
CATEGORIES:Activities,Children
ATTACH;FMTTYPE=image/png:https://visitmidhurst.com/content/uploads/2026/01/construction-club.png
END:VEVENT
BEGIN:VEVENT
DTSTART;TZID=Europe/London:20260604T111500
DTEND;TZID=Europe/London:20260604T234500
DTSTAMP:20260424T111718
CREATED:20260117T144543Z
LAST-MODIFIED:20260117T144845Z
UID:10001311-1780571700-1780616700@visitmidhurst.com
SUMMARY:Rhyme Time @ Midhurst Library
DESCRIPTION:Free\, no booking required.  A drop-in\, interactive\, stories and songs session\, for babies and toddlers under 5 years of age with an accompanying adult.  Held in the Midhurst library within the Grange Community Centre.
URL:https://visitmidhurst.com/event/rhyme-time-midhurst-library/2026-06-04/
LOCATION:Midhurst Library\, The Grange Leisure Centre\, Midhurst\, west Sussex\, GU29 9HD\, United Kingdom
CATEGORIES:Activities,Children,Music
ATTACH;FMTTYPE=image/png:https://visitmidhurst.com/content/uploads/2026/01/rhyme-time.png
END:VEVENT
BEGIN:VEVENT
DTSTART;VALUE=DATE:20260605
DTEND;VALUE=DATE:20260606
DTSTAMP:20260424T111718
CREATED:20260108T221000Z
LAST-MODIFIED:20260108T221000Z
UID:10001148-1780617600-1780703999@visitmidhurst.com
SUMMARY:Goodwood Racecourse: Three Friday Nights
DESCRIPTION:Featuring a unique combination of racing and music\, Three Friday Nights hosts a series of unforgettable evenings across June. Dance the night away in our Parade Ring as the sun sets.
URL:https://visitmidhurst.com/event/goodwood-racecourse-three-friday-nights/
LOCATION:Goodwood Racecourse\, Selhurstpark Rd\, Chichester\, West Sussex\, PO18 0PS\, United Kingdom
CATEGORIES:Music,Sport
ATTACH;FMTTYPE=image/png:https://visitmidhurst.com/content/uploads/2026/01/3-Fridays.png
ORGANIZER;CN="Goodwood Racecourse":MAILTO:ticket.office@goodwood.com
END:VEVENT
BEGIN:VEVENT
DTSTART;TZID=Europe/London:20260605T093000
DTEND;TZID=Europe/London:20260605T110000
DTSTAMP:20260424T111718
CREATED:20250312T113448Z
LAST-MODIFIED:20260112T192207Z
UID:10000632-1780651800-1780657200@visitmidhurst.com
SUMMARY:Active Antz by Everyone Active - Soft Play for Under 5's
DESCRIPTION:
URL:https://visitmidhurst.com/event/active-antz-by-everyone-active-soft-play-for-under-5s/2026-06-05/
LOCATION:The Grange Community and Leisure Centre\, GU29 9DH
CATEGORIES:Children
ATTACH;FMTTYPE=image/png:https://visitmidhurst.com/content/uploads/2025/03/Active-ants.png
END:VEVENT
BEGIN:VEVENT
DTSTART;TZID=Europe/London:20260605T200000
DTEND;TZID=Europe/London:20260605T230000
DTSTAMP:20260424T111718
CREATED:20260120T192711Z
LAST-MODIFIED:20260304T202041Z
UID:10001400-1780689600-1780700400@visitmidhurst.com
SUMMARY:First Friday's - Open Mike Nights @ The Bricks
DESCRIPTION:1st Friday of every month \nYou’ve got the talent \nYou Got The Gear \nNow you’ve got the Time and you’ve got place
URL:https://visitmidhurst.com/event/open-mike-night-the-bricks/2026-06-05/
LOCATION:The Bricklayers Arms\, Wool Lane\, Midhurst\, United Kingdom
CATEGORIES:Activities,Music
ATTACH;FMTTYPE=image/png:https://visitmidhurst.com/content/uploads/2026/01/Bricks-Cartoon.png
END:VEVENT
BEGIN:VEVENT
DTSTART;VALUE=DATE:20260606
DTEND;VALUE=DATE:20260607
DTSTAMP:20260424T111718
CREATED:20260304T191827Z
LAST-MODIFIED:20260304T191827Z
UID:10002260-1780704000-1780790399@visitmidhurst.com
SUMMARY:Midhurst Community Choir Charity Concert
DESCRIPTION:Join us for a wonderful evening of music on Saturday 6th June as our community choir takes to the stage for our Summer Concert!\n\n\nEnjoy a wonderful range of songs performed by our full choir\, our ensemble group\, and more – there’ll be something for everyone.\n\n\nIt promises to be a warm\, uplifting evening filled with great music and community spirit.\n\n\nMake sure you’re following us for all the latest updates.\n\n\n\n\n\n\n#communitychoir #savethedate #summerconcert #lovelocal #lovemidhurst
URL:https://visitmidhurst.com/event/midhurst-community-choir-charity-concert/
LOCATION:West sussex
CATEGORIES:Activities,Entertainment,Music
ATTACH;FMTTYPE=image/jpeg:https://visitmidhurst.com/content/uploads/2026/03/Choir.jpg
END:VEVENT
BEGIN:VEVENT
DTSTART;TZID=Europe/London:20260606T080000
DTEND;TZID=Europe/London:20260606T170000
DTSTAMP:20260424T111718
CREATED:20260122T191548Z
LAST-MODIFIED:20260122T192728Z
UID:10001846-1780732800-1780765200@visitmidhurst.com
SUMMARY:Langham's Brewery Tour
DESCRIPTION:
URL:https://visitmidhurst.com/event/langhams-brewer-tour/2026-06-06/
LOCATION:langhams Brewer\, The Granary\, Langham Lane\,\, Lodsworth\, west sussex\, GU28 9BU\, United Kingdom
CATEGORIES:Activities
ATTACH;FMTTYPE=image/jpeg:https://visitmidhurst.com/content/uploads/2026/01/Brewer-Tour-1.jpg
END:VEVENT
BEGIN:VEVENT
DTSTART;TZID=Europe/London:20260606T193000
DTEND;TZID=Europe/London:20260606T230000
DTSTAMP:20260424T111718
CREATED:20260207T093745Z
LAST-MODIFIED:20260207T094910Z
UID:10001985-1780774200-1780786800@visitmidhurst.com
SUMMARY:Bingo Night @ Midhurst Club
DESCRIPTION:
URL:https://visitmidhurst.com/event/bingo-night-midhurst-club/2026-06-06/
LOCATION:midhurst club\, 47a North Street\, Midhurst\, West sussex\, GU29 9DR\, United Kingdom
CATEGORIES:Activities,Entertainment,Music
ATTACH;FMTTYPE=image/jpeg:https://visitmidhurst.com/content/uploads/2026/02/Bingo-Midhusr-Club-1.jpg
END:VEVENT
BEGIN:VEVENT
DTSTART;TZID=Europe/London:20260607T113000
DTEND;TZID=Europe/London:20260607T190000
DTSTAMP:20260424T111718
CREATED:20260108T221532Z
LAST-MODIFIED:20260108T221532Z
UID:10001151-1780831800-1780858800@visitmidhurst.com
SUMMARY:Goodwood Racecourse: Family Race day
DESCRIPTION:From free fairground rides and live music to exhilarating racing\, everyone is guaranteed to have a smile on their face. It’s a chance to get up close to the equine stars while enjoying a variety of themed attractions\, all against the backdrop of a high-octane seven-race card.
URL:https://visitmidhurst.com/event/goodwood-racecourse-family-race-day/
LOCATION:West sussex
CATEGORIES:Children,Shopping,Sport
ATTACH;FMTTYPE=image/png:https://visitmidhurst.com/content/uploads/2026/01/Family-Race.png
END:VEVENT
BEGIN:VEVENT
DTSTART;TZID=Europe/London:20260607T140000
DTEND;TZID=Europe/London:20260607T180000
DTSTAMP:20260424T111718
CREATED:20260116T134931Z
LAST-MODIFIED:20260116T142524Z
UID:10001273-1780840800-1780855200@visitmidhurst.com
SUMMARY:Midhurst RC Truck Bash
DESCRIPTION:We hold a once-a-month meeting in Midhurst at the Methodist Church hall on the first Sunday of the month.  We supply a road layout\, you bring your truck!   It’s £10 per driver or you can come and watch for free.  Anyone is welcome\, and it’s as simple as that – it’s 4 hours of trucking fun.
URL:https://visitmidhurst.com/event/midhurst-rc-truck-bash/2026-06-07/
LOCATION:Methodist Church Hall\, North Street\, Midhurst\, West Sussex\, GU29 9DU\, United Kingdom
CATEGORIES:Activities
ATTACH;FMTTYPE=image/jpeg:https://visitmidhurst.com/content/uploads/2026/01/Trucking.jpg
END:VEVENT
BEGIN:VEVENT
DTSTART;TZID=Europe/London:20260608T200000
DTEND;TZID=Europe/London:20260608T230000
DTSTAMP:20260424T111718
CREATED:20260415T183853Z
LAST-MODIFIED:20260415T193319Z
UID:10003002-1780948800-1780959600@visitmidhurst.com
SUMMARY:Snooker Tournament
DESCRIPTION:
URL:https://visitmidhurst.com/event/snooker-tournament/2026-06-08/
LOCATION:midhurst club\, 47a North Street\, Midhurst\, West sussex\, GU29 9DR\, United Kingdom
CATEGORIES:Activities
ATTACH;FMTTYPE=image/jpeg:https://visitmidhurst.com/content/uploads/2026/04/snooker.jpg
END:VEVENT
BEGIN:VEVENT
DTSTART;TZID=Europe/London:20260609T093000
DTEND;TZID=Europe/London:20260609T110000
DTSTAMP:20260424T111718
CREATED:20250312T113448Z
LAST-MODIFIED:20260112T192207Z
UID:10000633-1780997400-1781002800@visitmidhurst.com
SUMMARY:Active Antz by Everyone Active - Soft Play for Under 5's
DESCRIPTION:
URL:https://visitmidhurst.com/event/active-antz-by-everyone-active-soft-play-for-under-5s/2026-06-09/
LOCATION:The Grange Community and Leisure Centre\, GU29 9DH
CATEGORIES:Children
ATTACH;FMTTYPE=image/png:https://visitmidhurst.com/content/uploads/2025/03/Active-ants.png
END:VEVENT
BEGIN:VEVENT
DTSTART;TZID=Europe/London:20260609T164500
DTEND;TZID=Europe/London:20260609T180000
DTSTAMP:20260424T111718
CREATED:20260120T200055Z
LAST-MODIFIED:20260120T200113Z
UID:10001475-1781023500-1781028000@visitmidhurst.com
SUMMARY:South Downs Sing Squad: Community Choir
DESCRIPTION:A new Community Choir has just launched for all in years 3-8 who love to sing.\n\n\n\nCome along on Tuesday afternoons at 1645 to Midhurst Parish Church* to sing with the South Downs Sing Squad!— at Midhurst Parish Church.\n\n\nTerm Time Only
URL:https://visitmidhurst.com/event/south-downs-sing-squad-community-choir/2026-06-09/
LOCATION:Midhurst Parish Church\, Sheep Lane\, Midhurst\, West Sussex\, GU29 9NT\, United Kingdom
CATEGORIES:Activities,Children,Music
ATTACH;FMTTYPE=image/png:https://visitmidhurst.com/content/uploads/2026/01/20260120_193350000_iOS.png
END:VEVENT
BEGIN:VEVENT
DTSTART;TZID=Europe/London:20260610T093000
DTEND;TZID=Europe/London:20260610T110000
DTSTAMP:20260424T111718
CREATED:20260331T170354Z
LAST-MODIFIED:20260331T170354Z
UID:10002584-1781083800-1781089200@visitmidhurst.com
SUMMARY:Lickfold & Lurgashall Circular Approx. 3 Miles 5km
DESCRIPTION:
URL:https://visitmidhurst.com/event/lickfold-lurgashall-circular-approx-3-miles-5km-2/
LOCATION:West sussex
CATEGORIES:Activities,Sport
ATTACH;FMTTYPE=image/jpeg:https://visitmidhurst.com/content/uploads/2026/01/Coats-On.jpg
END:VEVENT
BEGIN:VEVENT
DTSTART;TZID=Europe/London:20260610T111500
DTEND;TZID=Europe/London:20260610T123000
DTSTAMP:20260424T111718
CREATED:20260331T170449Z
LAST-MODIFIED:20260331T170449Z
UID:10002585-1781090100-1781094600@visitmidhurst.com
SUMMARY:Lickfold Woodlands Circular Approx. 3.5 Miles 5.6km
DESCRIPTION:
URL:https://visitmidhurst.com/event/lickfold-woodlands-circular-approx-3-5-miles-5-6km-3/
LOCATION:West sussex
CATEGORIES:Activities,Sport
ATTACH;FMTTYPE=image/jpeg:https://visitmidhurst.com/content/uploads/2026/01/Coats-On.jpg
END:VEVENT
BEGIN:VEVENT
DTSTART;TZID=Europe/London:20260610T153000
DTEND;TZID=Europe/London:20260610T163000
DTSTAMP:20260424T111718
CREATED:20260117T150019Z
LAST-MODIFIED:20260117T150019Z
UID:10001363-1781105400-1781109000@visitmidhurst.com
SUMMARY:Construction Club @ Midhurst Library
DESCRIPTION:Little people with little bricks and big ideas. \nFree of charge\, drop in\, no booking required.  Age 4+ accompanied by an adult.
URL:https://visitmidhurst.com/event/construction-club-midhurst-library/2026-06-10/
LOCATION:Midhurst Library\, The Grange Leisure Centre\, Midhurst\, west Sussex\, GU29 9HD\, United Kingdom
CATEGORIES:Activities,Children
ATTACH;FMTTYPE=image/png:https://visitmidhurst.com/content/uploads/2026/01/construction-club.png
END:VEVENT
BEGIN:VEVENT
DTSTART;TZID=Europe/London:20260611T111500
DTEND;TZID=Europe/London:20260611T234500
DTSTAMP:20260424T111718
CREATED:20260117T144543Z
LAST-MODIFIED:20260117T144845Z
UID:10001312-1781176500-1781221500@visitmidhurst.com
SUMMARY:Rhyme Time @ Midhurst Library
DESCRIPTION:Free\, no booking required.  A drop-in\, interactive\, stories and songs session\, for babies and toddlers under 5 years of age with an accompanying adult.  Held in the Midhurst library within the Grange Community Centre.
URL:https://visitmidhurst.com/event/rhyme-time-midhurst-library/2026-06-11/
LOCATION:Midhurst Library\, The Grange Leisure Centre\, Midhurst\, west Sussex\, GU29 9HD\, United Kingdom
CATEGORIES:Activities,Children,Music
ATTACH;FMTTYPE=image/png:https://visitmidhurst.com/content/uploads/2026/01/rhyme-time.png
END:VEVENT
BEGIN:VEVENT
DTSTART;VALUE=DATE:20260612
DTEND;VALUE=DATE:20260613
DTSTAMP:20260424T111718
CREATED:20260108T221045Z
LAST-MODIFIED:20260108T221045Z
UID:10001149-1781222400-1781308799@visitmidhurst.com
SUMMARY:Goodwood Racecourse: Three Friday Nights
DESCRIPTION:Featuring a unique combination of racing and music\, Three Friday Nights hosts a series of unforgettable evenings across June. Dance the night away in our Parade Ring as the sun sets.
URL:https://visitmidhurst.com/event/goodwood-racecourse-three-friday-nights-2/
LOCATION:Goodwood Racecourse\, Selhurstpark Rd\, Chichester\, West Sussex\, PO18 0PS\, United Kingdom
CATEGORIES:Music,Sport
ATTACH;FMTTYPE=image/png:https://visitmidhurst.com/content/uploads/2026/01/3-Fridays.png
ORGANIZER;CN="Goodwood Racecourse":MAILTO:ticket.office@goodwood.com
END:VEVENT
BEGIN:VEVENT
DTSTART;TZID=Europe/London:20260612T093000
DTEND;TZID=Europe/London:20260612T110000
DTSTAMP:20260424T111718
CREATED:20250312T113448Z
LAST-MODIFIED:20260112T192207Z
UID:10000634-1781256600-1781262000@visitmidhurst.com
SUMMARY:Active Antz by Everyone Active - Soft Play for Under 5's
DESCRIPTION:
URL:https://visitmidhurst.com/event/active-antz-by-everyone-active-soft-play-for-under-5s/2026-06-12/
LOCATION:The Grange Community and Leisure Centre\, GU29 9DH
CATEGORIES:Children
ATTACH;FMTTYPE=image/png:https://visitmidhurst.com/content/uploads/2025/03/Active-ants.png
END:VEVENT
BEGIN:VEVENT
DTSTART;TZID=Europe/London:20260613T200000
DTEND;TZID=Europe/London:20260613T230000
DTSTAMP:20260424T111718
CREATED:20260225T230901Z
LAST-MODIFIED:20260225T230901Z
UID:10002062-1781380800-1781391600@visitmidhurst.com
SUMMARY:Ibiza Night with Celena Sax
DESCRIPTION:The Three Moles\, Selham\, GU28 0PN. All events are free entry. \nNo tickets or bookings required. No under 12s at any time. No under 18s past 9pm.
URL:https://visitmidhurst.com/event/ibiza-night-with-celena-sax/
LOCATION:Three Moles\, Selham\, West Sussex\, GU28 0PN\, United Kingdom
CATEGORIES:Entertainment,Music
ATTACH;FMTTYPE=image/jpeg:https://visitmidhurst.com/content/uploads/2026/02/Ibiza.jpg
ORGANIZER;CN="The Three Moles":MAILTO:contact@thethreemoles.co.uk
END:VEVENT
BEGIN:VEVENT
DTSTART;TZID=Europe/London:20260614T020000
DTEND;TZID=Europe/London:20260614T040000
DTSTAMP:20260424T111718
CREATED:20260415T173414Z
LAST-MODIFIED:20260415T173550Z
UID:10002718-1781402400-1781409600@visitmidhurst.com
SUMMARY:Haiti vs Scotland
DESCRIPTION:FIFA World Cup 2026 match. Kick-off time shown in UK time. UK broadcaster: BBC (TBC).
URL:https://visitmidhurst.com/event/haiti-vs-scotland-2/
LOCATION:West sussex
CATEGORIES:Football
ATTACH;FMTTYPE=image/png:https://visitmidhurst.com/content/uploads/2026/04/world-cup-300x200-FgO50V.png
END:VEVENT
BEGIN:VEVENT
DTSTART;TZID=Europe/London:20260614T190000
DTEND;TZID=Europe/London:20260614T220000
DTSTAMP:20260424T111718
CREATED:20260227T235950Z
LAST-MODIFIED:20260227T235950Z
UID:10002195-1781463600-1781474400@visitmidhurst.com
SUMMARY:Folk Music Night @ Three Moles
DESCRIPTION:
URL:https://visitmidhurst.com/event/folk-music-night-three-moles/2026-06-14/
LOCATION:Three Moles\, Selham\, West Sussex\, GU28 0PN\, United Kingdom
CATEGORIES:Music
ATTACH;FMTTYPE=image/png:https://visitmidhurst.com/content/uploads/2026/02/Folk.png
ORGANIZER;CN="The Three Moles":MAILTO:contact@thethreemoles.co.uk
END:VEVENT
BEGIN:VEVENT
DTSTART;TZID=Europe/London:20260615T200000
DTEND;TZID=Europe/London:20260615T230000
DTSTAMP:20260424T111718
CREATED:20260415T183853Z
LAST-MODIFIED:20260415T193319Z
UID:10003003-1781553600-1781564400@visitmidhurst.com
SUMMARY:Snooker Tournament
DESCRIPTION:
URL:https://visitmidhurst.com/event/snooker-tournament/2026-06-15/
LOCATION:midhurst club\, 47a North Street\, Midhurst\, West sussex\, GU29 9DR\, United Kingdom
CATEGORIES:Activities
ATTACH;FMTTYPE=image/jpeg:https://visitmidhurst.com/content/uploads/2026/04/snooker.jpg
END:VEVENT
END:VCALENDAR