BEGIN:VCALENDAR
VERSION:2.0
PRODID:-//Visit Midhurst - ECPv6.15.0.1//NONSGML v1.0//EN
CALSCALE:GREGORIAN
METHOD:PUBLISH
X-ORIGINAL-URL:https://visitmidhurst.com
X-WR-CALDESC:Events for Visit Midhurst
REFRESH-INTERVAL;VALUE=DURATION:PT1H
X-Robots-Tag:noindex
X-PUBLISHED-TTL:PT1H
BEGIN:VTIMEZONE
TZID:Europe/London
BEGIN:DAYLIGHT
TZOFFSETFROM:+0000
TZOFFSETTO:+0100
TZNAME:BST
DTSTART:20260329T010000
END:DAYLIGHT
BEGIN:STANDARD
TZOFFSETFROM:+0100
TZOFFSETTO:+0000
TZNAME:GMT
DTSTART:20261025T010000
END:STANDARD
END:VTIMEZONE
BEGIN:VEVENT
DTSTART;TZID=Europe/London:20260401T153000
DTEND;TZID=Europe/London:20260401T163000
DTSTAMP:20260422T014248
CREATED:20260117T150019Z
LAST-MODIFIED:20260117T150019Z
UID:10001353-1775057400-1775061000@visitmidhurst.com
SUMMARY:Construction Club @ Midhurst Library
DESCRIPTION:Little people with little bricks and big ideas. \nFree of charge\, drop in\, no booking required.  Age 4+ accompanied by an adult.
URL:https://visitmidhurst.com/event/construction-club-midhurst-library/2026-04-01/
LOCATION:Midhurst Library\, The Grange Leisure Centre\, Midhurst\, west Sussex\, GU29 9HD\, United Kingdom
CATEGORIES:Activities,Children
ATTACH;FMTTYPE=image/png:https://visitmidhurst.com/content/uploads/2026/01/construction-club.png
END:VEVENT
BEGIN:VEVENT
DTSTART;TZID=Europe/London:20260401T080000
DTEND;TZID=Europe/London:20260401T170000
DTSTAMP:20260422T014248
CREATED:20260122T185902Z
LAST-MODIFIED:20260122T185902Z
UID:10001724-1775030400-1775062800@visitmidhurst.com
SUMMARY:Langham's Brewer For a Day Experience
DESCRIPTION:
URL:https://visitmidhurst.com/event/langhams-brewer-for-a-day-experience/2026-04-01/
LOCATION:langhams Brewer\, The Granary\, Langham Lane\,\, Lodsworth\, west sussex\, GU28 9BU\, United Kingdom
CATEGORIES:Activities
ATTACH;FMTTYPE=image/png:https://visitmidhurst.com/content/uploads/2026/01/Langhams.png
END:VEVENT
BEGIN:VEVENT
DTSTART;TZID=Europe/London:20260331T164500
DTEND;TZID=Europe/London:20260331T180000
DTSTAMP:20260422T014248
CREATED:20260120T200055Z
LAST-MODIFIED:20260120T200113Z
UID:10001465-1774975500-1774980000@visitmidhurst.com
SUMMARY:South Downs Sing Squad: Community Choir
DESCRIPTION:A new Community Choir has just launched for all in years 3-8 who love to sing.\n\n\n\nCome along on Tuesday afternoons at 1645 to Midhurst Parish Church* to sing with the South Downs Sing Squad!— at Midhurst Parish Church.\n\n\nTerm Time Only
URL:https://visitmidhurst.com/event/south-downs-sing-squad-community-choir/2026-03-31/
LOCATION:Midhurst Parish Church\, Sheep Lane\, Midhurst\, West Sussex\, GU29 9NT\, United Kingdom
CATEGORIES:Activities,Children,Music
ATTACH;FMTTYPE=image/png:https://visitmidhurst.com/content/uploads/2026/01/20260120_193350000_iOS.png
END:VEVENT
BEGIN:VEVENT
DTSTART;TZID=Europe/London:20260331T163000
DTEND;TZID=Europe/London:20260331T220000
DTSTAMP:20260422T014248
CREATED:20260112T204815Z
LAST-MODIFIED:20260311T190816Z
UID:10001263-1774974600-1774994400@visitmidhurst.com
SUMMARY:Siegfried (The Royal Opera) ROH Live @ The Leconfield Hall
DESCRIPTION:Siegfried (Royal Opera) ROH Live \nLive Broadcast: Part of our 2025/26 Live Arts Series\, streamed simultaneously from the Royal Opera House to our cinema screen and in full surround sound. \nRaised by a scheming dwarf and unaware of his true family origins\, a young man embarks on an epic journey. Soon\, destiny brings him face-to-face with a shattered sword\, a fearsome dragon and the cursed ring it guards\, and a Valkyrie forced into enchanted slumber… \nMoments of transcendent beauty and heroic triumph sparkle in the third chapter of Wagner’s Ring cycle\, brought to life under Barrie Kosky’s inspired eye following his spectacular Das Rheingold (2023) and Die Walküre (2025). Andreas Schager\, in his much-anticipated debut with The Royal Opera\, stars as Siegfried’s titular hero\, alongside Christopher Maltman’s towering Wanderer\, Peter Hoare’s treacherous Mime and Elisabet Strid’s radiant Brünnhilde. Antonio Pappano conducts\, drawing out the unspoken tensions and ethereal mysticism of Wagner’s dynamic score. \nOrchestra of the Royal Opera House & Royal Opera Chorus \nMusic: Robert Wagner \nConductor: Antonio Pappano \nDirector: Barrie Kosky \nCast: Andreas Schager\, Peter Hoare\, Christopher Maltman\, Elisabet Strid\, Christopher Purves \nLanguage: Sung in German with English subtitles \nGuidance: Parental guidance recommended \nEvent Details \nTue 31 March\nDoors Open at 3.45PM\nStarts at 4.30PM \nRunning time: The performance lasts approximately 5 hours 30 mins\, including intervals \nTICKETS\nAdults: £20\nUnder 16’s: £10 \nDoors open 45 minutes before start time. Please arrive at least 15 mins before the performance begins. \nAccessibility: Hearing Loop? YES Audio Description? NO \nLocation: Leconfield Hall\, Market Square\, Petworth\, GU28 0AH
URL:https://visitmidhurst.com/event/siegfried-the-royal-opera-roh-live-the-leconfield-hall/
LOCATION:Leconfield Hall\, Petworth.\, Market Square\, Petworth\, West Sussex\, GU28 0AN\, United Kingdom
CATEGORIES:Entertainment
ATTACH;FMTTYPE=image/png:https://visitmidhurst.com/content/uploads/2026/01/Leconfiled.png
END:VEVENT
BEGIN:VEVENT
DTSTART;TZID=Europe/London:20260331T093000
DTEND;TZID=Europe/London:20260331T110000
DTSTAMP:20260422T014248
CREATED:20250312T113448Z
LAST-MODIFIED:20260112T192207Z
UID:10000613-1774949400-1774954800@visitmidhurst.com
SUMMARY:Active Antz by Everyone Active - Soft Play for Under 5's
DESCRIPTION:
URL:https://visitmidhurst.com/event/active-antz-by-everyone-active-soft-play-for-under-5s/2026-03-31/
LOCATION:The Grange Community and Leisure Centre\, GU29 9DH
CATEGORIES:Children
ATTACH;FMTTYPE=image/png:https://visitmidhurst.com/content/uploads/2025/03/Active-ants.png
END:VEVENT
BEGIN:VEVENT
DTSTART;TZID=Europe/London:20260329T100000
DTEND;TZID=Europe/London:20260329T130000
DTSTAMP:20260422T014248
CREATED:20260105T160656Z
LAST-MODIFIED:20260105T160715Z
UID:10001080-1774778400-1774789200@visitmidhurst.com
SUMMARY:Indoor Car Boot Sale @ The Grange
DESCRIPTION:
URL:https://visitmidhurst.com/event/indoor-car-boot-sale-the-grange-2/
LOCATION:The Grange Community and Leisure Centre\, GU29 9DH
CATEGORIES:Shopping
ATTACH;FMTTYPE=image/png:https://visitmidhurst.com/content/uploads/2026/01/Car-Boot-Sale.png
END:VEVENT
BEGIN:VEVENT
DTSTART;TZID=Europe/London:20260329T080000
DTEND;TZID=Europe/London:20260329T110000
DTSTAMP:20260422T014248
CREATED:20260125T125611Z
LAST-MODIFIED:20260125T125611Z
UID:10001874-1774771200-1774782000@visitmidhurst.com
SUMMARY:Land Rover Social @ The Royal Oak
DESCRIPTION:A regular meet in the Car park of The Royal Oak for Land Rover Enthusiasts
URL:https://visitmidhurst.com/event/land-rover-social-the-royal-oak/2026-03-29/
LOCATION:Royal Oak\, Oaklands Lane\, Midhurst\, West Sussex\, GU29 0EP\, United Kingdom
CATEGORIES:Activities
ATTACH;FMTTYPE=image/png:https://visitmidhurst.com/content/uploads/2026/01/Landrover.png
END:VEVENT
BEGIN:VEVENT
DTSTART;TZID=Europe/London:20260328T200000
DTEND;TZID=Europe/London:20260328T230000
DTSTAMP:20260422T014248
CREATED:20260325T151347Z
LAST-MODIFIED:20260325T151347Z
UID:10002541-1774728000-1774738800@visitmidhurst.com
SUMMARY:Jay Butler Plays @ The Bricks
DESCRIPTION:
URL:https://visitmidhurst.com/event/jay-butler-plays-the-bricks/
LOCATION:West sussex
CATEGORIES:Entertainment,Music
ATTACH;FMTTYPE=image/png:https://visitmidhurst.com/content/uploads/2026/01/Bricks-Cartoon.png
END:VEVENT
BEGIN:VEVENT
DTSTART;TZID=Europe/London:20260328T193000
DTEND;TZID=Europe/London:20260328T193000
DTSTAMP:20260422T014248
CREATED:20260304T183037Z
LAST-MODIFIED:20260311T190808Z
UID:10002253-1774726200-1774726200@visitmidhurst.com
SUMMARY:Easter Quiz - Midhurst Club
DESCRIPTION:
URL:https://visitmidhurst.com/event/easter-quiz-midhurst-club/
LOCATION:midhurst club\, 47a North Street\, Midhurst\, West sussex\, GU29 9DR\, United Kingdom
CATEGORIES:Activities,Entertainment
ATTACH;FMTTYPE=image/jpeg:https://visitmidhurst.com/content/uploads/2026/03/Easter-Quiz.jpg
END:VEVENT
BEGIN:VEVENT
DTSTART;TZID=Europe/London:20260328T193000
DTEND;TZID=Europe/London:20260328T193000
DTSTAMP:20260422T014248
CREATED:20260208T205958Z
LAST-MODIFIED:20260311T190757Z
UID:10002043-1774726200-1774726200@visitmidhurst.com
SUMMARY:Chaps Choir
DESCRIPTION:
URL:https://visitmidhurst.com/event/chaps-choir/
LOCATION:Midhurst Parish Church\, Sheep Lane\, Midhurst\, West Sussex\, GU29 9NT\, United Kingdom
CATEGORIES:Music
ATTACH;FMTTYPE=image/jpeg:https://visitmidhurst.com/content/uploads/2026/02/Chaps-Choir.jpg
END:VEVENT
BEGIN:VEVENT
DTSTART;TZID=Europe/London:20260328T190000
DTEND;TZID=Europe/London:20260328T223000
DTSTAMP:20260422T014248
CREATED:20260317T162431Z
LAST-MODIFIED:20260317T162431Z
UID:10002329-1774724400-1774737000@visitmidhurst.com
SUMMARY:EPIC COMEDY @ Langham's Brewery
DESCRIPTION:
URL:https://visitmidhurst.com/event/epic-comedy-langhams-brewery/
LOCATION:langhams Brewer\, The Granary\, Langham Lane\,\, Lodsworth\, west sussex\, GU28 9BU\, United Kingdom
CATEGORIES:Entertainment
ATTACH;FMTTYPE=image/png:https://visitmidhurst.com/content/uploads/2026/03/Epic-Comedy.png
END:VEVENT
BEGIN:VEVENT
DTSTART;TZID=Europe/London:20260328T183000
DTEND;TZID=Europe/London:20260328T220000
DTSTAMP:20260422T014248
CREATED:20260107T212721Z
LAST-MODIFIED:20260311T190748Z
UID:10001110-1774722600-1774735200@visitmidhurst.com
SUMMARY:March Evening Dining: A Spring Gathering @ Cowdray
DESCRIPTION:Explore nature with our spring foraging course. \nA day of gentle exploration and connection\, discovering cleavers\, wood sorrel\, and early hogweed shoots along our hedgerows and woodland paths. We’ll deepen our understanding of place through learning it’s history\, mindful foraging\, and tasting the freshness of spring through the spectacular species of the English countryside. \nWalks will be circular\, beginning and ending at Cowdray Farm Shop and will last approximately 2.5 hours. \nPlease wear footwear that is suitable for undulating terrain. \nMeet George\, Cowdray’s Forager:\nGeorge has been foraging and using wild foods for some years\, supplying the freshest foraged wild edibles to some of the country’s top restaurants\, chefs and food establishments. \nAfter years of being immersed in the ‘wild’ himself\, George now focuses on encouraging others to appreciate the significance of our native countryside\, and how we can enjoy and protect it for future generations. \nOver his years of foraging George has accrued an in-depth knowledge of our countryside\, its diverse habitats and the variety of plants and fungi each contains. He has covered the length and breadth of the country from the Scottish Highlands to the moors and coasts of Cornwall\, in search of new native edibles as well as sustainable sources to pick them. Working closely with chefs consulting on what\, when and how to use each ingredient to best showcase them has led George to be featured on programmes like BBC’s Saturday Kitchen\, following the journey from the forests and fields to fork. George now hopes to inspire you on your own adventure of discovery.
URL:https://visitmidhurst.com/event/march-evening-dining-a-spring-gathering-cowdray/
LOCATION:Cowdray Cafe\, Easebourne\, West Sussex\, GU29 0AJ\, United Kingdom
CATEGORIES:Activities
ATTACH;FMTTYPE=image/jpeg:https://visitmidhurst.com/content/uploads/2026/01/Cowdray.jpg
END:VEVENT
BEGIN:VEVENT
DTSTART;TZID=Europe/London:20260328T140000
DTEND;TZID=Europe/London:20260328T170000
DTSTAMP:20260422T014248
CREATED:20260125T123158Z
LAST-MODIFIED:20260325T134749Z
UID:10001870-1774706400-1774717200@visitmidhurst.com
SUMMARY:Rugby: Midhurst RFC Home Game playing Hastings and Bex Hill 2
DESCRIPTION:No Spectators Feed and the Bar will be open 🙂 \nMidhurst RFC is a small\, friendly grassroots rugby club based at The Ruins in Midhurst\, in the very heart of the South Downs. \nWe run Mini & Junior teams from age 5 upwards who play on Sunday mornings with a strong emphasis on fun & friendship. Our Adult team play in Sussex 4 with similar emphasis! \nNew players are always welcome.
URL:https://visitmidhurst.com/event/rugby-midhurst-rfc-home-game-playing-hastings-and-bex-hill-2/
LOCATION:Midhurst Rugby Club\, The Pavilion\, Cowdray Ruins\, Midhurst\, west sussex\, GU29 9AL\, United Kingdom
CATEGORIES:Activities,Sport
ATTACH;FMTTYPE=image/jpeg:https://visitmidhurst.com/content/uploads/2026/01/RFC.jpg
ORGANIZER;CN="Midhurst Rugby Club":MAILTO:midhurstrugbyfootballclub@gmail.com
END:VEVENT
BEGIN:VEVENT
DTSTART;TZID=Europe/London:20260328T120000
DTEND;TZID=Europe/London:20260328T140000
DTSTAMP:20260422T014248
CREATED:20260325T151709Z
LAST-MODIFIED:20260325T151709Z
UID:10002542-1774699200-1774706400@visitmidhurst.com
SUMMARY:District & County Councillor Surgery
DESCRIPTION:
URL:https://visitmidhurst.com/event/district-county-councillor-surgery/
LOCATION:The Grange Community and Leisure Centre\, GU29 9DH
CATEGORIES:Activities
ATTACH;FMTTYPE=image/jpeg:https://visitmidhurst.com/content/uploads/2026/03/656019211_122169998798688415_5142709094454598585_n.jpg
END:VEVENT
BEGIN:VEVENT
DTSTART;TZID=Europe/London:20260328T103000
DTEND;TZID=Europe/London:20260328T130000
DTSTAMP:20260422T014248
CREATED:20260107T212058Z
LAST-MODIFIED:20260311T190725Z
UID:10001109-1774693800-1774702800@visitmidhurst.com
SUMMARY:Learn the Land and Wild Foods of Spring @ Cowdray
DESCRIPTION:Explore nature with our spring foraging course. \nA day of gentle exploration and connection\, discovering cleavers\, wood sorrel\, and early hogweed shoots along our hedgerows and woodland paths. We’ll deepen our understanding of place through learning it’s history\, mindful foraging\, and tasting the freshness of spring through the spectacular species of the English countryside. \nWalks will be circular\, beginning and ending at Cowdray Farm Shop and will last approximately 2.5 hours. \nPlease wear footwear that is suitable for undulating terrain. \nMeet George\, Cowdray’s Forager:\nGeorge has been foraging and using wild foods for some years\, supplying the freshest foraged wild edibles to some of the country’s top restaurants\, chefs and food establishments. \nAfter years of being immersed in the ‘wild’ himself\, George now focuses on encouraging others to appreciate the significance of our native countryside\, and how we can enjoy and protect it for future generations. \nOver his years of foraging George has accrued an in-depth knowledge of our countryside\, its diverse habitats and the variety of plants and fungi each contains. He has covered the length and breadth of the country from the Scottish Highlands to the moors and coasts of Cornwall\, in search of new native edibles as well as sustainable sources to pick them. Working closely with chefs consulting on what\, when and how to use each ingredient to best showcase them has led George to be featured on programmes like BBC’s Saturday Kitchen\, following the journey from the forests and fields to fork. George now hopes to inspire you on your own adventure of discovery.
URL:https://visitmidhurst.com/event/learn-the-land-and-wild-foods-of-spring-cowdray/
LOCATION:Cowdray Cafe\, Easebourne\, West Sussex\, GU29 0AJ\, United Kingdom
CATEGORIES:Activities
ATTACH;FMTTYPE=image/jpeg:https://visitmidhurst.com/content/uploads/2026/01/Cowdray.jpg
END:VEVENT
BEGIN:VEVENT
DTSTART;TZID=Europe/London:20260328T100000
DTEND;TZID=Europe/London:20260412T160000
DTSTAMP:20260422T014248
CREATED:20260325T152725Z
LAST-MODIFIED:20260325T152906Z
UID:10002543-1774692000-1776009600@visitmidhurst.com
SUMMARY:Easter Holidays | Art in Nature Packs
DESCRIPTION:Pick up a free Art in Nature pack from the Information Desk in The Gallery before setting out to explore our 70-acre landscape. Each pack includes everything you need to create rubbings and explore mark making inspired by the shapes and textures around you. Bring your rubbings to the Learning Hub tipi in the woodland to transform them into a nature-inspired collage. Available Saturday 28 March to Sunday 12 April. The Foundation is closed on Tuesdays and Wednesdays. Children visit for free. \n\nFree with adult admission
URL:https://visitmidhurst.com/event/easter-holidays-art-in-nature-packs/
LOCATION:Goodwood Art Foundation\, New Barn Hill\, Goodwood\, west sussex\, PO18 0QP\, United Kingdom
CATEGORIES:Activities,Children
ATTACH;FMTTYPE=image/png:https://visitmidhurst.com/content/uploads/2026/03/Screenshot-2026-03-25-152703.png
END:VEVENT
BEGIN:VEVENT
DTSTART;TZID=Europe/London:20260328T100000
DTEND;TZID=Europe/London:20260328T153000
DTSTAMP:20260422T014248
CREATED:20260317T163558Z
LAST-MODIFIED:20260317T163558Z
UID:10002330-1774692000-1774711800@visitmidhurst.com
SUMMARY:Midhurst Brocante The Old Library
DESCRIPTION:Our fabulous Brocante returns to Midhurst with 20 Vintage dealers bringing you the very best in Vintage for the Home\, garden and clothes & jewellery. \nJoin us from 10am – 3.30 pm in the Old Library Midhurst
URL:https://visitmidhurst.com/event/midhurst-brocante-the-old-library/
LOCATION:The Old Town Library\, Old Town Library\, Knockhundred Row\, Midhurst\, GU29 9DQ\, United Kingdom
CATEGORIES:Shopping
ATTACH;FMTTYPE=image/png:https://visitmidhurst.com/content/uploads/2026/03/Brocante.png
GEO:50.986647;-0.737773
X-APPLE-STRUCTURED-LOCATION;VALUE=URI;X-ADDRESS=The Old Town Library Old Town Library Knockhundred Row Midhurst GU29 9DQ United Kingdom;X-APPLE-RADIUS=500;X-TITLE=Old Town Library\, Knockhundred Row:geo:-0.737773,50.986647
END:VEVENT
BEGIN:VEVENT
DTSTART;TZID=Europe/London:20260328T091500
DTEND;TZID=Europe/London:20260328T230000
DTSTAMP:20260422T014248
CREATED:20260225T222517Z
LAST-MODIFIED:20260311T190716Z
UID:10002056-1774689300-1774738800@visitmidhurst.com
SUMMARY:Breakfast Club: Stedham Sports Association
DESCRIPTION:
URL:https://visitmidhurst.com/event/breakfast-club-stedham-sports-association-2/
LOCATION:West sussex
CATEGORIES:Activities
ATTACH;FMTTYPE=image/png:https://visitmidhurst.com/content/uploads/2026/02/breakfast.png
END:VEVENT
BEGIN:VEVENT
DTSTART;VALUE=DATE:20260328
DTEND;VALUE=DATE:20260405
DTSTAMP:20260422T014248
CREATED:20260317T170513Z
LAST-MODIFIED:20260317T170513Z
UID:10002333-1774656000-1775347199@visitmidhurst.com
SUMMARY:Easter Bunny Trail
DESCRIPTION:Our FREE Easter Trail goes live on 28th March.\n\n\n\nWe have over 100 Easter eggs to give away. Come and collect your prize on the dates listed below on the poster. Collect a trail sheet from outside The Old Library or download from our website https://midhurst-tc.gov.uk/half-term-activities-2/\n\n\n\nHappy hunting.
URL:https://visitmidhurst.com/event/easter-bunny-trail/
LOCATION:Town Centre\, Midhurst
CATEGORIES:Children
ATTACH;FMTTYPE=image/jpeg:https://visitmidhurst.com/content/uploads/2026/03/Bunny-Trail.jpg
ORGANIZER;CN="Town Council":MAILTO:clerk@midhurst-tc.gov.uk
END:VEVENT
BEGIN:VEVENT
DTSTART;TZID=Europe/London:20260327T203000
DTEND;TZID=Europe/London:20260327T230000
DTSTAMP:20260422T014248
CREATED:20260304T183803Z
LAST-MODIFIED:20260312T084019Z
UID:10002257-1774643400-1774652400@visitmidhurst.com
SUMMARY:Helen Spooner Plays @ The Wheatsheaf
DESCRIPTION:Shot deals\n Double up deals\n 2 glasses of Prosecco for £10\n Buy 2 large glasses of wine & get the rest of the bottle FREE\n(Mon–Sat\, 3pm–6pm)\n Pool table – FREE every Sunday\n Darts with electronic scoreboard\n Jukebox – FREE every Saturday from 7pm\n Sky Sports & TNT\n Multiple screens + a brand new TV so you never miss the action\n\n\nGreat music\, great drinks\, great atmosphere — be great to see you \n Live at The Wheatsheaf
URL:https://visitmidhurst.com/event/helen-spooner-plays-the-wheatsheaf/
LOCATION:The Wheatsheaf Pub\, Wool Lane\, Midhurst\, West Sussex\, GU29 9BX\, United Kingdom
CATEGORIES:Entertainment,Music
ATTACH;FMTTYPE=image/jpeg:https://visitmidhurst.com/content/uploads/2026/01/Wheatsheaf.jpg
END:VEVENT
BEGIN:VEVENT
DTSTART;TZID=Europe/London:20260327T093000
DTEND;TZID=Europe/London:20260327T110000
DTSTAMP:20260422T014248
CREATED:20250312T113448Z
LAST-MODIFIED:20260112T192207Z
UID:10000612-1774603800-1774609200@visitmidhurst.com
SUMMARY:Active Antz by Everyone Active - Soft Play for Under 5's
DESCRIPTION:
URL:https://visitmidhurst.com/event/active-antz-by-everyone-active-soft-play-for-under-5s/2026-03-27/
LOCATION:The Grange Community and Leisure Centre\, GU29 9DH
CATEGORIES:Children
ATTACH;FMTTYPE=image/png:https://visitmidhurst.com/content/uploads/2025/03/Active-ants.png
END:VEVENT
BEGIN:VEVENT
DTSTART;TZID=Europe/London:20260326T200000
DTEND;TZID=Europe/London:20260326T230000
DTSTAMP:20260422T014248
CREATED:20260325T150545Z
LAST-MODIFIED:20260325T150545Z
UID:10002419-1774555200-1774566000@visitmidhurst.com
SUMMARY:Quiz Night @ Faustino's (postponed from last week)
DESCRIPTION:
URL:https://visitmidhurst.com/event/quiz-night-faustinos-postponed-form-last-week-2/
LOCATION:Faustino’s\, 2a North Street\, Midhurst\, West Sussex\, GU29 9DJ\, United Kingdom
CATEGORIES:Activities,Entertainment
ATTACH;FMTTYPE=image/png:https://visitmidhurst.com/content/uploads/2026/03/Screenshot-2026-03-25-145829.png
END:VEVENT
BEGIN:VEVENT
DTSTART;TZID=Europe/London:20260326T190000
DTEND;TZID=Europe/London:20260326T230000
DTSTAMP:20260422T014248
CREATED:20260216T131159Z
LAST-MODIFIED:20260311T190702Z
UID:10002049-1774551600-1774566000@visitmidhurst.com
SUMMARY:Charity Bingo Night @ The Greyhound
DESCRIPTION:
URL:https://visitmidhurst.com/event/charity-bingo-night-the-greyhound/
LOCATION:Greyhound Pub\, Cocking Causeway\, Midhurst\, West Sussex\, GU29 9QH
CATEGORIES:Activities,Entertainment
ATTACH;FMTTYPE=image/png:https://visitmidhurst.com/content/uploads/2026/01/Greyhound-2.png
ORGANIZER;CN="The Greyhound Pub":MAILTO:info@thegreyhoundpub.com
END:VEVENT
BEGIN:VEVENT
DTSTART;TZID=Europe/London:20260326T113000
DTEND;TZID=Europe/London:20260326T130000
DTSTAMP:20260422T014248
CREATED:20260201T201234Z
LAST-MODIFIED:20260201T201234Z
UID:10001950-1774524600-1774530000@visitmidhurst.com
SUMMARY:Goodwood Hills & West Dean Circular -3.5 Miles
DESCRIPTION:Goodwood Hills & West Dean Circular -3.5 Miles\n11.15am meet for a 11.30am start (following on from our 1st walk) – Meeting at the site of where the The T Box at the Top of Goodwood Hill used to be (where the top of Chalkpit Lane /Town Lane Meet – The Trundle Car Park). We will then take a leisurely 3.5 mile walk down the chalky lane over the other side of the hill where we will then make our way over to West Dean before a pitstop at the West Dean Stores & Cafe before making our way back up around the side of West Dean gardens and back to the starting point. Dogs on leads are welcome to come along on this walk. \nMeeting Place – The T Box (at the top of Chalkpit Lane/Town Lane) Trundle Car Park ///pizzeria.verdict.focus
URL:https://visitmidhurst.com/event/goodwood-hills-west-dean-circular-3-5-miles-2/
LOCATION:West sussex
CATEGORIES:Activities,Sport
ATTACH;FMTTYPE=image/jpeg:https://visitmidhurst.com/content/uploads/2026/01/Coats-On.jpg
ORGANIZER;CN="Coat On Coat Off Wet Feet":MAILTO:vicki@thetalldog.co.uk
END:VEVENT
BEGIN:VEVENT
DTSTART;TZID=Europe/London:20260326T111500
DTEND;TZID=Europe/London:20260326T234500
DTSTAMP:20260422T014248
CREATED:20260117T144543Z
LAST-MODIFIED:20260117T144845Z
UID:10001301-1774523700-1774568700@visitmidhurst.com
SUMMARY:Rhyme Time @ Midhurst Library
DESCRIPTION:Free\, no booking required.  A drop-in\, interactive\, stories and songs session\, for babies and toddlers under 5 years of age with an accompanying adult.  Held in the Midhurst library within the Grange Community Centre.
URL:https://visitmidhurst.com/event/rhyme-time-midhurst-library/2026-03-26/
LOCATION:Midhurst Library\, The Grange Leisure Centre\, Midhurst\, west Sussex\, GU29 9HD\, United Kingdom
CATEGORIES:Activities,Children,Music
ATTACH;FMTTYPE=image/png:https://visitmidhurst.com/content/uploads/2026/01/rhyme-time.png
END:VEVENT
BEGIN:VEVENT
DTSTART;TZID=Europe/London:20260326T093000
DTEND;TZID=Europe/London:20260326T110000
DTSTAMP:20260422T014248
CREATED:20260201T201034Z
LAST-MODIFIED:20260201T201034Z
UID:10001949-1774517400-1774522800@visitmidhurst.com
SUMMARY:Goodwood Hills to East Lavant Circular 4.5 miles
DESCRIPTION:Goodwood Hills to East Lavant Circular 4.5 miles\n9.15am meet for a 9.30am start – Meeting at The T Box at the Top of Goodwood Hill (where the top of Chalkpit Lane /Town Lane Meet – The Trundle Car Park) we will take a walk down the chalky lane taking in the views over where on a good day we can see the Spinnaker Tower and beyond. \nWe will make our way down to East Lavant before making our way back up the hill to the start. Please note there are no facilities on this stop so bring refreshments with you and wild wees maybe required if needed. Dogs on leads are welcome to come along on this walk. \nMeeting Place – The T Box (at the top of Chalkpit Lane/Town Lane) Trundle Car Park ///pizzeria.verdict.focus
URL:https://visitmidhurst.com/event/goodwood-hills-to-east-lavant-circular-4-5-miles-2/
LOCATION:West sussex
CATEGORIES:Activities,Sport
ATTACH;FMTTYPE=image/jpeg:https://visitmidhurst.com/content/uploads/2026/01/Coats-On.jpg
ORGANIZER;CN="Coat On Coat Off Wet Feet":MAILTO:vicki@thetalldog.co.uk
END:VEVENT
BEGIN:VEVENT
DTSTART;TZID=Europe/London:20260325T200000
DTEND;TZID=Europe/London:20260325T230000
DTSTAMP:20260422T014248
CREATED:20260304T192321Z
LAST-MODIFIED:20260415T185936Z
UID:10002262-1774468800-1774479600@visitmidhurst.com
SUMMARY:Open Mike Night @ Faustino's
DESCRIPTION:
URL:https://visitmidhurst.com/event/open-mike-night-faustinos-2/2026-03-25/
LOCATION:Faustino’s\, 2a North Street\, Midhurst\, West Sussex\, GU29 9DJ\, United Kingdom
CATEGORIES:Activities
ATTACH;FMTTYPE=image/png:https://visitmidhurst.com/content/uploads/2026/03/open-Mike.png
END:VEVENT
BEGIN:VEVENT
DTSTART;TZID=Europe/London:20260325T190000
DTEND;TZID=Europe/London:20260325T210000
DTSTAMP:20260422T014248
CREATED:20260304T190919Z
LAST-MODIFIED:20260304T190919Z
UID:10002258-1774465200-1774472400@visitmidhurst.com
SUMMARY:Easter Wreath Making @ Stedham Primary School
DESCRIPTION:
URL:https://visitmidhurst.com/event/easter-wreath-making-stedham-primary-school/
LOCATION:West sussex
CATEGORIES:Activities
ATTACH;FMTTYPE=image/jpeg:https://visitmidhurst.com/content/uploads/2026/03/wreath.jpg
END:VEVENT
BEGIN:VEVENT
DTSTART;TZID=Europe/London:20260325T153000
DTEND;TZID=Europe/London:20260325T163000
DTSTAMP:20260422T014248
CREATED:20260117T150019Z
LAST-MODIFIED:20260117T150019Z
UID:10001352-1774452600-1774456200@visitmidhurst.com
SUMMARY:Construction Club @ Midhurst Library
DESCRIPTION:Little people with little bricks and big ideas. \nFree of charge\, drop in\, no booking required.  Age 4+ accompanied by an adult.
URL:https://visitmidhurst.com/event/construction-club-midhurst-library/2026-03-25/
LOCATION:Midhurst Library\, The Grange Leisure Centre\, Midhurst\, west Sussex\, GU29 9HD\, United Kingdom
CATEGORIES:Activities,Children
ATTACH;FMTTYPE=image/png:https://visitmidhurst.com/content/uploads/2026/01/construction-club.png
END:VEVENT
BEGIN:VEVENT
DTSTART;TZID=Europe/London:20260324T164500
DTEND;TZID=Europe/London:20260324T180000
DTSTAMP:20260422T014248
CREATED:20260120T200055Z
LAST-MODIFIED:20260120T200113Z
UID:10001464-1774370700-1774375200@visitmidhurst.com
SUMMARY:South Downs Sing Squad: Community Choir
DESCRIPTION:A new Community Choir has just launched for all in years 3-8 who love to sing.\n\n\n\nCome along on Tuesday afternoons at 1645 to Midhurst Parish Church* to sing with the South Downs Sing Squad!— at Midhurst Parish Church.\n\n\nTerm Time Only
URL:https://visitmidhurst.com/event/south-downs-sing-squad-community-choir/2026-03-24/
LOCATION:Midhurst Parish Church\, Sheep Lane\, Midhurst\, West Sussex\, GU29 9NT\, United Kingdom
CATEGORIES:Activities,Children,Music
ATTACH;FMTTYPE=image/png:https://visitmidhurst.com/content/uploads/2026/01/20260120_193350000_iOS.png
END:VEVENT
END:VCALENDAR