BEGIN:VCALENDAR
VERSION:2.0
PRODID:-//Visit Midhurst - ECPv6.15.0.1//NONSGML v1.0//EN
CALSCALE:GREGORIAN
METHOD:PUBLISH
X-WR-CALNAME:Visit Midhurst
X-ORIGINAL-URL:https://visitmidhurst.com
X-WR-CALDESC:Events for Visit Midhurst
REFRESH-INTERVAL;VALUE=DURATION:PT1H
X-Robots-Tag:noindex
X-PUBLISHED-TTL:PT1H
BEGIN:VTIMEZONE
TZID:Europe/London
BEGIN:DAYLIGHT
TZOFFSETFROM:+0000
TZOFFSETTO:+0100
TZNAME:BST
DTSTART:20260329T010000
END:DAYLIGHT
BEGIN:STANDARD
TZOFFSETFROM:+0100
TZOFFSETTO:+0000
TZNAME:GMT
DTSTART:20261025T010000
END:STANDARD
END:VTIMEZONE
BEGIN:VEVENT
DTSTART;TZID=Europe/London:20260516T120000
DTEND;TZID=Europe/London:20260516T160000
DTSTAMP:20260424T063527
CREATED:20260112T190812Z
LAST-MODIFIED:20260112T190812Z
UID:10001159-1778932800-1778947200@visitmidhurst.com
SUMMARY:Midhurst Skate Jam 2026
DESCRIPTION:Midhurst Town Council’s annual Skate Jam at Carron Lane Skate Park is on Saturday 16th May 2026 between 12 noon and 4pm. \nIt is once again being run by the fantastic Team Rubicon with competitions for all ages\, on bikes\, scooters\, and of course\, skateboards. All free to enter.
URL:https://visitmidhurst.com/event/midhurst-skate-jam-2026/
LOCATION:Carron Lane Skate Park\, Carron Lane\, Midhurst\, West sussex\, GU29 9LF\, United Kingdom
CATEGORIES:Children,Sport
ATTACH;FMTTYPE=image/png:https://visitmidhurst.com/content/uploads/2026/01/Skate-jam.png
ORGANIZER;CN="Town Council":MAILTO:clerk@midhurst-tc.gov.uk
END:VEVENT
BEGIN:VEVENT
DTSTART;TZID=Europe/London:20260516T140000
DTEND;TZID=Europe/London:20260516T160000
DTSTAMP:20260424T063527
CREATED:20260421T112142Z
LAST-MODIFIED:20260421T112320Z
UID:10003256-1778940000-1778947200@visitmidhurst.com
SUMMARY:Book Launch: Coat On Coat Off Wet Feet
DESCRIPTION:Come along and purchase my 2nd book ‘Coat on Coat off Muddy Boots’ which takes you along my journey of the 200 Mile Sussex Hospices Trail as well as 5 of my Ultra Marathons where I have walked for local people who are sadly no longer with us.\nThis book is dedicated to Andy Claydon\, a well loved man from Midhurst and alongside his walk I took on in May 25\, included are memories from his mum as well as memories of other family members I have walked for including Daphne Ralph\, Charlie Cosser\, Laura Johnston\, Maureen Goodman and my Grandad Dick Whittington.\n\nEnjoy the paths of the trails through my eyes and my feet and discover the beauty of East and West Sussex as I wander section by section the 200 mile trail. Through the wind\, the rain\, the mud and the hot sunshine I discover so many new paths and a new strength and confidence in myself.\n\n£1 per book sold will be given to Midhurst Palliative Care and £1 to Friends of Sussex Hospices\, both incredible charities that support so many loved ones going through end of life care.\nI would be happy to sign your book on the day and talk to you about my travels. Look forward to seeing you on Saturday 16th May 2026 from 2pm – 4pm at Coskuns Cafe\, North Street\, Midhurst\, West Sussex GU29 9DJ\n\nWhat3Words ///admires.bombard.wealth
URL:https://visitmidhurst.com/event/book-launch-coat-on-coat-off-wet-feet/
LOCATION:Coskuns Cafe\, 72 North Street\, Midhurst\, West sussex\, GU29 9AY\, United Kingdom
CATEGORIES:Activities
ATTACH;FMTTYPE=image/jpeg:https://visitmidhurst.com/content/uploads/2026/04/Booklaunch.jpg
ORGANIZER;CN="Coat On Coat Off Wet Feet":MAILTO:vicki@thetalldog.co.uk
END:VEVENT
BEGIN:VEVENT
DTSTART;TZID=Europe/London:20260516T193000
DTEND;TZID=Europe/London:20260516T223000
DTSTAMP:20260424T063527
CREATED:20260415T184203Z
LAST-MODIFIED:20260415T184209Z
UID:10002988-1778959800-1778970600@visitmidhurst.com
SUMMARY:Darts Tournament
DESCRIPTION:
URL:https://visitmidhurst.com/event/darts-tournament/
LOCATION:midhurst club\, 47a North Street\, Midhurst\, West sussex\, GU29 9DR\, United Kingdom
CATEGORIES:Activities,Sport
ATTACH;FMTTYPE=image/jpeg:https://visitmidhurst.com/content/uploads/2026/04/darts.jpg
END:VEVENT
BEGIN:VEVENT
DTSTART;TZID=Europe/London:20260517T103000
DTEND;TZID=Europe/London:20260517T120000
DTSTAMP:20260424T063527
CREATED:20260105T162106Z
LAST-MODIFIED:20260105T162106Z
UID:10001086-1779013800-1779019200@visitmidhurst.com
SUMMARY:Little Pickles Children's Nearly New Sale @ The Grange
DESCRIPTION:
URL:https://visitmidhurst.com/event/little-pickles-childrens-nearly-new-sale-the-grange-2/
LOCATION:The Grange Community and Leisure Centre\, GU29 9DH
CATEGORIES:Shopping
ATTACH;FMTTYPE=image/png:https://visitmidhurst.com/content/uploads/2026/01/Pickles.png
END:VEVENT
BEGIN:VEVENT
DTSTART;TZID=Europe/London:20260517T123000
DTEND;TZID=Europe/London:20260517T170000
DTSTAMP:20260424T063527
CREATED:20260325T145353Z
LAST-MODIFIED:20260325T145444Z
UID:10002356-1779021000-1779037200@visitmidhurst.com
SUMMARY:Fernhurst Revels
DESCRIPTION:Fernhurst Revels is an annual village fete that is held on the third Sunday of May each year\, during which the May Queen is crowned and the whole village comes together to enjoy a range of attractions and stalls. \n  \n 
URL:https://visitmidhurst.com/event/fernhurst-revels/
LOCATION:Fernhurst Recreation Ground\, Recreation Ground\, Fernhurst\, nr Haslemere\, West sussex\, GU27 3HY\, United Kingdom
CATEGORIES:Activities,Shopping
ATTACH;FMTTYPE=image/jpeg:https://visitmidhurst.com/content/uploads/2026/03/656204173_10164975803585439_604461115776470479_n.jpg
END:VEVENT
BEGIN:VEVENT
DTSTART;TZID=Europe/London:20260518T200000
DTEND;TZID=Europe/London:20260518T230000
DTSTAMP:20260424T063527
CREATED:20260415T183853Z
LAST-MODIFIED:20260415T193319Z
UID:10002999-1779134400-1779145200@visitmidhurst.com
SUMMARY:Snooker Tournament
DESCRIPTION:
URL:https://visitmidhurst.com/event/snooker-tournament/2026-05-18/
LOCATION:midhurst club\, 47a North Street\, Midhurst\, West sussex\, GU29 9DR\, United Kingdom
CATEGORIES:Activities
ATTACH;FMTTYPE=image/jpeg:https://visitmidhurst.com/content/uploads/2026/04/snooker.jpg
END:VEVENT
BEGIN:VEVENT
DTSTART;TZID=Europe/London:20260519T093000
DTEND;TZID=Europe/London:20260519T110000
DTSTAMP:20260424T063527
CREATED:20250312T113448Z
LAST-MODIFIED:20260112T192207Z
UID:10000627-1779183000-1779188400@visitmidhurst.com
SUMMARY:Active Antz by Everyone Active - Soft Play for Under 5's
DESCRIPTION:
URL:https://visitmidhurst.com/event/active-antz-by-everyone-active-soft-play-for-under-5s/2026-05-19/
LOCATION:The Grange Community and Leisure Centre\, GU29 9DH
CATEGORIES:Children
ATTACH;FMTTYPE=image/png:https://visitmidhurst.com/content/uploads/2025/03/Active-ants.png
END:VEVENT
BEGIN:VEVENT
DTSTART;TZID=Europe/London:20260519T164500
DTEND;TZID=Europe/London:20260519T180000
DTSTAMP:20260424T063527
CREATED:20260120T200055Z
LAST-MODIFIED:20260120T200113Z
UID:10001472-1779209100-1779213600@visitmidhurst.com
SUMMARY:South Downs Sing Squad: Community Choir
DESCRIPTION:A new Community Choir has just launched for all in years 3-8 who love to sing.\n\n\n\nCome along on Tuesday afternoons at 1645 to Midhurst Parish Church* to sing with the South Downs Sing Squad!— at Midhurst Parish Church.\n\n\nTerm Time Only
URL:https://visitmidhurst.com/event/south-downs-sing-squad-community-choir/2026-05-19/
LOCATION:Midhurst Parish Church\, Sheep Lane\, Midhurst\, West Sussex\, GU29 9NT\, United Kingdom
CATEGORIES:Activities,Children,Music
ATTACH;FMTTYPE=image/png:https://visitmidhurst.com/content/uploads/2026/01/20260120_193350000_iOS.png
END:VEVENT
BEGIN:VEVENT
DTSTART;TZID=Europe/London:20260519T200000
DTEND;TZID=Europe/London:20260519T230000
DTSTAMP:20260424T063527
CREATED:20260116T140626Z
LAST-MODIFIED:20260116T140853Z
UID:10001284-1779220800-1779231600@visitmidhurst.com
SUMMARY:Pub Quiz Night @ The Greyhound
DESCRIPTION:
URL:https://visitmidhurst.com/event/pub-quiz-night-the-greyhound/2026-05-19/
LOCATION:Greyhound Pub\, Cocking Causeway\, Midhurst\, West Sussex\, GU29 9QH
CATEGORIES:Activities
ATTACH;FMTTYPE=image/png:https://visitmidhurst.com/content/uploads/2026/01/Greyhound-2.png
ORGANIZER;CN="The Greyhound Pub":MAILTO:info@thegreyhoundpub.com
END:VEVENT
BEGIN:VEVENT
DTSTART;TZID=Europe/London:20260520T153000
DTEND;TZID=Europe/London:20260520T163000
DTSTAMP:20260424T063527
CREATED:20260117T150019Z
LAST-MODIFIED:20260117T150019Z
UID:10001360-1779291000-1779294600@visitmidhurst.com
SUMMARY:Construction Club @ Midhurst Library
DESCRIPTION:Little people with little bricks and big ideas. \nFree of charge\, drop in\, no booking required.  Age 4+ accompanied by an adult.
URL:https://visitmidhurst.com/event/construction-club-midhurst-library/2026-05-20/
LOCATION:Midhurst Library\, The Grange Leisure Centre\, Midhurst\, west Sussex\, GU29 9HD\, United Kingdom
CATEGORIES:Activities,Children
ATTACH;FMTTYPE=image/png:https://visitmidhurst.com/content/uploads/2026/01/construction-club.png
END:VEVENT
BEGIN:VEVENT
DTSTART;TZID=Europe/London:20260521T093000
DTEND;TZID=Europe/London:20260521T110000
DTSTAMP:20260424T063527
CREATED:20260331T165613Z
LAST-MODIFIED:20260331T165613Z
UID:10002579-1779355800-1779361200@visitmidhurst.com
SUMMARY:Hunston to Chichester and Back Canal Walk - Approx. 3 Miles 5km
DESCRIPTION:
URL:https://visitmidhurst.com/event/hunston-to-chichester-and-back-canal-walk-approx-3-miles-5km-2/
LOCATION:West sussex
CATEGORIES:Activities,Sport
ATTACH;FMTTYPE=image/jpeg:https://visitmidhurst.com/content/uploads/2026/01/Coats-On.jpg
END:VEVENT
BEGIN:VEVENT
DTSTART;TZID=Europe/London:20260521T110000
DTEND;TZID=Europe/London:20260521T123000
DTSTAMP:20260424T063527
CREATED:20260331T165648Z
LAST-MODIFIED:20260331T165648Z
UID:10002580-1779361200-1779366600@visitmidhurst.com
SUMMARY:Hunston to Birdham & Back Canal Walk - Approx. 3.25 Miles 5.25km
DESCRIPTION:
URL:https://visitmidhurst.com/event/hunston-to-birdham-back-canal-walk-approx-3-25-miles-5-25km-2/
LOCATION:West sussex
CATEGORIES:Activities,Sport
ATTACH;FMTTYPE=image/jpeg:https://visitmidhurst.com/content/uploads/2026/01/Coats-On.jpg
END:VEVENT
BEGIN:VEVENT
DTSTART;TZID=Europe/London:20260521T111500
DTEND;TZID=Europe/London:20260521T234500
DTSTAMP:20260424T063527
CREATED:20260117T144543Z
LAST-MODIFIED:20260117T144845Z
UID:10001309-1779362100-1779407100@visitmidhurst.com
SUMMARY:Rhyme Time @ Midhurst Library
DESCRIPTION:Free\, no booking required.  A drop-in\, interactive\, stories and songs session\, for babies and toddlers under 5 years of age with an accompanying adult.  Held in the Midhurst library within the Grange Community Centre.
URL:https://visitmidhurst.com/event/rhyme-time-midhurst-library/2026-05-21/
LOCATION:Midhurst Library\, The Grange Leisure Centre\, Midhurst\, west Sussex\, GU29 9HD\, United Kingdom
CATEGORIES:Activities,Children,Music
ATTACH;FMTTYPE=image/png:https://visitmidhurst.com/content/uploads/2026/01/rhyme-time.png
END:VEVENT
BEGIN:VEVENT
DTSTART;TZID=Europe/London:20260521T113000
DTEND;TZID=Europe/London:20260521T150000
DTSTAMP:20260424T063527
CREATED:20260108T195455Z
LAST-MODIFIED:20260108T195455Z
UID:10001121-1779363000-1779375600@visitmidhurst.com
SUMMARY:Afternoon Tea in The Walled Garden @ Cowdray
DESCRIPTION:Enjoy a delicious afternoon tea this May at the Walled Garden at Cowdray\, nestled in the heart of Sussex. \nPrepared by our team of pastry chefs\, the Walled Garden Afternoon Tea follows the traditional combination of sweet and savoury\, using locally sourced ingredients\, reflective of the season and local Sussex landscape. \nThe Walled Garden is a historic and charming setting\, sat beside the iconic Cowdray Ruins—once graced by Queen Elizabeth I and Henry VIII. It’s the perfect spot to enjoy a sumptuous afternoon tea in the heart of the English countryside. \n  \nOur SAMPLE Walled Garden Afternoon Tea menu:\nSandwiches and mini rolls\n\nEgg mayonnaise and chive mini roll\nCoronation Chicken mini roll\nSmoked Salmon and Lemon cream cheese finger sandwich\nCucumber ribbon finger sandwich\n\nSweet treats\n\nMini fruit scone with clotted cream and strawberry jam\nMacarons\nLavender shortbread\nRaspberry pavlova\nDark chocolate and pistachio brownie\nRose petal and white chocolate Madeleines
URL:https://visitmidhurst.com/event/afternoon-tea-in-the-walled-garden-cowdray-4/
LOCATION:The Walled Garden\, Midhurst\, GU29 9AL
ATTACH;FMTTYPE=image/jpeg:https://visitmidhurst.com/content/uploads/2026/01/Cowdray.jpg
END:VEVENT
BEGIN:VEVENT
DTSTART;TZID=Europe/London:20260521T193000
DTEND;TZID=Europe/London:20260521T210000
DTSTAMP:20260424T063527
CREATED:20260105T140804Z
LAST-MODIFIED:20260105T140804Z
UID:10001058-1779391800-1779397200@visitmidhurst.com
SUMMARY:Nigel Goodenough - Bellringing: Midhurst Society Talk
DESCRIPTION:21st May – Nigel Goodenough – Bellringing \nNigel is a leading bell ringer at Easebourne Church and will talk about bell ringing in Midhurst and Easebourne. He will discuss its history and the bells in our local churches. \nSouth Downs Memorial Hall\, North Street\, Midhurst\, and start at 7.30pm.
URL:https://visitmidhurst.com/event/nigel-goodenough-bellringing-midhurst-society-talk/
LOCATION:Memorial Hall\, Midhurst
ATTACH;FMTTYPE=image/jpeg:https://visitmidhurst.com/content/uploads/2026/01/Midhust-Soc.jpg
END:VEVENT
BEGIN:VEVENT
DTSTART;VALUE=DATE:20260522
DTEND;VALUE=DATE:20260524
DTSTAMP:20260424T063527
CREATED:20260108T220159Z
LAST-MODIFIED:20260108T220159Z
UID:10001147-1779408000-1779580799@visitmidhurst.com
SUMMARY:Goodwood Racecourse: May Festival
DESCRIPTION:Two thrilling days of competitive horseracing are headlined by three valuable listed races. Whether it be a Classic contender or Group 1 campaigner\, a host of high-class horses has started the season at the May Festival.
URL:https://visitmidhurst.com/event/goodwood-racecourse-may-festival/
LOCATION:Goodwood Racecourse\, Selhurstpark Rd\, Chichester\, West Sussex\, PO18 0PS\, United Kingdom
CATEGORIES:Sport
ATTACH;FMTTYPE=image/png:https://visitmidhurst.com/content/uploads/2026/01/May-Festival.png
ORGANIZER;CN="Goodwood Racecourse":MAILTO:ticket.office@goodwood.com
END:VEVENT
BEGIN:VEVENT
DTSTART;TZID=Europe/London:20260522T093000
DTEND;TZID=Europe/London:20260522T110000
DTSTAMP:20260424T063527
CREATED:20250312T113448Z
LAST-MODIFIED:20260112T192207Z
UID:10000628-1779442200-1779447600@visitmidhurst.com
SUMMARY:Active Antz by Everyone Active - Soft Play for Under 5's
DESCRIPTION:
URL:https://visitmidhurst.com/event/active-antz-by-everyone-active-soft-play-for-under-5s/2026-05-22/
LOCATION:The Grange Community and Leisure Centre\, GU29 9DH
CATEGORIES:Children
ATTACH;FMTTYPE=image/png:https://visitmidhurst.com/content/uploads/2025/03/Active-ants.png
END:VEVENT
BEGIN:VEVENT
DTSTART;TZID=Europe/London:20260523T103000
DTEND;TZID=Europe/London:20260523T130000
DTSTAMP:20260424T063527
CREATED:20260108T195708Z
LAST-MODIFIED:20260108T195708Z
UID:10001122-1779532200-1779541200@visitmidhurst.com
SUMMARY:Family Foraging at Cowdray
DESCRIPTION:Join George in this fun and immersive tour of the Cowdray Estate. \nKids of all ages are encouraged to interact with and learn a bunch of brilliant wild foods\, medicines and their histories. Teach your family how to survive stings with plant plasters and herbs to heal cuts and grazes. George joyfully weaves a native through the hedgerows and fields bringing to life to the common species that make up our gardens and walks. Guests get to see how we can safely delve into this world with curiosity\, care and caution to keep us and the environment happy and healthy. \nWalks will be circular\, beginning and ending at Cowdray Farm Shop Cafe. \nPlease wear footwear that is suitable for undulating terrain. \n\nMeet George\, Cowdray’s Forager:\nGeorge has been foraging and using wild foods for some years\, supplying the freshest foraged wild edibles to some of the country’s top restaurants\, chefs and food establishments. \nAfter years of being immersed in the ‘wild’ himself\, George now focuses on encouraging others to appreciate the significance of our native countryside\, and how we can enjoy and protect it for future generations. \nOver his years of foraging George has accrued an in-depth knowledge of our countryside\, its diverse habitats and the variety of plants and fungi each contains. He has covered the length and breadth of the country from the Scottish Highlands to the moors and coasts of Cornwall\, in search of new native edibles as well as sustainable sources to pick them. Working closely with chefs consulting on what\, when and how to use each ingredient to best showcase them has led George to be featured on programmes like BBC’s Saturday Kitchen\, following the journey from the forests and fields to fork. George now hopes to inspire you on your own adventure of discovery.
URL:https://visitmidhurst.com/event/family-foraging-at-cowdray/
LOCATION:Cowdray Cafe\, Easebourne\, West Sussex\, GU29 0AJ\, United Kingdom
CATEGORIES:Children
ATTACH;FMTTYPE=image/jpeg:https://visitmidhurst.com/content/uploads/2026/01/Cowdray.jpg
END:VEVENT
BEGIN:VEVENT
DTSTART;TZID=Europe/London:20260523T110000
DTEND;TZID=Europe/London:20260523T121500
DTSTAMP:20260424T063527
CREATED:20260415T182510Z
LAST-MODIFIED:20260415T182510Z
UID:10002723-1779534000-1779538500@visitmidhurst.com
SUMMARY:War Graves Week
DESCRIPTION:MEETING POINT is at the cemetery entrance. \nMidhurst Cemetery has 11 Commonwealth burials and 5 civilian burials from World War 1 and World War 2\, scattered throughout the churchyard including J C Garland\, one of four brothers killed serving in the RAF. \nThe tour lasts approx. 75 mins and covers about 500 metres on paths and grass with uneven ground. \nThere is parking available nearby. There are no facilities on site\, so please bring water if required. \nPlease come dressed for the weather and wear suitable footwear. \nOnly assistant dogs are allowed in the cemetery. \nPlease note there can be last minute cancellations. This can be due to various reasons including illness\, site issues and weather. We will email you as soon as we can\, but this could include the morning of the tour\, so please check your emails prior to leaving for the tour. \nThe Commonwealth War Graves Foundation (CWGF) aims to actively engage all communities with the work of the CWGC by telling the inspiring stories through education and outreach projects. \nThe CWGF is an independent charity registered with the Charity Commission of England and Wales (1171947) and Scotland (SC051982).
URL:https://visitmidhurst.com/event/war-graves-week/
LOCATION:Midhurst Cemetery\, Carron Lane\, Midhurst\, West sussex\, GU29 9LF\, United Kingdom
CATEGORIES:Activities
ATTACH;FMTTYPE=image/jpeg:https://visitmidhurst.com/content/uploads/2026/04/war-graves.jpg
END:VEVENT
BEGIN:VEVENT
DTSTART;TZID=Europe/London:20260523T200000
DTEND;TZID=Europe/London:20260523T230000
DTSTAMP:20260424T063527
CREATED:20260408T181508Z
LAST-MODIFIED:20260408T181701Z
UID:10002598-1779566400-1779577200@visitmidhurst.com
SUMMARY:Joe Dunsford Plays @ The Swan
DESCRIPTION:
URL:https://visitmidhurst.com/event/no-respect-play-the-swan/
LOCATION:The Swan Inn\, Midhurst\, GU29 9PB
CATEGORIES:Entertainment,Music
ATTACH;FMTTYPE=image/jpeg:https://visitmidhurst.com/content/uploads/2026/03/Jo.jpg
END:VEVENT
BEGIN:VEVENT
DTSTART;TZID=Europe/London:20260523T203000
DTEND;TZID=Europe/London:20260523T230000
DTSTAMP:20260424T063527
CREATED:20260105T145838Z
LAST-MODIFIED:20260105T145838Z
UID:10001066-1779568200-1779577200@visitmidhurst.com
SUMMARY:Joe Dunsford Play the Swan
DESCRIPTION:
URL:https://visitmidhurst.com/event/joe-dunsford-play-the-swan/
LOCATION:The Swan Inn\, Midhurst\, GU29 9PB
CATEGORIES:Music
ATTACH;FMTTYPE=image/png:https://visitmidhurst.com/content/uploads/2026/01/Swan-Inn.png
END:VEVENT
BEGIN:VEVENT
DTSTART;TZID=Europe/London:20260524T100000
DTEND;TZID=Europe/London:20260524T130000
DTSTAMP:20260424T063527
CREATED:20260105T160815Z
LAST-MODIFIED:20260105T160815Z
UID:10001082-1779616800-1779627600@visitmidhurst.com
SUMMARY:Indoor Car Boot Sale @ The Grange
DESCRIPTION:
URL:https://visitmidhurst.com/event/indoor-car-boot-sale-the-grange-4/
LOCATION:The Grange Community and Leisure Centre\, GU29 9DH
CATEGORIES:Shopping
ATTACH;FMTTYPE=image/png:https://visitmidhurst.com/content/uploads/2026/01/Car-Boot-Sale.png
END:VEVENT
BEGIN:VEVENT
DTSTART;TZID=Europe/London:20260524T190000
DTEND;TZID=Europe/London:20260524T210000
DTSTAMP:20260424T063527
CREATED:20260225T232101Z
LAST-MODIFIED:20260227T230718Z
UID:10002134-1779649200-1779656400@visitmidhurst.com
SUMMARY:Blues Night @ The Three Moles
DESCRIPTION:The Three Moles\, Selham\, GU28 0PN. All events are free entry. \nNo tickets or bookings required. No under 12s at any time. No under 18s past 9pm.
URL:https://visitmidhurst.com/event/absolutely-dragulous-show-2/2026-05-24/
LOCATION:Three Moles\, Selham\, West Sussex\, GU28 0PN\, United Kingdom
CATEGORIES:Entertainment,Music
ATTACH;FMTTYPE=image/jpeg:https://visitmidhurst.com/content/uploads/2026/02/Blues-Jam-Psychadelic-Hearts-Club.jpg
ORGANIZER;CN="The Three Moles":MAILTO:contact@thethreemoles.co.uk
END:VEVENT
BEGIN:VEVENT
DTSTART;TZID=Europe/London:20260525T200000
DTEND;TZID=Europe/London:20260525T230000
DTSTAMP:20260424T063527
CREATED:20260415T183853Z
LAST-MODIFIED:20260415T193319Z
UID:10003000-1779739200-1779750000@visitmidhurst.com
SUMMARY:Snooker Tournament
DESCRIPTION:
URL:https://visitmidhurst.com/event/snooker-tournament/2026-05-25/
LOCATION:midhurst club\, 47a North Street\, Midhurst\, West sussex\, GU29 9DR\, United Kingdom
CATEGORIES:Activities
ATTACH;FMTTYPE=image/jpeg:https://visitmidhurst.com/content/uploads/2026/04/snooker.jpg
END:VEVENT
BEGIN:VEVENT
DTSTART;VALUE=DATE:20260526
DTEND;VALUE=DATE:20260527
DTSTAMP:20260424T063527
CREATED:20260331T165823Z
LAST-MODIFIED:20260331T165823Z
UID:10002581-1779753600-1779839999@visitmidhurst.com
SUMMARY:TUESDAY 26TH MAY ROUTE TO BE CONFIRMED
DESCRIPTION:
URL:https://visitmidhurst.com/event/tuesday-26th-may-route-to-be-confirmed/
LOCATION:West sussex
CATEGORIES:Activities,Sport
ATTACH;FMTTYPE=image/jpeg:https://visitmidhurst.com/content/uploads/2026/01/Coats-On.jpg
END:VEVENT
BEGIN:VEVENT
DTSTART;TZID=Europe/London:20260526T093000
DTEND;TZID=Europe/London:20260526T110000
DTSTAMP:20260424T063527
CREATED:20250312T113448Z
LAST-MODIFIED:20260112T192207Z
UID:10000629-1779787800-1779793200@visitmidhurst.com
SUMMARY:Active Antz by Everyone Active - Soft Play for Under 5's
DESCRIPTION:
URL:https://visitmidhurst.com/event/active-antz-by-everyone-active-soft-play-for-under-5s/2026-05-26/
LOCATION:The Grange Community and Leisure Centre\, GU29 9DH
CATEGORIES:Children
ATTACH;FMTTYPE=image/png:https://visitmidhurst.com/content/uploads/2025/03/Active-ants.png
END:VEVENT
BEGIN:VEVENT
DTSTART;TZID=Europe/London:20260526T164500
DTEND;TZID=Europe/London:20260526T180000
DTSTAMP:20260424T063527
CREATED:20260120T200055Z
LAST-MODIFIED:20260120T200113Z
UID:10001473-1779813900-1779818400@visitmidhurst.com
SUMMARY:South Downs Sing Squad: Community Choir
DESCRIPTION:A new Community Choir has just launched for all in years 3-8 who love to sing.\n\n\n\nCome along on Tuesday afternoons at 1645 to Midhurst Parish Church* to sing with the South Downs Sing Squad!— at Midhurst Parish Church.\n\n\nTerm Time Only
URL:https://visitmidhurst.com/event/south-downs-sing-squad-community-choir/2026-05-26/
LOCATION:Midhurst Parish Church\, Sheep Lane\, Midhurst\, West Sussex\, GU29 9NT\, United Kingdom
CATEGORIES:Activities,Children,Music
ATTACH;FMTTYPE=image/png:https://visitmidhurst.com/content/uploads/2026/01/20260120_193350000_iOS.png
END:VEVENT
BEGIN:VEVENT
DTSTART;TZID=Europe/London:20260527T153000
DTEND;TZID=Europe/London:20260527T163000
DTSTAMP:20260424T063527
CREATED:20260117T150019Z
LAST-MODIFIED:20260117T150019Z
UID:10001361-1779895800-1779899400@visitmidhurst.com
SUMMARY:Construction Club @ Midhurst Library
DESCRIPTION:Little people with little bricks and big ideas. \nFree of charge\, drop in\, no booking required.  Age 4+ accompanied by an adult.
URL:https://visitmidhurst.com/event/construction-club-midhurst-library/2026-05-27/
LOCATION:Midhurst Library\, The Grange Leisure Centre\, Midhurst\, west Sussex\, GU29 9HD\, United Kingdom
CATEGORIES:Activities,Children
ATTACH;FMTTYPE=image/png:https://visitmidhurst.com/content/uploads/2026/01/construction-club.png
END:VEVENT
BEGIN:VEVENT
DTSTART;TZID=Europe/London:20260527T200000
DTEND;TZID=Europe/London:20260527T230000
DTSTAMP:20260424T063527
CREATED:20260304T192321Z
LAST-MODIFIED:20260415T185936Z
UID:10002264-1779912000-1779922800@visitmidhurst.com
SUMMARY:Open Mike Night @ Faustino's
DESCRIPTION:
URL:https://visitmidhurst.com/event/open-mike-night-faustinos-2/2026-05-27/
LOCATION:Faustino’s\, 2a North Street\, Midhurst\, West Sussex\, GU29 9DJ\, United Kingdom
CATEGORIES:Activities
ATTACH;FMTTYPE=image/png:https://visitmidhurst.com/content/uploads/2026/03/open-Mike.png
END:VEVENT
BEGIN:VEVENT
DTSTART;TZID=Europe/London:20260528T111500
DTEND;TZID=Europe/London:20260528T234500
DTSTAMP:20260424T063527
CREATED:20260117T144543Z
LAST-MODIFIED:20260117T144845Z
UID:10001310-1779966900-1780011900@visitmidhurst.com
SUMMARY:Rhyme Time @ Midhurst Library
DESCRIPTION:Free\, no booking required.  A drop-in\, interactive\, stories and songs session\, for babies and toddlers under 5 years of age with an accompanying adult.  Held in the Midhurst library within the Grange Community Centre.
URL:https://visitmidhurst.com/event/rhyme-time-midhurst-library/2026-05-28/
LOCATION:Midhurst Library\, The Grange Leisure Centre\, Midhurst\, west Sussex\, GU29 9HD\, United Kingdom
CATEGORIES:Activities,Children,Music
ATTACH;FMTTYPE=image/png:https://visitmidhurst.com/content/uploads/2026/01/rhyme-time.png
END:VEVENT
END:VCALENDAR