BEGIN:VCALENDAR
VERSION:2.0
PRODID:-//Visit Midhurst - ECPv6.15.0.1//NONSGML v1.0//EN
CALSCALE:GREGORIAN
METHOD:PUBLISH
X-WR-CALNAME:Visit Midhurst
X-ORIGINAL-URL:https://visitmidhurst.com
X-WR-CALDESC:Events for Visit Midhurst
REFRESH-INTERVAL;VALUE=DURATION:PT1H
X-Robots-Tag:noindex
X-PUBLISHED-TTL:PT1H
BEGIN:VTIMEZONE
TZID:Europe/London
BEGIN:DAYLIGHT
TZOFFSETFROM:+0000
TZOFFSETTO:+0100
TZNAME:BST
DTSTART:20260329T010000
END:DAYLIGHT
BEGIN:STANDARD
TZOFFSETFROM:+0100
TZOFFSETTO:+0000
TZNAME:GMT
DTSTART:20261025T010000
END:STANDARD
END:VTIMEZONE
BEGIN:VEVENT
DTSTART;TZID=Europe/London:20260505T164500
DTEND;TZID=Europe/London:20260505T180000
DTSTAMP:20260424T032510
CREATED:20260120T200055Z
LAST-MODIFIED:20260120T200113Z
UID:10001470-1777999500-1778004000@visitmidhurst.com
SUMMARY:South Downs Sing Squad: Community Choir
DESCRIPTION:A new Community Choir has just launched for all in years 3-8 who love to sing.\n\n\n\nCome along on Tuesday afternoons at 1645 to Midhurst Parish Church* to sing with the South Downs Sing Squad!— at Midhurst Parish Church.\n\n\nTerm Time Only
URL:https://visitmidhurst.com/event/south-downs-sing-squad-community-choir/2026-05-05/
LOCATION:Midhurst Parish Church\, Sheep Lane\, Midhurst\, West Sussex\, GU29 9NT\, United Kingdom
CATEGORIES:Activities,Children,Music
ATTACH;FMTTYPE=image/png:https://visitmidhurst.com/content/uploads/2026/01/20260120_193350000_iOS.png
END:VEVENT
BEGIN:VEVENT
DTSTART;TZID=Europe/London:20260505T180000
DTEND;TZID=Europe/London:20260505T221500
DTSTAMP:20260424T032510
CREATED:20260112T205612Z
LAST-MODIFIED:20260112T205612Z
UID:10001265-1778004000-1778019300@visitmidhurst.com
SUMMARY:Eugene Onegin (The Metropolitan Opera) ROH Live@ The Leconfield Hall
DESCRIPTION:Eugene Onegin (The Metropolitan Opera) ROH Live \nPart of our 2025/26 Live Arts Series\, filmed live in front of an audience at the Royal Opera House\, streamed to our cinema screen and in full surround sound. \nAsmik Grigorian and Igor Golovatenko star in The Metropolitan Opera’s evocative production of Tchaikovsky’s romantic opera. \nTatyana spends her days lost in the world of romantic books\, while to her carefree sister Olga\, love is just a game. When Olga’s admirer\, the poet Lensky\, arrives at their country estate with the brooding Eugene Onegin\, sparks fly. Tatyana immediately falls for Onegin and declares her love for him in a letter. Onegin rejects her\, telling her that he is not ready for marriage. Heartbroken\, Tatyana is forced to put on a brave face at her own birthday party\, and matters worsen when Onegin begins flirting with Olga. Lensky is outraged and challenges Onegin to a duel\, with deadly consequences. \nYears later\, Onegin and Tatyana meet again at a ball in St Petersburg. Haunted by grief and regret\, Onegin realises he has made a terrible mistake. But does Tatyana still feel the same? \nMusic: Pyotr Il’yich Tchaikovsky \nDirector: Ted Huffman \nConductor: Henrik Nánási \nLanguage: Sung in Russian with English subtitles. \nEvent Details \nTue 5 May\nDoors Open at 5.15PM\nPerformance starts at 6PM \nRunning time: The screening lasts approximately 3 hours and 45 minutes\, including two intervals \nTICKETS\nAdults: £20\nUnder 16’s: £10 \nDoors open 45 minutes before start time. Please arrive at least 15 mins before the performance begins. \nAccessibility: Hearing Loop? YES Audio Description? NO \nLocation: Leconfield Hall\, Market Square\, Petworth\, GU28 0AH
URL:https://visitmidhurst.com/event/eugene-onegin-the-metropolitan-opera-roh-live-the-leconfield-hall/
LOCATION:Leconfield Hall\, Petworth.\, Market Square\, Petworth\, West Sussex\, GU28 0AN\, United Kingdom
CATEGORIES:Music
ATTACH;FMTTYPE=image/png:https://visitmidhurst.com/content/uploads/2026/01/Leconfiled.png
END:VEVENT
BEGIN:VEVENT
DTSTART;TZID=Europe/London:20260505T180000
DTEND;TZID=Europe/London:20260505T223000
DTSTAMP:20260424T032510
CREATED:20260325T142541Z
LAST-MODIFIED:20260325T142541Z
UID:10002352-1778004000-1778020200@visitmidhurst.com
SUMMARY:Eugene Onegin (The Metropolitan Opera) ROH Live
DESCRIPTION:
URL:https://visitmidhurst.com/event/eugene-onegin-the-metropolitan-opera-roh-live/
LOCATION:Leconfield Hall\, Petworth.\, Market Square\, Petworth\, West Sussex\, GU28 0AN\, United Kingdom
CATEGORIES:Entertainment,Music
ATTACH;FMTTYPE=image/png:https://visitmidhurst.com/content/uploads/2026/01/Leconfiled.png
END:VEVENT
BEGIN:VEVENT
DTSTART;TZID=Europe/London:20260506T080000
DTEND;TZID=Europe/London:20260506T170000
DTSTAMP:20260424T032510
CREATED:20260122T185902Z
LAST-MODIFIED:20260122T185902Z
UID:10001725-1778054400-1778086800@visitmidhurst.com
SUMMARY:Langham's Brewer For a Day Experience
DESCRIPTION:
URL:https://visitmidhurst.com/event/langhams-brewer-for-a-day-experience/2026-05-06/
LOCATION:langhams Brewer\, The Granary\, Langham Lane\,\, Lodsworth\, west sussex\, GU28 9BU\, United Kingdom
CATEGORIES:Activities
ATTACH;FMTTYPE=image/png:https://visitmidhurst.com/content/uploads/2026/01/Langhams.png
END:VEVENT
BEGIN:VEVENT
DTSTART;TZID=Europe/London:20260506T153000
DTEND;TZID=Europe/London:20260506T163000
DTSTAMP:20260424T032510
CREATED:20260117T150019Z
LAST-MODIFIED:20260117T150019Z
UID:10001358-1778081400-1778085000@visitmidhurst.com
SUMMARY:Construction Club @ Midhurst Library
DESCRIPTION:Little people with little bricks and big ideas. \nFree of charge\, drop in\, no booking required.  Age 4+ accompanied by an adult.
URL:https://visitmidhurst.com/event/construction-club-midhurst-library/2026-05-06/
LOCATION:Midhurst Library\, The Grange Leisure Centre\, Midhurst\, west Sussex\, GU29 9HD\, United Kingdom
CATEGORIES:Activities,Children
ATTACH;FMTTYPE=image/png:https://visitmidhurst.com/content/uploads/2026/01/construction-club.png
END:VEVENT
BEGIN:VEVENT
DTSTART;TZID=Europe/London:20260507T111500
DTEND;TZID=Europe/London:20260507T234500
DTSTAMP:20260424T032510
CREATED:20260117T144543Z
LAST-MODIFIED:20260117T144845Z
UID:10001307-1778152500-1778197500@visitmidhurst.com
SUMMARY:Rhyme Time @ Midhurst Library
DESCRIPTION:Free\, no booking required.  A drop-in\, interactive\, stories and songs session\, for babies and toddlers under 5 years of age with an accompanying adult.  Held in the Midhurst library within the Grange Community Centre.
URL:https://visitmidhurst.com/event/rhyme-time-midhurst-library/2026-05-07/
LOCATION:Midhurst Library\, The Grange Leisure Centre\, Midhurst\, west Sussex\, GU29 9HD\, United Kingdom
CATEGORIES:Activities,Children,Music
ATTACH;FMTTYPE=image/png:https://visitmidhurst.com/content/uploads/2026/01/rhyme-time.png
END:VEVENT
BEGIN:VEVENT
DTSTART;VALUE=DATE:20260508
DTEND;VALUE=DATE:20260511
DTSTAMP:20260424T032510
CREATED:20260325T143823Z
LAST-MODIFIED:20260325T143823Z
UID:10002354-1778198400-1778457599@visitmidhurst.com
SUMMARY:Sussex Art Fair @ Goodwood
DESCRIPTION:Opening hours and ticket prices: \nFriday 8th (Opening Night): 5.30pm – 8.30pm\n£9 Early Bird | £16 on the door\nSaturday 9th & Sunday 10th: 10am – 5pm\n£5 Early Bird | £8 on the door \nVIEW 2025 BROCHURE – and see who exhibited last May \nSEE PHOTOS – from all our previous events
URL:https://visitmidhurst.com/event/sussex-art-fair-goodwood/
LOCATION:West sussex
CATEGORIES:Activities,Entertainment,Shopping
ATTACH;FMTTYPE=image/jpeg:https://visitmidhurst.com/content/uploads/2026/03/Sussex-Art-Fair-Logo.jpg
END:VEVENT
BEGIN:VEVENT
DTSTART;VALUE=DATE:20260508
DTEND;VALUE=DATE:20260511
DTSTAMP:20260424T032510
CREATED:20260331T190702Z
LAST-MODIFIED:20260331T190702Z
UID:10002590-1778198400-1778457599@visitmidhurst.com
SUMMARY:Sussex Art Fair
DESCRIPTION:
URL:https://visitmidhurst.com/event/sussex-art-fair/
LOCATION:Goodwood Racecourse\, Selhurstpark Rd\, Chichester\, West Sussex\, PO18 0PS\, United Kingdom
ATTACH;FMTTYPE=image/png:https://visitmidhurst.com/content/uploads/2026/03/Sussex-Art-Fair-2048x796-1.png
END:VEVENT
BEGIN:VEVENT
DTSTART;TZID=Europe/London:20260508T093000
DTEND;TZID=Europe/London:20260508T110000
DTSTAMP:20260424T032510
CREATED:20250312T113448Z
LAST-MODIFIED:20260112T192207Z
UID:10000624-1778232600-1778238000@visitmidhurst.com
SUMMARY:Active Antz by Everyone Active - Soft Play for Under 5's
DESCRIPTION:
URL:https://visitmidhurst.com/event/active-antz-by-everyone-active-soft-play-for-under-5s/2026-05-08/
LOCATION:The Grange Community and Leisure Centre\, GU29 9DH
CATEGORIES:Children
ATTACH;FMTTYPE=image/png:https://visitmidhurst.com/content/uploads/2025/03/Active-ants.png
END:VEVENT
BEGIN:VEVENT
DTSTART;TZID=Europe/London:20260509T100000
DTEND;TZID=Europe/London:20260509T110000
DTSTAMP:20260424T032510
CREATED:20260415T190353Z
LAST-MODIFIED:20260415T190353Z
UID:10002992-1778320800-1778324400@visitmidhurst.com
SUMMARY:5km Guided Run
DESCRIPTION:
URL:https://visitmidhurst.com/event/5km-guided-run/
LOCATION:Benbow Pond\, Benbow Pond\, Nr Midhurst\, West Sussex\, GU28 0AZ\, United Kingdom
CATEGORIES:Activities,Sport
ATTACH;FMTTYPE=image/png:https://visitmidhurst.com/content/uploads/2026/01/image-6.png
END:VEVENT
BEGIN:VEVENT
DTSTART;TZID=Europe/London:20260509T200000
DTEND;TZID=Europe/London:20260509T230000
DTSTAMP:20260424T032510
CREATED:20260408T181904Z
LAST-MODIFIED:20260408T181904Z
UID:10002599-1778356800-1778367600@visitmidhurst.com
SUMMARY:No Respect play @ The Swan
DESCRIPTION:
URL:https://visitmidhurst.com/event/no-respect-play-the-swan-2/
LOCATION:The Swan Inn\, Midhurst\, GU29 9PB
CATEGORIES:Entertainment,Music
ATTACH;FMTTYPE=image/png:https://visitmidhurst.com/content/uploads/2026/01/Swan-Inn.png
END:VEVENT
BEGIN:VEVENT
DTSTART;TZID=Europe/London:20260510T100000
DTEND;TZID=Europe/London:20260510T160000
DTSTAMP:20260424T032510
CREATED:20260105T154233Z
LAST-MODIFIED:20260105T154728Z
UID:10001072-1778407200-1778428800@visitmidhurst.com
SUMMARY:Antiques Fair @ The Grange
DESCRIPTION:
URL:https://visitmidhurst.com/event/antiques-fair-the-grange-3/
LOCATION:The Grange Community and Leisure Centre\, GU29 9DH
CATEGORIES:Shopping
ATTACH;FMTTYPE=image/png:https://visitmidhurst.com/content/uploads/2026/01/Antiques.png
END:VEVENT
BEGIN:VEVENT
DTSTART;TZID=Europe/London:20260510T190000
DTEND;TZID=Europe/London:20260510T220000
DTSTAMP:20260424T032510
CREATED:20260227T235950Z
LAST-MODIFIED:20260227T235950Z
UID:10002194-1778439600-1778450400@visitmidhurst.com
SUMMARY:Folk Music Night @ Three Moles
DESCRIPTION:
URL:https://visitmidhurst.com/event/folk-music-night-three-moles/2026-05-10/
LOCATION:Three Moles\, Selham\, West Sussex\, GU28 0PN\, United Kingdom
CATEGORIES:Music
ATTACH;FMTTYPE=image/png:https://visitmidhurst.com/content/uploads/2026/02/Folk.png
ORGANIZER;CN="The Three Moles":MAILTO:contact@thethreemoles.co.uk
END:VEVENT
BEGIN:VEVENT
DTSTART;TZID=Europe/London:20260510T190000
DTEND;TZID=Europe/London:20260510T223000
DTSTAMP:20260424T032510
CREATED:20260408T174556Z
LAST-MODIFIED:20260408T174556Z
UID:10002596-1778439600-1778452200@visitmidhurst.com
SUMMARY:Charity Quiz Night @ The Bricks
DESCRIPTION:
URL:https://visitmidhurst.com/event/charity-quiz-night-the-bricks/
LOCATION:The Bricklayers Arms\, Wool Lane\, Midhurst\, United Kingdom
CATEGORIES:Entertainment,Music
ATTACH;FMTTYPE=image/jpeg:https://visitmidhurst.com/content/uploads/2026/04/bricks-quiz.jpg
END:VEVENT
BEGIN:VEVENT
DTSTART;TZID=Europe/London:20260511T200000
DTEND;TZID=Europe/London:20260511T230000
DTSTAMP:20260424T032510
CREATED:20260415T183853Z
LAST-MODIFIED:20260415T193319Z
UID:10002998-1778529600-1778540400@visitmidhurst.com
SUMMARY:Snooker Tournament
DESCRIPTION:
URL:https://visitmidhurst.com/event/snooker-tournament/2026-05-11/
LOCATION:midhurst club\, 47a North Street\, Midhurst\, West sussex\, GU29 9DR\, United Kingdom
CATEGORIES:Activities
ATTACH;FMTTYPE=image/jpeg:https://visitmidhurst.com/content/uploads/2026/04/snooker.jpg
END:VEVENT
BEGIN:VEVENT
DTSTART;TZID=Europe/London:20260512T093000
DTEND;TZID=Europe/London:20260512T110000
DTSTAMP:20260424T032510
CREATED:20250312T113448Z
LAST-MODIFIED:20260112T192207Z
UID:10000625-1778578200-1778583600@visitmidhurst.com
SUMMARY:Active Antz by Everyone Active - Soft Play for Under 5's
DESCRIPTION:
URL:https://visitmidhurst.com/event/active-antz-by-everyone-active-soft-play-for-under-5s/2026-05-12/
LOCATION:The Grange Community and Leisure Centre\, GU29 9DH
CATEGORIES:Children
ATTACH;FMTTYPE=image/png:https://visitmidhurst.com/content/uploads/2025/03/Active-ants.png
END:VEVENT
BEGIN:VEVENT
DTSTART;TZID=Europe/London:20260512T164500
DTEND;TZID=Europe/London:20260512T180000
DTSTAMP:20260424T032510
CREATED:20260120T200055Z
LAST-MODIFIED:20260120T200113Z
UID:10001471-1778604300-1778608800@visitmidhurst.com
SUMMARY:South Downs Sing Squad: Community Choir
DESCRIPTION:A new Community Choir has just launched for all in years 3-8 who love to sing.\n\n\n\nCome along on Tuesday afternoons at 1645 to Midhurst Parish Church* to sing with the South Downs Sing Squad!— at Midhurst Parish Church.\n\n\nTerm Time Only
URL:https://visitmidhurst.com/event/south-downs-sing-squad-community-choir/2026-05-12/
LOCATION:Midhurst Parish Church\, Sheep Lane\, Midhurst\, West Sussex\, GU29 9NT\, United Kingdom
CATEGORIES:Activities,Children,Music
ATTACH;FMTTYPE=image/png:https://visitmidhurst.com/content/uploads/2026/01/20260120_193350000_iOS.png
END:VEVENT
BEGIN:VEVENT
DTSTART;TZID=Europe/London:20260513T093000
DTEND;TZID=Europe/London:20260513T110000
DTSTAMP:20260424T032510
CREATED:20260331T165447Z
LAST-MODIFIED:20260331T165447Z
UID:10002577-1778664600-1778670000@visitmidhurst.com
SUMMARY:Heyshott & The Roughs Circular Approx. 3 Miles - 5km
DESCRIPTION:
URL:https://visitmidhurst.com/event/heyshott-the-roughs-circular-approx-3-miles-5km/
LOCATION:West sussex
CATEGORIES:Activities,Sport
ATTACH;FMTTYPE=image/jpeg:https://visitmidhurst.com/content/uploads/2026/01/Coats-On.jpg
END:VEVENT
BEGIN:VEVENT
DTSTART;TZID=Europe/London:20260513T110000
DTEND;TZID=Europe/London:20260513T123000
DTSTAMP:20260424T032510
CREATED:20260331T165522Z
LAST-MODIFIED:20260331T165522Z
UID:10002578-1778670000-1778675400@visitmidhurst.com
SUMMARY:Heyshott & Cocking Circular 3.6 Miles - 5.8km
DESCRIPTION:
URL:https://visitmidhurst.com/event/heyshott-cocking-circular-3-6-miles-5-8km/
LOCATION:West sussex
CATEGORIES:Activities,Sport
ATTACH;FMTTYPE=image/jpeg:https://visitmidhurst.com/content/uploads/2026/01/Coats-On.jpg
END:VEVENT
BEGIN:VEVENT
DTSTART;TZID=Europe/London:20260513T153000
DTEND;TZID=Europe/London:20260513T163000
DTSTAMP:20260424T032510
CREATED:20260117T150019Z
LAST-MODIFIED:20260117T150019Z
UID:10001359-1778686200-1778689800@visitmidhurst.com
SUMMARY:Construction Club @ Midhurst Library
DESCRIPTION:Little people with little bricks and big ideas. \nFree of charge\, drop in\, no booking required.  Age 4+ accompanied by an adult.
URL:https://visitmidhurst.com/event/construction-club-midhurst-library/2026-05-13/
LOCATION:Midhurst Library\, The Grange Leisure Centre\, Midhurst\, west Sussex\, GU29 9HD\, United Kingdom
CATEGORIES:Activities,Children
ATTACH;FMTTYPE=image/png:https://visitmidhurst.com/content/uploads/2026/01/construction-club.png
END:VEVENT
BEGIN:VEVENT
DTSTART;TZID=Europe/London:20260514T111500
DTEND;TZID=Europe/London:20260514T234500
DTSTAMP:20260424T032510
CREATED:20260117T144543Z
LAST-MODIFIED:20260117T144845Z
UID:10001308-1778757300-1778802300@visitmidhurst.com
SUMMARY:Rhyme Time @ Midhurst Library
DESCRIPTION:Free\, no booking required.  A drop-in\, interactive\, stories and songs session\, for babies and toddlers under 5 years of age with an accompanying adult.  Held in the Midhurst library within the Grange Community Centre.
URL:https://visitmidhurst.com/event/rhyme-time-midhurst-library/2026-05-14/
LOCATION:Midhurst Library\, The Grange Leisure Centre\, Midhurst\, west Sussex\, GU29 9HD\, United Kingdom
CATEGORIES:Activities,Children,Music
ATTACH;FMTTYPE=image/png:https://visitmidhurst.com/content/uploads/2026/01/rhyme-time.png
END:VEVENT
BEGIN:VEVENT
DTSTART;TZID=Europe/London:20260515T093000
DTEND;TZID=Europe/London:20260515T110000
DTSTAMP:20260424T032510
CREATED:20250312T113448Z
LAST-MODIFIED:20260112T192207Z
UID:10000626-1778837400-1778842800@visitmidhurst.com
SUMMARY:Active Antz by Everyone Active - Soft Play for Under 5's
DESCRIPTION:
URL:https://visitmidhurst.com/event/active-antz-by-everyone-active-soft-play-for-under-5s/2026-05-15/
LOCATION:The Grange Community and Leisure Centre\, GU29 9DH
CATEGORIES:Children
ATTACH;FMTTYPE=image/png:https://visitmidhurst.com/content/uploads/2025/03/Active-ants.png
END:VEVENT
BEGIN:VEVENT
DTSTART;VALUE=DATE:20260516
DTEND;VALUE=DATE:20260518
DTSTAMP:20260424T032510
CREATED:20260108T235658Z
LAST-MODIFIED:20260108T235658Z
UID:10001153-1778889600-1779062399@visitmidhurst.com
SUMMARY:GOODWOOF
DESCRIPTION:Goodwoof is a dog event like no other. With all activities included in your ticket price\, Goodwoof offers the chance to celebrate everything we love about our canine companions.
URL:https://visitmidhurst.com/event/goodwoof/
LOCATION:kennels\, Kennel Hill\, Chichester\, West Sussex\, PO18 0PN\, United Kingdom
CATEGORIES:Shopping
ATTACH;FMTTYPE=image/png:https://visitmidhurst.com/content/uploads/2026/01/goodwoof.png
ORGANIZER;CN="Goodwoof":MAILTO:ticket.office@goodwood.com
END:VEVENT
BEGIN:VEVENT
DTSTART;TZID=Europe/London:20260516T083000
DTEND;TZID=Europe/London:20260516T140000
DTSTAMP:20260424T032510
CREATED:20260105T155923Z
LAST-MODIFIED:20260105T155923Z
UID:10001077-1778920200-1778940000@visitmidhurst.com
SUMMARY:Monthly Market @ The Grange
DESCRIPTION:
URL:https://visitmidhurst.com/event/monthly-market-the-grange-4/
LOCATION:The Grange Community and Leisure Centre\, GU29 9DH
CATEGORIES:Shopping
ATTACH;FMTTYPE=image/png:https://visitmidhurst.com/content/uploads/2026/01/Market.png
END:VEVENT
BEGIN:VEVENT
DTSTART;TZID=Europe/London:20260516T120000
DTEND;TZID=Europe/London:20260516T160000
DTSTAMP:20260424T032510
CREATED:20260112T190812Z
LAST-MODIFIED:20260112T190812Z
UID:10001159-1778932800-1778947200@visitmidhurst.com
SUMMARY:Midhurst Skate Jam 2026
DESCRIPTION:Midhurst Town Council’s annual Skate Jam at Carron Lane Skate Park is on Saturday 16th May 2026 between 12 noon and 4pm. \nIt is once again being run by the fantastic Team Rubicon with competitions for all ages\, on bikes\, scooters\, and of course\, skateboards. All free to enter.
URL:https://visitmidhurst.com/event/midhurst-skate-jam-2026/
LOCATION:Carron Lane Skate Park\, Carron Lane\, Midhurst\, West sussex\, GU29 9LF\, United Kingdom
CATEGORIES:Children,Sport
ATTACH;FMTTYPE=image/png:https://visitmidhurst.com/content/uploads/2026/01/Skate-jam.png
ORGANIZER;CN="Town Council":MAILTO:clerk@midhurst-tc.gov.uk
END:VEVENT
BEGIN:VEVENT
DTSTART;TZID=Europe/London:20260516T140000
DTEND;TZID=Europe/London:20260516T160000
DTSTAMP:20260424T032510
CREATED:20260421T112142Z
LAST-MODIFIED:20260421T112320Z
UID:10003256-1778940000-1778947200@visitmidhurst.com
SUMMARY:Book Launch: Coat On Coat Off Wet Feet
DESCRIPTION:Come along and purchase my 2nd book ‘Coat on Coat off Muddy Boots’ which takes you along my journey of the 200 Mile Sussex Hospices Trail as well as 5 of my Ultra Marathons where I have walked for local people who are sadly no longer with us.\nThis book is dedicated to Andy Claydon\, a well loved man from Midhurst and alongside his walk I took on in May 25\, included are memories from his mum as well as memories of other family members I have walked for including Daphne Ralph\, Charlie Cosser\, Laura Johnston\, Maureen Goodman and my Grandad Dick Whittington.\n\nEnjoy the paths of the trails through my eyes and my feet and discover the beauty of East and West Sussex as I wander section by section the 200 mile trail. Through the wind\, the rain\, the mud and the hot sunshine I discover so many new paths and a new strength and confidence in myself.\n\n£1 per book sold will be given to Midhurst Palliative Care and £1 to Friends of Sussex Hospices\, both incredible charities that support so many loved ones going through end of life care.\nI would be happy to sign your book on the day and talk to you about my travels. Look forward to seeing you on Saturday 16th May 2026 from 2pm – 4pm at Coskuns Cafe\, North Street\, Midhurst\, West Sussex GU29 9DJ\n\nWhat3Words ///admires.bombard.wealth
URL:https://visitmidhurst.com/event/book-launch-coat-on-coat-off-wet-feet/
LOCATION:Coskuns Cafe\, 72 North Street\, Midhurst\, West sussex\, GU29 9AY\, United Kingdom
CATEGORIES:Activities
ATTACH;FMTTYPE=image/jpeg:https://visitmidhurst.com/content/uploads/2026/04/Booklaunch.jpg
ORGANIZER;CN="Coat On Coat Off Wet Feet":MAILTO:vicki@thetalldog.co.uk
END:VEVENT
BEGIN:VEVENT
DTSTART;TZID=Europe/London:20260516T193000
DTEND;TZID=Europe/London:20260516T223000
DTSTAMP:20260424T032510
CREATED:20260415T184203Z
LAST-MODIFIED:20260415T184209Z
UID:10002988-1778959800-1778970600@visitmidhurst.com
SUMMARY:Darts Tournament
DESCRIPTION:
URL:https://visitmidhurst.com/event/darts-tournament/
LOCATION:midhurst club\, 47a North Street\, Midhurst\, West sussex\, GU29 9DR\, United Kingdom
CATEGORIES:Activities,Sport
ATTACH;FMTTYPE=image/jpeg:https://visitmidhurst.com/content/uploads/2026/04/darts.jpg
END:VEVENT
BEGIN:VEVENT
DTSTART;TZID=Europe/London:20260517T103000
DTEND;TZID=Europe/London:20260517T120000
DTSTAMP:20260424T032510
CREATED:20260105T162106Z
LAST-MODIFIED:20260105T162106Z
UID:10001086-1779013800-1779019200@visitmidhurst.com
SUMMARY:Little Pickles Children's Nearly New Sale @ The Grange
DESCRIPTION:
URL:https://visitmidhurst.com/event/little-pickles-childrens-nearly-new-sale-the-grange-2/
LOCATION:The Grange Community and Leisure Centre\, GU29 9DH
CATEGORIES:Shopping
ATTACH;FMTTYPE=image/png:https://visitmidhurst.com/content/uploads/2026/01/Pickles.png
END:VEVENT
BEGIN:VEVENT
DTSTART;TZID=Europe/London:20260517T123000
DTEND;TZID=Europe/London:20260517T170000
DTSTAMP:20260424T032510
CREATED:20260325T145353Z
LAST-MODIFIED:20260325T145444Z
UID:10002356-1779021000-1779037200@visitmidhurst.com
SUMMARY:Fernhurst Revels
DESCRIPTION:Fernhurst Revels is an annual village fete that is held on the third Sunday of May each year\, during which the May Queen is crowned and the whole village comes together to enjoy a range of attractions and stalls. \n  \n 
URL:https://visitmidhurst.com/event/fernhurst-revels/
LOCATION:Fernhurst Recreation Ground\, Recreation Ground\, Fernhurst\, nr Haslemere\, West sussex\, GU27 3HY\, United Kingdom
CATEGORIES:Activities,Shopping
ATTACH;FMTTYPE=image/jpeg:https://visitmidhurst.com/content/uploads/2026/03/656204173_10164975803585439_604461115776470479_n.jpg
END:VEVENT
BEGIN:VEVENT
DTSTART;TZID=Europe/London:20260518T200000
DTEND;TZID=Europe/London:20260518T230000
DTSTAMP:20260424T032510
CREATED:20260415T183853Z
LAST-MODIFIED:20260415T193319Z
UID:10002999-1779134400-1779145200@visitmidhurst.com
SUMMARY:Snooker Tournament
DESCRIPTION:
URL:https://visitmidhurst.com/event/snooker-tournament/2026-05-18/
LOCATION:midhurst club\, 47a North Street\, Midhurst\, West sussex\, GU29 9DR\, United Kingdom
CATEGORIES:Activities
ATTACH;FMTTYPE=image/jpeg:https://visitmidhurst.com/content/uploads/2026/04/snooker.jpg
END:VEVENT
END:VCALENDAR