BEGIN:VCALENDAR
VERSION:2.0
PRODID:-//Visit Midhurst - ECPv6.15.0.1//NONSGML v1.0//EN
CALSCALE:GREGORIAN
METHOD:PUBLISH
X-WR-CALNAME:Visit Midhurst
X-ORIGINAL-URL:https://visitmidhurst.com
X-WR-CALDESC:Events for Visit Midhurst
REFRESH-INTERVAL;VALUE=DURATION:PT1H
X-Robots-Tag:noindex
X-PUBLISHED-TTL:PT1H
BEGIN:VTIMEZONE
TZID:Europe/London
BEGIN:DAYLIGHT
TZOFFSETFROM:+0000
TZOFFSETTO:+0100
TZNAME:BST
DTSTART:20250330T010000
END:DAYLIGHT
BEGIN:STANDARD
TZOFFSETFROM:+0100
TZOFFSETTO:+0000
TZNAME:GMT
DTSTART:20251026T010000
END:STANDARD
END:VTIMEZONE
BEGIN:VEVENT
DTSTART;TZID=Europe/London:20250418T093000
DTEND;TZID=Europe/London:20250418T110000
DTSTAMP:20260424T140921
CREATED:20250312T113448Z
LAST-MODIFIED:20260112T192207Z
UID:10000514-1744968600-1744974000@visitmidhurst.com
SUMMARY:Active Antz by Everyone Active - Soft Play for Under 5's
DESCRIPTION:
URL:https://visitmidhurst.com/event/active-antz-by-everyone-active-soft-play-for-under-5s/2025-04-18/
LOCATION:The Grange Community and Leisure Centre\, GU29 9DH
CATEGORIES:Children
ATTACH;FMTTYPE=image/png:https://visitmidhurst.com/content/uploads/2025/03/Active-ants.png
END:VEVENT
BEGIN:VEVENT
DTSTART;TZID=Europe/London:20250417T153000
DTEND;TZID=Europe/London:20250417T170000
DTSTAMP:20260424T140921
CREATED:20250218T154619Z
LAST-MODIFIED:20250218T154619Z
UID:10000060-1744903800-1744909200@visitmidhurst.com
SUMMARY:Midhurst Parish Church Friendship Teas 2025
DESCRIPTION:It’s a pleasure to announce that the ever popular Friendship Teas will be making a return on Thursday 20 March 2025. \nIf you have any questions or need help with transport\, please contact the Parish Office at office@midhurstparishchurch.net or 01730815356. \nFriendship Tea dates for 2025 \n20 March \n17 April \n15 May \n3.30 – 5 pm \nMidhurst Parish Church
URL:https://visitmidhurst.com/event/midhurst-parish-church-friendship-teas-2025/2025-04-17/
LOCATION:Midhurst Parish Church\, Sheep Lane\, Midhurst\, West Sussex\, GU29 9NT\, United Kingdom
ATTACH;FMTTYPE=image/jpeg:https://visitmidhurst.com/content/uploads/2025/02/IMG_2647.jpg
END:VEVENT
BEGIN:VEVENT
DTSTART;TZID=Europe/London:20250415T093000
DTEND;TZID=Europe/London:20250415T110000
DTSTAMP:20260424T140921
CREATED:20250312T113448Z
LAST-MODIFIED:20260112T192207Z
UID:10000513-1744709400-1744714800@visitmidhurst.com
SUMMARY:Active Antz by Everyone Active - Soft Play for Under 5's
DESCRIPTION:
URL:https://visitmidhurst.com/event/active-antz-by-everyone-active-soft-play-for-under-5s/2025-04-15/
LOCATION:The Grange Community and Leisure Centre\, GU29 9DH
CATEGORIES:Children
ATTACH;FMTTYPE=image/png:https://visitmidhurst.com/content/uploads/2025/03/Active-ants.png
END:VEVENT
BEGIN:VEVENT
DTSTART;TZID=Europe/London:20250412T090000
DTEND;TZID=Europe/London:20250412T140000
DTSTAMP:20260424T140921
CREATED:20250214T114512Z
LAST-MODIFIED:20250227T124526Z
UID:10000050-1744448400-1744466400@visitmidhurst.com
SUMMARY:Midhurst Spring Market
DESCRIPTION:Midhurst Town Council \nSeasonal Markets 2025
URL:https://visitmidhurst.com/event/midhurst-spring-market/
LOCATION:West Sussex
END:VEVENT
BEGIN:VEVENT
DTSTART;TZID=Europe/London:20250411T093000
DTEND;TZID=Europe/London:20250411T110000
DTSTAMP:20260424T140921
CREATED:20250312T113448Z
LAST-MODIFIED:20260112T192207Z
UID:10000512-1744363800-1744369200@visitmidhurst.com
SUMMARY:Active Antz by Everyone Active - Soft Play for Under 5's
DESCRIPTION:
URL:https://visitmidhurst.com/event/active-antz-by-everyone-active-soft-play-for-under-5s/2025-04-11/
LOCATION:The Grange Community and Leisure Centre\, GU29 9DH
CATEGORIES:Children
ATTACH;FMTTYPE=image/png:https://visitmidhurst.com/content/uploads/2025/03/Active-ants.png
END:VEVENT
BEGIN:VEVENT
DTSTART;TZID=Europe/London:20250408T093000
DTEND;TZID=Europe/London:20250408T110000
DTSTAMP:20260424T140921
CREATED:20250312T113448Z
LAST-MODIFIED:20260112T192207Z
UID:10000511-1744104600-1744110000@visitmidhurst.com
SUMMARY:Active Antz by Everyone Active - Soft Play for Under 5's
DESCRIPTION:
URL:https://visitmidhurst.com/event/active-antz-by-everyone-active-soft-play-for-under-5s/2025-04-08/
LOCATION:The Grange Community and Leisure Centre\, GU29 9DH
CATEGORIES:Children
ATTACH;FMTTYPE=image/png:https://visitmidhurst.com/content/uploads/2025/03/Active-ants.png
END:VEVENT
BEGIN:VEVENT
DTSTART;TZID=Europe/London:20250404T093000
DTEND;TZID=Europe/London:20250404T110000
DTSTAMP:20260424T140921
CREATED:20250312T113448Z
LAST-MODIFIED:20260112T192207Z
UID:10000510-1743759000-1743764400@visitmidhurst.com
SUMMARY:Active Antz by Everyone Active - Soft Play for Under 5's
DESCRIPTION:
URL:https://visitmidhurst.com/event/active-antz-by-everyone-active-soft-play-for-under-5s/2025-04-04/
LOCATION:The Grange Community and Leisure Centre\, GU29 9DH
CATEGORIES:Children
ATTACH;FMTTYPE=image/png:https://visitmidhurst.com/content/uploads/2025/03/Active-ants.png
END:VEVENT
BEGIN:VEVENT
DTSTART;TZID=Europe/London:20250401T093000
DTEND;TZID=Europe/London:20250401T110000
DTSTAMP:20260424T140921
CREATED:20250312T113448Z
LAST-MODIFIED:20260112T192207Z
UID:10000509-1743499800-1743505200@visitmidhurst.com
SUMMARY:Active Antz by Everyone Active - Soft Play for Under 5's
DESCRIPTION:
URL:https://visitmidhurst.com/event/active-antz-by-everyone-active-soft-play-for-under-5s/2025-04-01/
LOCATION:The Grange Community and Leisure Centre\, GU29 9DH
CATEGORIES:Children
ATTACH;FMTTYPE=image/png:https://visitmidhurst.com/content/uploads/2025/03/Active-ants.png
END:VEVENT
BEGIN:VEVENT
DTSTART;TZID=Europe/London:20250330T100000
DTEND;TZID=Europe/London:20250330T130000
DTSTAMP:20260424T140921
CREATED:20250312T122533Z
LAST-MODIFIED:20250312T123906Z
UID:10001027-1743328800-1743339600@visitmidhurst.com
SUMMARY:Indoor Car Boot
DESCRIPTION:
URL:https://visitmidhurst.com/event/indoor-car-boot-10-00am-1-00pm/2025-03-30/
LOCATION:The Grange Community and Leisure Centre\, GU29 9DH
ATTACH;FMTTYPE=image/jpeg:https://visitmidhurst.com/content/uploads/2024/10/Advertiser-image-Grange-B_4956aa.jpg
END:VEVENT
BEGIN:VEVENT
DTSTART;TZID=Europe/London:20250329T190000
DTEND;TZID=Europe/London:20250329T230000
DTSTAMP:20260424T140921
CREATED:20250227T115153Z
LAST-MODIFIED:20250228T111731Z
UID:10000067-1743274800-1743289200@visitmidhurst.com
SUMMARY:Midhurst March Mayhem - Live Music with Double X at The Swan Inn
DESCRIPTION:What a way to finish Midhurst March Mayhem with live music from Double X at The Swan Inn. Doors open at 7 pm.
URL:https://visitmidhurst.com/event/midhurst-march-mayhem-live-music-with-double-x-at-the-swan-inn/
LOCATION:The Swan Inn Midhurst\, Red Lion Street\, Midhurst\, United Kingdom
ATTACH;FMTTYPE=image/jpeg:https://visitmidhurst.com/content/uploads/2025/02/Midhurst-March-Mayhem-poster-updated-272x204-1.jpg
END:VEVENT
BEGIN:VEVENT
DTSTART;TZID=Europe/London:20250328T190000
DTEND;TZID=Europe/London:20250328T230000
DTSTAMP:20260424T140921
CREATED:20250227T114546Z
LAST-MODIFIED:20250228T111912Z
UID:10000066-1743188400-1743202800@visitmidhurst.com
SUMMARY:Midhurst March Mayhem - Music at The Lion's Den Midhurst
DESCRIPTION:Free entry with music to be revealed at the Lion’s Den Midhurst. Doors open at 7 pm.
URL:https://visitmidhurst.com/event/midhurst-march-mayhem-music-at-the-lions-den-midhurst/
LOCATION:The Lion’s Den\, North Street\, Midhurst\, United Kingdom
ATTACH;FMTTYPE=image/jpeg:https://visitmidhurst.com/content/uploads/2025/02/Midhurst-March-Mayhem-poster-updated-272x204-1.jpg
END:VEVENT
BEGIN:VEVENT
DTSTART;TZID=Europe/London:20250328T093000
DTEND;TZID=Europe/London:20250328T110000
DTSTAMP:20260424T140921
CREATED:20250312T113448Z
LAST-MODIFIED:20260112T192207Z
UID:10000508-1743154200-1743159600@visitmidhurst.com
SUMMARY:Active Antz by Everyone Active - Soft Play for Under 5's
DESCRIPTION:
URL:https://visitmidhurst.com/event/active-antz-by-everyone-active-soft-play-for-under-5s/2025-03-28/
LOCATION:The Grange Community and Leisure Centre\, GU29 9DH
CATEGORIES:Children
ATTACH;FMTTYPE=image/png:https://visitmidhurst.com/content/uploads/2025/03/Active-ants.png
END:VEVENT
BEGIN:VEVENT
DTSTART;TZID=Europe/London:20250325T093000
DTEND;TZID=Europe/London:20250325T110000
DTSTAMP:20260424T140921
CREATED:20250312T113448Z
LAST-MODIFIED:20260112T192207Z
UID:10000507-1742895000-1742900400@visitmidhurst.com
SUMMARY:Active Antz by Everyone Active - Soft Play for Under 5's
DESCRIPTION:
URL:https://visitmidhurst.com/event/active-antz-by-everyone-active-soft-play-for-under-5s/2025-03-25/
LOCATION:The Grange Community and Leisure Centre\, GU29 9DH
CATEGORIES:Children
ATTACH;FMTTYPE=image/png:https://visitmidhurst.com/content/uploads/2025/03/Active-ants.png
END:VEVENT
BEGIN:VEVENT
DTSTART;VALUE=DATE:20250323
DTEND;VALUE=DATE:20250324
DTSTAMP:20260424T140921
CREATED:20250312T122105Z
LAST-MODIFIED:20250312T122105Z
UID:10001026-1742688000-1742774399@visitmidhurst.com
SUMMARY:Auto Jumble from 10 am
DESCRIPTION:
URL:https://visitmidhurst.com/event/auto-jumble-from-10-am/
LOCATION:The Grange Community and Leisure Centre\, GU29 9DH
ATTACH;FMTTYPE=image/jpeg:https://visitmidhurst.com/content/uploads/2024/10/Advertiser-image-Grange-B_4956aa.jpg
END:VEVENT
BEGIN:VEVENT
DTSTART;TZID=Europe/London:20250322T190000
DTEND;TZID=Europe/London:20250322T230000
DTSTAMP:20260424T140921
CREATED:20250227T114017Z
LAST-MODIFIED:20250228T112223Z
UID:10000065-1742670000-1742684400@visitmidhurst.com
SUMMARY:Midhurst March Mayhem - Derek Maddison at The Bricklayers Arms
DESCRIPTION:Free entry to another fantastic event for the Midhurst March Mayhem.  Derek Maddison is at The Bricklayers Arms.  Pop\, Rock\, Country 1950’s to 1970’s. Doors open at 7 pm.
URL:https://visitmidhurst.com/event/midhurst-march-mayhem-derek-maddison-at-the-bricklayers-arms/
LOCATION:The Bricklayers Arms\, Wool Lane\, Midhurst\, United Kingdom
ATTACH;FMTTYPE=image/jpeg:https://visitmidhurst.com/content/uploads/2025/02/Midhurst-March-Mayhem-poster-updated-272x204-1.jpg
END:VEVENT
BEGIN:VEVENT
DTSTART;TZID=Europe/London:20250322T190000
DTEND;TZID=Europe/London:20250322T230000
DTSTAMP:20260424T140921
CREATED:20250227T113327Z
LAST-MODIFIED:20250228T112343Z
UID:10000064-1742670000-1742684400@visitmidhurst.com
SUMMARY:Midhurst March Mayhem - Jamie & The Jets at Fairview Wines Midhurst
DESCRIPTION:Our third event for Midhurst March Mayhem is Jamie & The Jets are at Fairview Wines Saturday 22 March 2025.  Doors open at 7pm.
URL:https://visitmidhurst.com/event/midhurst-march-mayhem-jamie-the-jets-at-fairview-wines-midhurst/
LOCATION:Fairview Wines\, North Street\, Midhurst\, United Kingdom
ATTACH;FMTTYPE=image/jpeg:https://visitmidhurst.com/content/uploads/2025/02/Midhurst-March-Mayhem-poster-updated-272x204-1.jpg
END:VEVENT
BEGIN:VEVENT
DTSTART;TZID=Europe/London:20250321T093000
DTEND;TZID=Europe/London:20250321T110000
DTSTAMP:20260424T140921
CREATED:20250312T113448Z
LAST-MODIFIED:20260112T192207Z
UID:10000506-1742549400-1742554800@visitmidhurst.com
SUMMARY:Active Antz by Everyone Active - Soft Play for Under 5's
DESCRIPTION:
URL:https://visitmidhurst.com/event/active-antz-by-everyone-active-soft-play-for-under-5s/2025-03-21/
LOCATION:The Grange Community and Leisure Centre\, GU29 9DH
CATEGORIES:Children
ATTACH;FMTTYPE=image/png:https://visitmidhurst.com/content/uploads/2025/03/Active-ants.png
END:VEVENT
BEGIN:VEVENT
DTSTART;TZID=Europe/London:20250320T153000
DTEND;TZID=Europe/London:20250320T170000
DTSTAMP:20260424T140921
CREATED:20250218T154619Z
LAST-MODIFIED:20250218T154619Z
UID:10000059-1742484600-1742490000@visitmidhurst.com
SUMMARY:Midhurst Parish Church Friendship Teas 2025
DESCRIPTION:It’s a pleasure to announce that the ever popular Friendship Teas will be making a return on Thursday 20 March 2025. \nIf you have any questions or need help with transport\, please contact the Parish Office at office@midhurstparishchurch.net or 01730815356. \nFriendship Tea dates for 2025 \n20 March \n17 April \n15 May \n3.30 – 5 pm \nMidhurst Parish Church
URL:https://visitmidhurst.com/event/midhurst-parish-church-friendship-teas-2025/2025-03-20/
LOCATION:Midhurst Parish Church\, Sheep Lane\, Midhurst\, West Sussex\, GU29 9NT\, United Kingdom
ATTACH;FMTTYPE=image/jpeg:https://visitmidhurst.com/content/uploads/2025/02/IMG_2647.jpg
END:VEVENT
BEGIN:VEVENT
DTSTART;TZID=Europe/London:20250318T093000
DTEND;TZID=Europe/London:20250318T110000
DTSTAMP:20260424T140921
CREATED:20250312T113448Z
LAST-MODIFIED:20260112T192207Z
UID:10000505-1742290200-1742295600@visitmidhurst.com
SUMMARY:Active Antz by Everyone Active - Soft Play for Under 5's
DESCRIPTION:
URL:https://visitmidhurst.com/event/active-antz-by-everyone-active-soft-play-for-under-5s/2025-03-18/
LOCATION:The Grange Community and Leisure Centre\, GU29 9DH
CATEGORIES:Children
ATTACH;FMTTYPE=image/png:https://visitmidhurst.com/content/uploads/2025/03/Active-ants.png
END:VEVENT
BEGIN:VEVENT
DTSTART;TZID=Europe/London:20250316T100000
DTEND;TZID=Europe/London:20250316T160000
DTSTAMP:20260424T140921
CREATED:20250305T124057Z
LAST-MODIFIED:20250305T124057Z
UID:10000502-1742119200-1742140800@visitmidhurst.com
SUMMARY:Antiques & Collectors Fair - The Grange Centre Midhurst
DESCRIPTION:
URL:https://visitmidhurst.com/event/antiques-collectors-fair-the-grange-centre-midhurst/2025-03-16/
LOCATION:The Grange Community and Leisure Centre\, GU29 9DH
ATTACH;FMTTYPE=image/jpeg:https://visitmidhurst.com/content/uploads/2024/10/Advertiser-image-Grange-B_4956aa.jpg
END:VEVENT
BEGIN:VEVENT
DTSTART;TZID=Europe/London:20250316T100000
DTEND;TZID=Europe/London:20250316T160000
DTSTAMP:20260424T140921
CREATED:20241017T114505Z
LAST-MODIFIED:20250117T180845Z
UID:10000013-1742119200-1742140800@visitmidhurst.com
SUMMARY:Antique and Collectors Fair
DESCRIPTION:Admission £2.00 \nUp to 80 stalls.
URL:https://visitmidhurst.com/event/antique-and-collectors-fair-2/
LOCATION:West Sussex
ATTACH;FMTTYPE=image/jpeg:https://visitmidhurst.com/content/uploads/2024/10/Advertiser-image-Grange-B_4956aa.jpg
END:VEVENT
BEGIN:VEVENT
DTSTART;TZID=Europe/London:20250315T200000
DTEND;TZID=Europe/London:20250315T223000
DTSTAMP:20260424T140921
CREATED:20250227T111538Z
LAST-MODIFIED:20250228T112532Z
UID:10000062-1742068800-1742077800@visitmidhurst.com
SUMMARY:Midhurst March Mayhem - Epic Comedy Night with Suzi Ruffell
DESCRIPTION:Epic Comedy is at Midhurst South Downs Centre.  Headliner TV Sensation Suzi Ruffell and supporting her are live circuit favourites – Andrew White and Will Hannigan. Doors open at 7.00 pm.
URL:https://visitmidhurst.com/event/midhurst-march-mayhem-epic-comedy-night-with-suzi-ruffell/
LOCATION:South Downs Centre\, Midhurst\, United Kingdom
ATTACH;FMTTYPE=image/jpeg:https://visitmidhurst.com/content/uploads/2025/02/Midhurst-March-Mayhem-poster-updated-272x204-1.jpg
END:VEVENT
BEGIN:VEVENT
DTSTART;TZID=Europe/London:20250315T200000
DTEND;TZID=Europe/London:20250315T220000
DTSTAMP:20260424T140922
CREATED:20250305T113210Z
LAST-MODIFIED:20250305T113210Z
UID:10000498-1742068800-1742076000@visitmidhurst.com
SUMMARY:Epic Comedy Presents - Suzi Ruffell\, Andrew White and Will Hannigan
DESCRIPTION:
URL:https://visitmidhurst.com/event/epic-comedy-presents-suzi-ruffell-andrew-white-and-will-hannigan/
LOCATION:West Sussex
ATTACH;FMTTYPE=image/jpeg:https://visitmidhurst.com/content/uploads/2025/03/Epic-Comedy-Night-15-March-2025.jpg
END:VEVENT
BEGIN:VEVENT
DTSTART;TZID=Europe/London:20250315T190000
DTEND;TZID=Europe/London:20250315T230000
DTSTAMP:20260424T140922
CREATED:20250227T112257Z
LAST-MODIFIED:20250228T112706Z
UID:10000063-1742065200-1742079600@visitmidhurst.com
SUMMARY:Cocktails & DJ's Sam & Scott - 90's R&B Spring Party at Kemaelli's
DESCRIPTION:Free entry to an incredible night.  Join us at Kemaelli’s for Cocktails & DJ’s Sam & Scott for a 90’s R&B Spring Party.  Doors open at 7 pm.  Don’t miss out!
URL:https://visitmidhurst.com/event/cocktails-djs-sam-scott-90s-rb-spring-party-at-kemaellis/
LOCATION:Kemaelli’s\, North Street\, Midhurst\, United Kingdom
ATTACH;FMTTYPE=image/jpeg:https://visitmidhurst.com/content/uploads/2025/02/Midhurst-March-Mayhem-poster-updated-272x204-1.jpg
END:VEVENT
BEGIN:VEVENT
DTSTART;TZID=Europe/London:20250314T093000
DTEND;TZID=Europe/London:20250314T110000
DTSTAMP:20260424T140922
CREATED:20250312T113448Z
LAST-MODIFIED:20260112T192207Z
UID:10000504-1741944600-1741950000@visitmidhurst.com
SUMMARY:Active Antz by Everyone Active - Soft Play for Under 5's
DESCRIPTION:
URL:https://visitmidhurst.com/event/active-antz-by-everyone-active-soft-play-for-under-5s/2025-03-14/
LOCATION:The Grange Community and Leisure Centre\, GU29 9DH
CATEGORIES:Children
ATTACH;FMTTYPE=image/png:https://visitmidhurst.com/content/uploads/2025/03/Active-ants.png
END:VEVENT
BEGIN:VEVENT
DTSTART;TZID=Europe/London:20250220T193000
DTEND;TZID=Europe/London:20250220T213000
DTSTAMP:20260424T140922
CREATED:20250218T153340Z
LAST-MODIFIED:20250218T153340Z
UID:10000058-1740079800-1740087000@visitmidhurst.com
SUMMARY:The Midhurst Society's First Event for 2025
DESCRIPTION:Join The Midhurst Society for their first event of 2025.  Local writer\, speaker and conservation campaigner\, Roger Morgan-Grenville will be talking about his book ‘Across a Waking Land’.  Based on his 1\,000 mile Spring time walk across Britain.  One aim of his remarkable journey was to observe loss of biodiversity and ponder on ways we can help to save our countryside. \nAll welcome\, £5 on the door\, £1 for students (free to Midhurst Society Members). \nMemorial Hall\, Midhurst GU29 9DH
URL:https://visitmidhurst.com/event/the-midhurst-societys-first-event-for-2025/
LOCATION:Memorial Hall\, Midhurst
ATTACH;FMTTYPE=image/jpeg:https://visitmidhurst.com/content/uploads/2025/02/IMG_2643.jpg
END:VEVENT
BEGIN:VEVENT
DTSTART;TZID=Europe/London:20250219T190000
DTEND;TZID=Europe/London:20250219T230000
DTSTAMP:20260424T140922
CREATED:20250218T151317Z
LAST-MODIFIED:20250218T151317Z
UID:10000057-1739991600-1740006000@visitmidhurst.com
SUMMARY:Quiz Night at Swan Inn Midhurst Wednesday 19 February 2025
DESCRIPTION:Join us for a fun filled Quiz Night this Wednesday February 19 2025.  Food served at 7 pm\, quiz starts at 8 pm.  £17.50 per person.  You’ll get dinner\, quiz entry and a free pint.  Gather your team and let’s see who knows it all! Call 01730859557 to book now.
URL:https://visitmidhurst.com/event/quiz-night-at-swan-inn-midhurst-wednesday-19-february-2025/
LOCATION:The Swan Inn\, Midhurst\, GU29 9PB
ATTACH;FMTTYPE=image/jpeg:https://visitmidhurst.com/content/uploads/2025/02/IMG_2642.jpg
END:VEVENT
BEGIN:VEVENT
DTSTART;TZID=Europe/London:20250218T100000
DTEND;TZID=Europe/London:20250218T120000
DTSTAMP:20260424T140922
CREATED:20250214T115533Z
LAST-MODIFIED:20250218T145326Z
UID:10000054-1739872800-1739880000@visitmidhurst.com
SUMMARY:Midhurst Town Council Free Circus Workshop
DESCRIPTION:
URL:https://visitmidhurst.com/event/midhurst-town-council-free-circus-workshop/
LOCATION:The Old Town Library\, Old Town Library\, Knockhundred Row\, Midhurst\, GU29 9DQ\, United Kingdom
ATTACH;FMTTYPE=image/jpeg:https://visitmidhurst.com/content/uploads/2025/02/IMG_2632.jpg
GEO:50.986647;-0.737773
X-APPLE-STRUCTURED-LOCATION;VALUE=URI;X-ADDRESS=The Old Town Library Old Town Library Knockhundred Row Midhurst GU29 9DQ United Kingdom;X-APPLE-RADIUS=500;X-TITLE=Old Town Library\, Knockhundred Row:geo:-0.737773,50.986647
END:VEVENT
BEGIN:VEVENT
DTSTART;TZID=Europe/London:20250215T203000
DTEND;TZID=Europe/London:20250215T230000
DTSTAMP:20260424T140922
CREATED:20250214T112422Z
LAST-MODIFIED:20250218T145412Z
UID:10000049-1739651400-1739660400@visitmidhurst.com
SUMMARY:Live Music at Swan Inn Midhurst
DESCRIPTION:Live Music at Swan Inn Midhurst.  15 February 2025 from 8.30 pm.  Free entry.
URL:https://visitmidhurst.com/event/live-music-at-swan-inn-midhurst/
LOCATION:The Swan Inn\, Midhurst\, GU29 9PB
ATTACH;FMTTYPE=image/jpeg:https://visitmidhurst.com/content/uploads/2025/02/IMG_2631.jpg
END:VEVENT
BEGIN:VEVENT
DTSTART;TZID=Europe/London:20250105T094500
DTEND;TZID=Europe/London:20250105T131500
DTSTAMP:20260424T140922
CREATED:20241017T114755Z
LAST-MODIFIED:20241017T114755Z
UID:10000017-1736070300-1736082900@visitmidhurst.com
SUMMARY:Toy Fair
DESCRIPTION:
URL:https://visitmidhurst.com/event/toy-fair/
LOCATION:The Grange Community and Leisure Centre\, GU29 9DH
ATTACH;FMTTYPE=image/jpeg:https://visitmidhurst.com/content/uploads/2024/10/Advertiser-image-Grange-B_4956aa.jpg
END:VEVENT
END:VCALENDAR