BEGIN:VCALENDAR
VERSION:2.0
PRODID:-//Visit Midhurst - ECPv6.15.0.1//NONSGML v1.0//EN
CALSCALE:GREGORIAN
METHOD:PUBLISH
X-ORIGINAL-URL:https://visitmidhurst.com
X-WR-CALDESC:Events for Visit Midhurst
REFRESH-INTERVAL;VALUE=DURATION:PT1H
X-Robots-Tag:noindex
X-PUBLISHED-TTL:PT1H
BEGIN:VTIMEZONE
TZID:Europe/London
BEGIN:DAYLIGHT
TZOFFSETFROM:+0000
TZOFFSETTO:+0100
TZNAME:BST
DTSTART:20250330T010000
END:DAYLIGHT
BEGIN:STANDARD
TZOFFSETFROM:+0100
TZOFFSETTO:+0000
TZNAME:GMT
DTSTART:20251026T010000
END:STANDARD
END:VTIMEZONE
BEGIN:VEVENT
DTSTART;TZID=Europe/London:20250701T093000
DTEND;TZID=Europe/London:20250701T110000
DTSTAMP:20260423T210132
CREATED:20250312T113448Z
LAST-MODIFIED:20260112T192207Z
UID:10000535-1751362200-1751367600@visitmidhurst.com
SUMMARY:Active Antz by Everyone Active - Soft Play for Under 5's
DESCRIPTION:
URL:https://visitmidhurst.com/event/active-antz-by-everyone-active-soft-play-for-under-5s/2025-07-01/
LOCATION:The Grange Community and Leisure Centre\, GU29 9DH
CATEGORIES:Children
ATTACH;FMTTYPE=image/png:https://visitmidhurst.com/content/uploads/2025/03/Active-ants.png
END:VEVENT
BEGIN:VEVENT
DTSTART;TZID=Europe/London:20250629T094500
DTEND;TZID=Europe/London:20250629T131500
DTSTAMP:20260423T210132
CREATED:20250312T123700Z
LAST-MODIFIED:20250312T123700Z
UID:10001032-1751190300-1751202900@visitmidhurst.com
SUMMARY:Toy Fair
DESCRIPTION:
URL:https://visitmidhurst.com/event/toy-fair-2/2025-06-29/
LOCATION:The Grange Community and Leisure Centre\, GU29 9DH
ATTACH;FMTTYPE=image/jpeg:https://visitmidhurst.com/content/uploads/2024/10/Advertiser-image-Grange-B_4956aa.jpg
END:VEVENT
BEGIN:VEVENT
DTSTART;TZID=Europe/London:20250627T093000
DTEND;TZID=Europe/London:20250627T110000
DTSTAMP:20260423T210132
CREATED:20250312T113448Z
LAST-MODIFIED:20260112T192207Z
UID:10000534-1751016600-1751022000@visitmidhurst.com
SUMMARY:Active Antz by Everyone Active - Soft Play for Under 5's
DESCRIPTION:
URL:https://visitmidhurst.com/event/active-antz-by-everyone-active-soft-play-for-under-5s/2025-06-27/
LOCATION:The Grange Community and Leisure Centre\, GU29 9DH
CATEGORIES:Children
ATTACH;FMTTYPE=image/png:https://visitmidhurst.com/content/uploads/2025/03/Active-ants.png
END:VEVENT
BEGIN:VEVENT
DTSTART;TZID=Europe/London:20250624T093000
DTEND;TZID=Europe/London:20250624T110000
DTSTAMP:20260423T210132
CREATED:20250312T113448Z
LAST-MODIFIED:20260112T192207Z
UID:10000533-1750757400-1750762800@visitmidhurst.com
SUMMARY:Active Antz by Everyone Active - Soft Play for Under 5's
DESCRIPTION:
URL:https://visitmidhurst.com/event/active-antz-by-everyone-active-soft-play-for-under-5s/2025-06-24/
LOCATION:The Grange Community and Leisure Centre\, GU29 9DH
CATEGORIES:Children
ATTACH;FMTTYPE=image/png:https://visitmidhurst.com/content/uploads/2025/03/Active-ants.png
END:VEVENT
BEGIN:VEVENT
DTSTART;TZID=Europe/London:20250621T083000
DTEND;TZID=Europe/London:20250621T140000
DTSTAMP:20260423T210132
CREATED:20250312T124536Z
LAST-MODIFIED:20250312T124536Z
UID:10001035-1750494600-1750514400@visitmidhurst.com
SUMMARY:Monthly Market
DESCRIPTION:
URL:https://visitmidhurst.com/event/monthly-market-2/2025-06-21/
LOCATION:The Grange Community and Leisure Centre\, GU29 9DH
ATTACH;FMTTYPE=image/jpeg:https://visitmidhurst.com/content/uploads/2024/10/Advertiser-image-Grange-B_4956aa.jpg
END:VEVENT
BEGIN:VEVENT
DTSTART;TZID=Europe/London:20250620T093000
DTEND;TZID=Europe/London:20250620T110000
DTSTAMP:20260423T210132
CREATED:20250312T113448Z
LAST-MODIFIED:20260112T192207Z
UID:10000532-1750411800-1750417200@visitmidhurst.com
SUMMARY:Active Antz by Everyone Active - Soft Play for Under 5's
DESCRIPTION:
URL:https://visitmidhurst.com/event/active-antz-by-everyone-active-soft-play-for-under-5s/2025-06-20/
LOCATION:The Grange Community and Leisure Centre\, GU29 9DH
CATEGORIES:Children
ATTACH;FMTTYPE=image/png:https://visitmidhurst.com/content/uploads/2025/03/Active-ants.png
END:VEVENT
BEGIN:VEVENT
DTSTART;TZID=Europe/London:20250617T093000
DTEND;TZID=Europe/London:20250617T110000
DTSTAMP:20260423T210132
CREATED:20250312T113448Z
LAST-MODIFIED:20260112T192207Z
UID:10000531-1750152600-1750158000@visitmidhurst.com
SUMMARY:Active Antz by Everyone Active - Soft Play for Under 5's
DESCRIPTION:
URL:https://visitmidhurst.com/event/active-antz-by-everyone-active-soft-play-for-under-5s/2025-06-17/
LOCATION:The Grange Community and Leisure Centre\, GU29 9DH
CATEGORIES:Children
ATTACH;FMTTYPE=image/png:https://visitmidhurst.com/content/uploads/2025/03/Active-ants.png
END:VEVENT
BEGIN:VEVENT
DTSTART;TZID=Europe/London:20250615T100000
DTEND;TZID=Europe/London:20250615T130000
DTSTAMP:20260423T210132
CREATED:20250312T122533Z
LAST-MODIFIED:20250312T123906Z
UID:10001030-1749981600-1749992400@visitmidhurst.com
SUMMARY:Indoor Car Boot
DESCRIPTION:
URL:https://visitmidhurst.com/event/indoor-car-boot-10-00am-1-00pm/2025-06-15/
LOCATION:The Grange Community and Leisure Centre\, GU29 9DH
ATTACH;FMTTYPE=image/jpeg:https://visitmidhurst.com/content/uploads/2024/10/Advertiser-image-Grange-B_4956aa.jpg
END:VEVENT
BEGIN:VEVENT
DTSTART;TZID=Europe/London:20250613T093000
DTEND;TZID=Europe/London:20250613T110000
DTSTAMP:20260423T210132
CREATED:20250312T113448Z
LAST-MODIFIED:20260112T192207Z
UID:10000530-1749807000-1749812400@visitmidhurst.com
SUMMARY:Active Antz by Everyone Active - Soft Play for Under 5's
DESCRIPTION:
URL:https://visitmidhurst.com/event/active-antz-by-everyone-active-soft-play-for-under-5s/2025-06-13/
LOCATION:The Grange Community and Leisure Centre\, GU29 9DH
CATEGORIES:Children
ATTACH;FMTTYPE=image/png:https://visitmidhurst.com/content/uploads/2025/03/Active-ants.png
END:VEVENT
BEGIN:VEVENT
DTSTART;TZID=Europe/London:20250610T093000
DTEND;TZID=Europe/London:20250610T110000
DTSTAMP:20260423T210132
CREATED:20250312T113448Z
LAST-MODIFIED:20260112T192207Z
UID:10000529-1749547800-1749553200@visitmidhurst.com
SUMMARY:Active Antz by Everyone Active - Soft Play for Under 5's
DESCRIPTION:
URL:https://visitmidhurst.com/event/active-antz-by-everyone-active-soft-play-for-under-5s/2025-06-10/
LOCATION:The Grange Community and Leisure Centre\, GU29 9DH
CATEGORIES:Children
ATTACH;FMTTYPE=image/png:https://visitmidhurst.com/content/uploads/2025/03/Active-ants.png
END:VEVENT
BEGIN:VEVENT
DTSTART;TZID=Europe/London:20250606T093000
DTEND;TZID=Europe/London:20250606T110000
DTSTAMP:20260423T210132
CREATED:20250312T113448Z
LAST-MODIFIED:20260112T192207Z
UID:10000528-1749202200-1749207600@visitmidhurst.com
SUMMARY:Active Antz by Everyone Active - Soft Play for Under 5's
DESCRIPTION:
URL:https://visitmidhurst.com/event/active-antz-by-everyone-active-soft-play-for-under-5s/2025-06-06/
LOCATION:The Grange Community and Leisure Centre\, GU29 9DH
CATEGORIES:Children
ATTACH;FMTTYPE=image/png:https://visitmidhurst.com/content/uploads/2025/03/Active-ants.png
END:VEVENT
BEGIN:VEVENT
DTSTART;TZID=Europe/London:20250603T093000
DTEND;TZID=Europe/London:20250603T110000
DTSTAMP:20260423T210132
CREATED:20250312T113448Z
LAST-MODIFIED:20260112T192207Z
UID:10000527-1748943000-1748948400@visitmidhurst.com
SUMMARY:Active Antz by Everyone Active - Soft Play for Under 5's
DESCRIPTION:
URL:https://visitmidhurst.com/event/active-antz-by-everyone-active-soft-play-for-under-5s/2025-06-03/
LOCATION:The Grange Community and Leisure Centre\, GU29 9DH
CATEGORIES:Children
ATTACH;FMTTYPE=image/png:https://visitmidhurst.com/content/uploads/2025/03/Active-ants.png
END:VEVENT
BEGIN:VEVENT
DTSTART;TZID=Europe/London:20250530T093000
DTEND;TZID=Europe/London:20250530T110000
DTSTAMP:20260423T210132
CREATED:20250312T113448Z
LAST-MODIFIED:20260112T192207Z
UID:10000526-1748597400-1748602800@visitmidhurst.com
SUMMARY:Active Antz by Everyone Active - Soft Play for Under 5's
DESCRIPTION:
URL:https://visitmidhurst.com/event/active-antz-by-everyone-active-soft-play-for-under-5s/2025-05-30/
LOCATION:The Grange Community and Leisure Centre\, GU29 9DH
CATEGORIES:Children
ATTACH;FMTTYPE=image/png:https://visitmidhurst.com/content/uploads/2025/03/Active-ants.png
END:VEVENT
BEGIN:VEVENT
DTSTART;TZID=Europe/London:20250527T093000
DTEND;TZID=Europe/London:20250527T110000
DTSTAMP:20260423T210132
CREATED:20250312T113448Z
LAST-MODIFIED:20260112T192207Z
UID:10000525-1748338200-1748343600@visitmidhurst.com
SUMMARY:Active Antz by Everyone Active - Soft Play for Under 5's
DESCRIPTION:
URL:https://visitmidhurst.com/event/active-antz-by-everyone-active-soft-play-for-under-5s/2025-05-27/
LOCATION:The Grange Community and Leisure Centre\, GU29 9DH
CATEGORIES:Children
ATTACH;FMTTYPE=image/png:https://visitmidhurst.com/content/uploads/2025/03/Active-ants.png
END:VEVENT
BEGIN:VEVENT
DTSTART;TZID=Europe/London:20250525T100000
DTEND;TZID=Europe/London:20250525T130000
DTSTAMP:20260423T210132
CREATED:20250312T122533Z
LAST-MODIFIED:20250312T123906Z
UID:10001029-1748167200-1748178000@visitmidhurst.com
SUMMARY:Indoor Car Boot
DESCRIPTION:
URL:https://visitmidhurst.com/event/indoor-car-boot-10-00am-1-00pm/2025-05-25/
LOCATION:The Grange Community and Leisure Centre\, GU29 9DH
ATTACH;FMTTYPE=image/jpeg:https://visitmidhurst.com/content/uploads/2024/10/Advertiser-image-Grange-B_4956aa.jpg
END:VEVENT
BEGIN:VEVENT
DTSTART;TZID=Europe/London:20250523T093000
DTEND;TZID=Europe/London:20250523T110000
DTSTAMP:20260423T210132
CREATED:20250312T113448Z
LAST-MODIFIED:20260112T192207Z
UID:10000524-1747992600-1747998000@visitmidhurst.com
SUMMARY:Active Antz by Everyone Active - Soft Play for Under 5's
DESCRIPTION:
URL:https://visitmidhurst.com/event/active-antz-by-everyone-active-soft-play-for-under-5s/2025-05-23/
LOCATION:The Grange Community and Leisure Centre\, GU29 9DH
CATEGORIES:Children
ATTACH;FMTTYPE=image/png:https://visitmidhurst.com/content/uploads/2025/03/Active-ants.png
END:VEVENT
BEGIN:VEVENT
DTSTART;TZID=Europe/London:20250520T093000
DTEND;TZID=Europe/London:20250520T110000
DTSTAMP:20260423T210132
CREATED:20250312T113448Z
LAST-MODIFIED:20260112T192207Z
UID:10000523-1747733400-1747738800@visitmidhurst.com
SUMMARY:Active Antz by Everyone Active - Soft Play for Under 5's
DESCRIPTION:
URL:https://visitmidhurst.com/event/active-antz-by-everyone-active-soft-play-for-under-5s/2025-05-20/
LOCATION:The Grange Community and Leisure Centre\, GU29 9DH
CATEGORIES:Children
ATTACH;FMTTYPE=image/png:https://visitmidhurst.com/content/uploads/2025/03/Active-ants.png
END:VEVENT
BEGIN:VEVENT
DTSTART;TZID=Europe/London:20250517T083000
DTEND;TZID=Europe/London:20250517T140000
DTSTAMP:20260423T210132
CREATED:20250312T124536Z
LAST-MODIFIED:20250312T124536Z
UID:10001034-1747470600-1747490400@visitmidhurst.com
SUMMARY:Monthly Market
DESCRIPTION:
URL:https://visitmidhurst.com/event/monthly-market-2/2025-05-17/
LOCATION:The Grange Community and Leisure Centre\, GU29 9DH
ATTACH;FMTTYPE=image/jpeg:https://visitmidhurst.com/content/uploads/2024/10/Advertiser-image-Grange-B_4956aa.jpg
END:VEVENT
BEGIN:VEVENT
DTSTART;TZID=Europe/London:20250516T093000
DTEND;TZID=Europe/London:20250516T110000
DTSTAMP:20260423T210133
CREATED:20250312T113448Z
LAST-MODIFIED:20260112T192207Z
UID:10000522-1747387800-1747393200@visitmidhurst.com
SUMMARY:Active Antz by Everyone Active - Soft Play for Under 5's
DESCRIPTION:
URL:https://visitmidhurst.com/event/active-antz-by-everyone-active-soft-play-for-under-5s/2025-05-16/
LOCATION:The Grange Community and Leisure Centre\, GU29 9DH
CATEGORIES:Children
ATTACH;FMTTYPE=image/png:https://visitmidhurst.com/content/uploads/2025/03/Active-ants.png
END:VEVENT
BEGIN:VEVENT
DTSTART;TZID=Europe/London:20250515T153000
DTEND;TZID=Europe/London:20250515T170000
DTSTAMP:20260423T210133
CREATED:20250218T154619Z
LAST-MODIFIED:20250218T154619Z
UID:10000061-1747323000-1747328400@visitmidhurst.com
SUMMARY:Midhurst Parish Church Friendship Teas 2025
DESCRIPTION:It’s a pleasure to announce that the ever popular Friendship Teas will be making a return on Thursday 20 March 2025. \nIf you have any questions or need help with transport\, please contact the Parish Office at office@midhurstparishchurch.net or 01730815356. \nFriendship Tea dates for 2025 \n20 March \n17 April \n15 May \n3.30 – 5 pm \nMidhurst Parish Church
URL:https://visitmidhurst.com/event/midhurst-parish-church-friendship-teas-2025/2025-05-15/
LOCATION:Midhurst Parish Church\, Sheep Lane\, Midhurst\, West Sussex\, GU29 9NT\, United Kingdom
ATTACH;FMTTYPE=image/jpeg:https://visitmidhurst.com/content/uploads/2025/02/IMG_2647.jpg
END:VEVENT
BEGIN:VEVENT
DTSTART;TZID=Europe/London:20250513T093000
DTEND;TZID=Europe/London:20250513T110000
DTSTAMP:20260423T210133
CREATED:20250312T113448Z
LAST-MODIFIED:20260112T192207Z
UID:10000521-1747128600-1747134000@visitmidhurst.com
SUMMARY:Active Antz by Everyone Active - Soft Play for Under 5's
DESCRIPTION:
URL:https://visitmidhurst.com/event/active-antz-by-everyone-active-soft-play-for-under-5s/2025-05-13/
LOCATION:The Grange Community and Leisure Centre\, GU29 9DH
CATEGORIES:Children
ATTACH;FMTTYPE=image/png:https://visitmidhurst.com/content/uploads/2025/03/Active-ants.png
END:VEVENT
BEGIN:VEVENT
DTSTART;TZID=Europe/London:20250511T100000
DTEND;TZID=Europe/London:20250511T160000
DTSTAMP:20260423T210133
CREATED:20250312T124712Z
LAST-MODIFIED:20250312T124712Z
UID:10001036-1746957600-1746979200@visitmidhurst.com
SUMMARY:Antique Fair
DESCRIPTION:
URL:https://visitmidhurst.com/event/antique-fair/
LOCATION:The Grange Community and Leisure Centre\, GU29 9DH
ATTACH;FMTTYPE=image/jpeg:https://visitmidhurst.com/content/uploads/2024/10/Advertiser-image-Grange-B_4956aa.jpg
END:VEVENT
BEGIN:VEVENT
DTSTART;TZID=Europe/London:20250511T100000
DTEND;TZID=Europe/London:20250511T160000
DTSTAMP:20260423T210133
CREATED:20250305T124057Z
LAST-MODIFIED:20250305T124057Z
UID:10000503-1746957600-1746979200@visitmidhurst.com
SUMMARY:Antiques & Collectors Fair - The Grange Centre Midhurst
DESCRIPTION:
URL:https://visitmidhurst.com/event/antiques-collectors-fair-the-grange-centre-midhurst/2025-05-11/
LOCATION:The Grange Community and Leisure Centre\, GU29 9DH
ATTACH;FMTTYPE=image/jpeg:https://visitmidhurst.com/content/uploads/2024/10/Advertiser-image-Grange-B_4956aa.jpg
END:VEVENT
BEGIN:VEVENT
DTSTART;TZID=Europe/London:20250509T093000
DTEND;TZID=Europe/London:20250509T110000
DTSTAMP:20260423T210133
CREATED:20250312T113448Z
LAST-MODIFIED:20260112T192207Z
UID:10000520-1746783000-1746788400@visitmidhurst.com
SUMMARY:Active Antz by Everyone Active - Soft Play for Under 5's
DESCRIPTION:
URL:https://visitmidhurst.com/event/active-antz-by-everyone-active-soft-play-for-under-5s/2025-05-09/
LOCATION:The Grange Community and Leisure Centre\, GU29 9DH
CATEGORIES:Children
ATTACH;FMTTYPE=image/png:https://visitmidhurst.com/content/uploads/2025/03/Active-ants.png
END:VEVENT
BEGIN:VEVENT
DTSTART;TZID=Europe/London:20250506T093000
DTEND;TZID=Europe/London:20250506T110000
DTSTAMP:20260423T210133
CREATED:20250312T113448Z
LAST-MODIFIED:20260112T192207Z
UID:10000519-1746523800-1746529200@visitmidhurst.com
SUMMARY:Active Antz by Everyone Active - Soft Play for Under 5's
DESCRIPTION:
URL:https://visitmidhurst.com/event/active-antz-by-everyone-active-soft-play-for-under-5s/2025-05-06/
LOCATION:The Grange Community and Leisure Centre\, GU29 9DH
CATEGORIES:Children
ATTACH;FMTTYPE=image/png:https://visitmidhurst.com/content/uploads/2025/03/Active-ants.png
END:VEVENT
BEGIN:VEVENT
DTSTART;TZID=Europe/London:20250503T100000
DTEND;TZID=Europe/London:20250503T160000
DTSTAMP:20260423T210133
CREATED:20250318T155828Z
LAST-MODIFIED:20250318T160757Z
UID:10001037-1746266400-1746288000@visitmidhurst.com
SUMMARY:Midhurst Brocante
DESCRIPTION:
URL:https://visitmidhurst.com/event/midhurst-brocante/
LOCATION:The Old Town Library\, Old Town Library\, Knockhundred Row\, Midhurst\, GU29 9DQ\, United Kingdom
ATTACH;FMTTYPE=image/jpeg:https://visitmidhurst.com/content/uploads/2025/03/IMG_5215-1.jpg
ORGANIZER;CN="Julia Prentice":MAILTO:cherishvintagefairs@gmail.com
GEO:50.986647;-0.737773
X-APPLE-STRUCTURED-LOCATION;VALUE=URI;X-ADDRESS=The Old Town Library Old Town Library Knockhundred Row Midhurst GU29 9DQ United Kingdom;X-APPLE-RADIUS=500;X-TITLE=Old Town Library\, Knockhundred Row:geo:-0.737773,50.986647
END:VEVENT
BEGIN:VEVENT
DTSTART;TZID=Europe/London:20250502T093000
DTEND;TZID=Europe/London:20250502T110000
DTSTAMP:20260423T210133
CREATED:20250312T113448Z
LAST-MODIFIED:20260112T192207Z
UID:10000518-1746178200-1746183600@visitmidhurst.com
SUMMARY:Active Antz by Everyone Active - Soft Play for Under 5's
DESCRIPTION:
URL:https://visitmidhurst.com/event/active-antz-by-everyone-active-soft-play-for-under-5s/2025-05-02/
LOCATION:The Grange Community and Leisure Centre\, GU29 9DH
CATEGORIES:Children
ATTACH;FMTTYPE=image/png:https://visitmidhurst.com/content/uploads/2025/03/Active-ants.png
END:VEVENT
BEGIN:VEVENT
DTSTART;TZID=Europe/London:20250429T093000
DTEND;TZID=Europe/London:20250429T110000
DTSTAMP:20260423T210133
CREATED:20250312T113448Z
LAST-MODIFIED:20260112T192207Z
UID:10000517-1745919000-1745924400@visitmidhurst.com
SUMMARY:Active Antz by Everyone Active - Soft Play for Under 5's
DESCRIPTION:
URL:https://visitmidhurst.com/event/active-antz-by-everyone-active-soft-play-for-under-5s/2025-04-29/
LOCATION:The Grange Community and Leisure Centre\, GU29 9DH
CATEGORIES:Children
ATTACH;FMTTYPE=image/png:https://visitmidhurst.com/content/uploads/2025/03/Active-ants.png
END:VEVENT
BEGIN:VEVENT
DTSTART;TZID=Europe/London:20250427T100000
DTEND;TZID=Europe/London:20250427T130000
DTSTAMP:20260423T210133
CREATED:20250312T122533Z
LAST-MODIFIED:20250312T123906Z
UID:10001028-1745748000-1745758800@visitmidhurst.com
SUMMARY:Indoor Car Boot
DESCRIPTION:
URL:https://visitmidhurst.com/event/indoor-car-boot-10-00am-1-00pm/2025-04-27/
LOCATION:The Grange Community and Leisure Centre\, GU29 9DH
ATTACH;FMTTYPE=image/jpeg:https://visitmidhurst.com/content/uploads/2024/10/Advertiser-image-Grange-B_4956aa.jpg
END:VEVENT
BEGIN:VEVENT
DTSTART;TZID=Europe/London:20250425T093000
DTEND;TZID=Europe/London:20250425T110000
DTSTAMP:20260423T210133
CREATED:20250312T113448Z
LAST-MODIFIED:20260112T192207Z
UID:10000516-1745573400-1745578800@visitmidhurst.com
SUMMARY:Active Antz by Everyone Active - Soft Play for Under 5's
DESCRIPTION:
URL:https://visitmidhurst.com/event/active-antz-by-everyone-active-soft-play-for-under-5s/2025-04-25/
LOCATION:The Grange Community and Leisure Centre\, GU29 9DH
CATEGORIES:Children
ATTACH;FMTTYPE=image/png:https://visitmidhurst.com/content/uploads/2025/03/Active-ants.png
END:VEVENT
END:VCALENDAR