BEGIN:VCALENDAR
VERSION:2.0
PRODID:-//Visit Midhurst - ECPv6.15.0.1//NONSGML v1.0//EN
CALSCALE:GREGORIAN
METHOD:PUBLISH
X-WR-CALNAME:Visit Midhurst
X-ORIGINAL-URL:https://visitmidhurst.com
X-WR-CALDESC:Events for Visit Midhurst
REFRESH-INTERVAL;VALUE=DURATION:PT1H
X-Robots-Tag:noindex
X-PUBLISHED-TTL:PT1H
BEGIN:VTIMEZONE
TZID:Europe/London
BEGIN:DAYLIGHT
TZOFFSETFROM:+0000
TZOFFSETTO:+0100
TZNAME:BST
DTSTART:20250330T010000
END:DAYLIGHT
BEGIN:STANDARD
TZOFFSETFROM:+0100
TZOFFSETTO:+0000
TZNAME:GMT
DTSTART:20251026T010000
END:STANDARD
END:VTIMEZONE
BEGIN:VEVENT
DTSTART;TZID=Europe/London:20251118T093000
DTEND;TZID=Europe/London:20251118T110000
DTSTAMP:20260423T145333
CREATED:20250312T113448Z
LAST-MODIFIED:20260112T192207Z
UID:10000575-1763458200-1763463600@visitmidhurst.com
SUMMARY:Active Antz by Everyone Active - Soft Play for Under 5's
DESCRIPTION:
URL:https://visitmidhurst.com/event/active-antz-by-everyone-active-soft-play-for-under-5s/2025-11-18/
LOCATION:The Grange Community and Leisure Centre\, GU29 9DH
CATEGORIES:Children
ATTACH;FMTTYPE=image/png:https://visitmidhurst.com/content/uploads/2025/03/Active-ants.png
END:VEVENT
BEGIN:VEVENT
DTSTART;TZID=Europe/London:20251114T093000
DTEND;TZID=Europe/London:20251114T110000
DTSTAMP:20260423T145333
CREATED:20250312T113448Z
LAST-MODIFIED:20260112T192207Z
UID:10000574-1763112600-1763118000@visitmidhurst.com
SUMMARY:Active Antz by Everyone Active - Soft Play for Under 5's
DESCRIPTION:
URL:https://visitmidhurst.com/event/active-antz-by-everyone-active-soft-play-for-under-5s/2025-11-14/
LOCATION:The Grange Community and Leisure Centre\, GU29 9DH
CATEGORIES:Children
ATTACH;FMTTYPE=image/png:https://visitmidhurst.com/content/uploads/2025/03/Active-ants.png
END:VEVENT
BEGIN:VEVENT
DTSTART;TZID=Europe/London:20251111T093000
DTEND;TZID=Europe/London:20251111T110000
DTSTAMP:20260423T145333
CREATED:20250312T113448Z
LAST-MODIFIED:20260112T192207Z
UID:10000573-1762853400-1762858800@visitmidhurst.com
SUMMARY:Active Antz by Everyone Active - Soft Play for Under 5's
DESCRIPTION:
URL:https://visitmidhurst.com/event/active-antz-by-everyone-active-soft-play-for-under-5s/2025-11-11/
LOCATION:The Grange Community and Leisure Centre\, GU29 9DH
CATEGORIES:Children
ATTACH;FMTTYPE=image/png:https://visitmidhurst.com/content/uploads/2025/03/Active-ants.png
END:VEVENT
BEGIN:VEVENT
DTSTART;TZID=Europe/London:20251108T100000
DTEND;TZID=Europe/London:20251108T160000
DTSTAMP:20260423T145333
CREATED:20251016T092512Z
LAST-MODIFIED:20251016T144144Z
UID:10001039-1762596000-1762617600@visitmidhurst.com
SUMMARY:Midhurst Brocante
DESCRIPTION:
URL:https://visitmidhurst.com/event/midhurst-brocante-3/
LOCATION:The Old Town Library\, Old Town Library\, Knockhundred Row\, Midhurst\, GU29 9DQ\, United Kingdom
ATTACH;FMTTYPE=image/jpeg:https://visitmidhurst.com/content/uploads/2025/10/IMG_8195-scaled.jpeg
GEO:50.986647;-0.737773
X-APPLE-STRUCTURED-LOCATION;VALUE=URI;X-ADDRESS=The Old Town Library Old Town Library Knockhundred Row Midhurst GU29 9DQ United Kingdom;X-APPLE-RADIUS=500;X-TITLE=Old Town Library\, Knockhundred Row:geo:-0.737773,50.986647
END:VEVENT
BEGIN:VEVENT
DTSTART;TZID=Europe/London:20251107T093000
DTEND;TZID=Europe/London:20251107T110000
DTSTAMP:20260423T145333
CREATED:20250312T113448Z
LAST-MODIFIED:20260112T192207Z
UID:10000572-1762507800-1762513200@visitmidhurst.com
SUMMARY:Active Antz by Everyone Active - Soft Play for Under 5's
DESCRIPTION:
URL:https://visitmidhurst.com/event/active-antz-by-everyone-active-soft-play-for-under-5s/2025-11-07/
LOCATION:The Grange Community and Leisure Centre\, GU29 9DH
CATEGORIES:Children
ATTACH;FMTTYPE=image/png:https://visitmidhurst.com/content/uploads/2025/03/Active-ants.png
END:VEVENT
BEGIN:VEVENT
DTSTART;TZID=Europe/London:20251107T090000
DTEND;TZID=Europe/London:20251108T163000
DTSTAMP:20260423T145333
CREATED:20251016T093938Z
LAST-MODIFIED:20251016T144237Z
UID:10001041-1762506000-1762619400@visitmidhurst.com
SUMMARY:The Country Brocante Winter Fair
DESCRIPTION:
URL:https://visitmidhurst.com/event/the-country-brocante-winter-fair/
LOCATION:Cowdray Park Polo Lawns\, Midhurst\, GU290AJ
ATTACH;FMTTYPE=image/jpeg:https://visitmidhurst.com/content/uploads/2025/10/cb-pic.jpg
END:VEVENT
BEGIN:VEVENT
DTSTART;TZID=Europe/London:20251104T093000
DTEND;TZID=Europe/London:20251104T110000
DTSTAMP:20260423T145333
CREATED:20250312T113448Z
LAST-MODIFIED:20260112T192207Z
UID:10000571-1762248600-1762254000@visitmidhurst.com
SUMMARY:Active Antz by Everyone Active - Soft Play for Under 5's
DESCRIPTION:
URL:https://visitmidhurst.com/event/active-antz-by-everyone-active-soft-play-for-under-5s/2025-11-04/
LOCATION:The Grange Community and Leisure Centre\, GU29 9DH
CATEGORIES:Children
ATTACH;FMTTYPE=image/png:https://visitmidhurst.com/content/uploads/2025/03/Active-ants.png
END:VEVENT
BEGIN:VEVENT
DTSTART;TZID=Europe/London:20251031T093000
DTEND;TZID=Europe/London:20251031T110000
DTSTAMP:20260423T145333
CREATED:20250312T113448Z
LAST-MODIFIED:20260112T192207Z
UID:10000570-1761903000-1761908400@visitmidhurst.com
SUMMARY:Active Antz by Everyone Active - Soft Play for Under 5's
DESCRIPTION:
URL:https://visitmidhurst.com/event/active-antz-by-everyone-active-soft-play-for-under-5s/2025-10-31/
LOCATION:The Grange Community and Leisure Centre\, GU29 9DH
CATEGORIES:Children
ATTACH;FMTTYPE=image/png:https://visitmidhurst.com/content/uploads/2025/03/Active-ants.png
END:VEVENT
BEGIN:VEVENT
DTSTART;TZID=Europe/London:20251028T093000
DTEND;TZID=Europe/London:20251028T110000
DTSTAMP:20260423T145333
CREATED:20250312T113448Z
LAST-MODIFIED:20260112T192207Z
UID:10000569-1761643800-1761649200@visitmidhurst.com
SUMMARY:Active Antz by Everyone Active - Soft Play for Under 5's
DESCRIPTION:
URL:https://visitmidhurst.com/event/active-antz-by-everyone-active-soft-play-for-under-5s/2025-10-28/
LOCATION:The Grange Community and Leisure Centre\, GU29 9DH
CATEGORIES:Children
ATTACH;FMTTYPE=image/png:https://visitmidhurst.com/content/uploads/2025/03/Active-ants.png
END:VEVENT
BEGIN:VEVENT
DTSTART;TZID=Europe/London:20251024T093000
DTEND;TZID=Europe/London:20251024T110000
DTSTAMP:20260423T145333
CREATED:20250312T113448Z
LAST-MODIFIED:20260112T192207Z
UID:10000568-1761298200-1761303600@visitmidhurst.com
SUMMARY:Active Antz by Everyone Active - Soft Play for Under 5's
DESCRIPTION:
URL:https://visitmidhurst.com/event/active-antz-by-everyone-active-soft-play-for-under-5s/2025-10-24/
LOCATION:The Grange Community and Leisure Centre\, GU29 9DH
CATEGORIES:Children
ATTACH;FMTTYPE=image/png:https://visitmidhurst.com/content/uploads/2025/03/Active-ants.png
END:VEVENT
BEGIN:VEVENT
DTSTART;TZID=Europe/London:20251021T093000
DTEND;TZID=Europe/London:20251021T110000
DTSTAMP:20260423T145333
CREATED:20250312T113448Z
LAST-MODIFIED:20260112T192207Z
UID:10000567-1761039000-1761044400@visitmidhurst.com
SUMMARY:Active Antz by Everyone Active - Soft Play for Under 5's
DESCRIPTION:
URL:https://visitmidhurst.com/event/active-antz-by-everyone-active-soft-play-for-under-5s/2025-10-21/
LOCATION:The Grange Community and Leisure Centre\, GU29 9DH
CATEGORIES:Children
ATTACH;FMTTYPE=image/png:https://visitmidhurst.com/content/uploads/2025/03/Active-ants.png
END:VEVENT
BEGIN:VEVENT
DTSTART;TZID=Europe/London:20251017T093000
DTEND;TZID=Europe/London:20251017T110000
DTSTAMP:20260423T145333
CREATED:20250312T113448Z
LAST-MODIFIED:20260112T192207Z
UID:10000566-1760693400-1760698800@visitmidhurst.com
SUMMARY:Active Antz by Everyone Active - Soft Play for Under 5's
DESCRIPTION:
URL:https://visitmidhurst.com/event/active-antz-by-everyone-active-soft-play-for-under-5s/2025-10-17/
LOCATION:The Grange Community and Leisure Centre\, GU29 9DH
CATEGORIES:Children
ATTACH;FMTTYPE=image/png:https://visitmidhurst.com/content/uploads/2025/03/Active-ants.png
END:VEVENT
BEGIN:VEVENT
DTSTART;TZID=Europe/London:20251014T093000
DTEND;TZID=Europe/London:20251014T110000
DTSTAMP:20260423T145334
CREATED:20250312T113448Z
LAST-MODIFIED:20260112T192207Z
UID:10000565-1760434200-1760439600@visitmidhurst.com
SUMMARY:Active Antz by Everyone Active - Soft Play for Under 5's
DESCRIPTION:
URL:https://visitmidhurst.com/event/active-antz-by-everyone-active-soft-play-for-under-5s/2025-10-14/
LOCATION:The Grange Community and Leisure Centre\, GU29 9DH
CATEGORIES:Children
ATTACH;FMTTYPE=image/png:https://visitmidhurst.com/content/uploads/2025/03/Active-ants.png
END:VEVENT
BEGIN:VEVENT
DTSTART;TZID=Europe/London:20251011T090000
DTEND;TZID=Europe/London:20251011T140000
DTSTAMP:20260423T145334
CREATED:20250214T115011Z
LAST-MODIFIED:20250227T124428Z
UID:10000052-1760173200-1760191200@visitmidhurst.com
SUMMARY:Midhurst Autumn Market
DESCRIPTION:Midhurst Town Council \nSeasonal Markets 2025
URL:https://visitmidhurst.com/event/midhurst-autumn-market/
LOCATION:West Sussex
END:VEVENT
BEGIN:VEVENT
DTSTART;TZID=Europe/London:20251010T093000
DTEND;TZID=Europe/London:20251010T110000
DTSTAMP:20260423T145334
CREATED:20250312T113448Z
LAST-MODIFIED:20260112T192207Z
UID:10000564-1760088600-1760094000@visitmidhurst.com
SUMMARY:Active Antz by Everyone Active - Soft Play for Under 5's
DESCRIPTION:
URL:https://visitmidhurst.com/event/active-antz-by-everyone-active-soft-play-for-under-5s/2025-10-10/
LOCATION:The Grange Community and Leisure Centre\, GU29 9DH
CATEGORIES:Children
ATTACH;FMTTYPE=image/png:https://visitmidhurst.com/content/uploads/2025/03/Active-ants.png
END:VEVENT
BEGIN:VEVENT
DTSTART;TZID=Europe/London:20251007T093000
DTEND;TZID=Europe/London:20251007T110000
DTSTAMP:20260423T145334
CREATED:20250312T113448Z
LAST-MODIFIED:20260112T192207Z
UID:10000563-1759829400-1759834800@visitmidhurst.com
SUMMARY:Active Antz by Everyone Active - Soft Play for Under 5's
DESCRIPTION:
URL:https://visitmidhurst.com/event/active-antz-by-everyone-active-soft-play-for-under-5s/2025-10-07/
LOCATION:The Grange Community and Leisure Centre\, GU29 9DH
CATEGORIES:Children
ATTACH;FMTTYPE=image/png:https://visitmidhurst.com/content/uploads/2025/03/Active-ants.png
END:VEVENT
BEGIN:VEVENT
DTSTART;TZID=Europe/London:20251003T093000
DTEND;TZID=Europe/London:20251003T110000
DTSTAMP:20260423T145334
CREATED:20250312T113448Z
LAST-MODIFIED:20260112T192207Z
UID:10000562-1759483800-1759489200@visitmidhurst.com
SUMMARY:Active Antz by Everyone Active - Soft Play for Under 5's
DESCRIPTION:
URL:https://visitmidhurst.com/event/active-antz-by-everyone-active-soft-play-for-under-5s/2025-10-03/
LOCATION:The Grange Community and Leisure Centre\, GU29 9DH
CATEGORIES:Children
ATTACH;FMTTYPE=image/png:https://visitmidhurst.com/content/uploads/2025/03/Active-ants.png
END:VEVENT
BEGIN:VEVENT
DTSTART;TZID=Europe/London:20250930T093000
DTEND;TZID=Europe/London:20250930T110000
DTSTAMP:20260423T145334
CREATED:20250312T113448Z
LAST-MODIFIED:20260112T192207Z
UID:10000561-1759224600-1759230000@visitmidhurst.com
SUMMARY:Active Antz by Everyone Active - Soft Play for Under 5's
DESCRIPTION:
URL:https://visitmidhurst.com/event/active-antz-by-everyone-active-soft-play-for-under-5s/2025-09-30/
LOCATION:The Grange Community and Leisure Centre\, GU29 9DH
CATEGORIES:Children
ATTACH;FMTTYPE=image/png:https://visitmidhurst.com/content/uploads/2025/03/Active-ants.png
END:VEVENT
BEGIN:VEVENT
DTSTART;TZID=Europe/London:20250926T093000
DTEND;TZID=Europe/London:20250926T110000
DTSTAMP:20260423T145334
CREATED:20250312T113448Z
LAST-MODIFIED:20260112T192207Z
UID:10000560-1758879000-1758884400@visitmidhurst.com
SUMMARY:Active Antz by Everyone Active - Soft Play for Under 5's
DESCRIPTION:
URL:https://visitmidhurst.com/event/active-antz-by-everyone-active-soft-play-for-under-5s/2025-09-26/
LOCATION:The Grange Community and Leisure Centre\, GU29 9DH
CATEGORIES:Children
ATTACH;FMTTYPE=image/png:https://visitmidhurst.com/content/uploads/2025/03/Active-ants.png
END:VEVENT
BEGIN:VEVENT
DTSTART;TZID=Europe/London:20250923T093000
DTEND;TZID=Europe/London:20250923T110000
DTSTAMP:20260423T145334
CREATED:20250312T113448Z
LAST-MODIFIED:20260112T192207Z
UID:10000559-1758619800-1758625200@visitmidhurst.com
SUMMARY:Active Antz by Everyone Active - Soft Play for Under 5's
DESCRIPTION:
URL:https://visitmidhurst.com/event/active-antz-by-everyone-active-soft-play-for-under-5s/2025-09-23/
LOCATION:The Grange Community and Leisure Centre\, GU29 9DH
CATEGORIES:Children
ATTACH;FMTTYPE=image/png:https://visitmidhurst.com/content/uploads/2025/03/Active-ants.png
END:VEVENT
BEGIN:VEVENT
DTSTART;TZID=Europe/London:20250920T200000
DTEND;TZID=Europe/London:20250920T220000
DTSTAMP:20260423T145334
CREATED:20250305T115807Z
LAST-MODIFIED:20250305T115807Z
UID:10000500-1758398400-1758405600@visitmidhurst.com
SUMMARY:Epic Comedy Presents Phil Nichol\, Andy Askins and Ali Woods
DESCRIPTION:
URL:https://visitmidhurst.com/event/epic-comedy-presents-phil-nichol-andy-askins-and-ali-woods/
LOCATION:Epic Comedy\, Midhurst
END:VEVENT
BEGIN:VEVENT
DTSTART;TZID=Europe/London:20250919T093000
DTEND;TZID=Europe/London:20250919T110000
DTSTAMP:20260423T145334
CREATED:20250312T113448Z
LAST-MODIFIED:20260112T192207Z
UID:10000558-1758274200-1758279600@visitmidhurst.com
SUMMARY:Active Antz by Everyone Active - Soft Play for Under 5's
DESCRIPTION:
URL:https://visitmidhurst.com/event/active-antz-by-everyone-active-soft-play-for-under-5s/2025-09-19/
LOCATION:The Grange Community and Leisure Centre\, GU29 9DH
CATEGORIES:Children
ATTACH;FMTTYPE=image/png:https://visitmidhurst.com/content/uploads/2025/03/Active-ants.png
END:VEVENT
BEGIN:VEVENT
DTSTART;TZID=Europe/London:20250916T093000
DTEND;TZID=Europe/London:20250916T110000
DTSTAMP:20260423T145334
CREATED:20250312T113448Z
LAST-MODIFIED:20260112T192207Z
UID:10000557-1758015000-1758020400@visitmidhurst.com
SUMMARY:Active Antz by Everyone Active - Soft Play for Under 5's
DESCRIPTION:
URL:https://visitmidhurst.com/event/active-antz-by-everyone-active-soft-play-for-under-5s/2025-09-16/
LOCATION:The Grange Community and Leisure Centre\, GU29 9DH
CATEGORIES:Children
ATTACH;FMTTYPE=image/png:https://visitmidhurst.com/content/uploads/2025/03/Active-ants.png
END:VEVENT
BEGIN:VEVENT
DTSTART;TZID=Europe/London:20250912T093000
DTEND;TZID=Europe/London:20250912T110000
DTSTAMP:20260423T145334
CREATED:20250312T113448Z
LAST-MODIFIED:20260112T192207Z
UID:10000556-1757669400-1757674800@visitmidhurst.com
SUMMARY:Active Antz by Everyone Active - Soft Play for Under 5's
DESCRIPTION:
URL:https://visitmidhurst.com/event/active-antz-by-everyone-active-soft-play-for-under-5s/2025-09-12/
LOCATION:The Grange Community and Leisure Centre\, GU29 9DH
CATEGORIES:Children
ATTACH;FMTTYPE=image/png:https://visitmidhurst.com/content/uploads/2025/03/Active-ants.png
END:VEVENT
BEGIN:VEVENT
DTSTART;TZID=Europe/London:20250909T093000
DTEND;TZID=Europe/London:20250909T110000
DTSTAMP:20260423T145334
CREATED:20250312T113448Z
LAST-MODIFIED:20260112T192207Z
UID:10000555-1757410200-1757415600@visitmidhurst.com
SUMMARY:Active Antz by Everyone Active - Soft Play for Under 5's
DESCRIPTION:
URL:https://visitmidhurst.com/event/active-antz-by-everyone-active-soft-play-for-under-5s/2025-09-09/
LOCATION:The Grange Community and Leisure Centre\, GU29 9DH
CATEGORIES:Children
ATTACH;FMTTYPE=image/png:https://visitmidhurst.com/content/uploads/2025/03/Active-ants.png
END:VEVENT
BEGIN:VEVENT
DTSTART;TZID=Europe/London:20250905T093000
DTEND;TZID=Europe/London:20250905T110000
DTSTAMP:20260423T145334
CREATED:20250312T113448Z
LAST-MODIFIED:20260112T192207Z
UID:10000554-1757064600-1757070000@visitmidhurst.com
SUMMARY:Active Antz by Everyone Active - Soft Play for Under 5's
DESCRIPTION:
URL:https://visitmidhurst.com/event/active-antz-by-everyone-active-soft-play-for-under-5s/2025-09-05/
LOCATION:The Grange Community and Leisure Centre\, GU29 9DH
CATEGORIES:Children
ATTACH;FMTTYPE=image/png:https://visitmidhurst.com/content/uploads/2025/03/Active-ants.png
END:VEVENT
BEGIN:VEVENT
DTSTART;TZID=Europe/London:20250902T093000
DTEND;TZID=Europe/London:20250902T110000
DTSTAMP:20260423T145334
CREATED:20250312T113448Z
LAST-MODIFIED:20260112T192207Z
UID:10000553-1756805400-1756810800@visitmidhurst.com
SUMMARY:Active Antz by Everyone Active - Soft Play for Under 5's
DESCRIPTION:
URL:https://visitmidhurst.com/event/active-antz-by-everyone-active-soft-play-for-under-5s/2025-09-02/
LOCATION:The Grange Community and Leisure Centre\, GU29 9DH
CATEGORIES:Children
ATTACH;FMTTYPE=image/png:https://visitmidhurst.com/content/uploads/2025/03/Active-ants.png
END:VEVENT
BEGIN:VEVENT
DTSTART;TZID=Europe/London:20250830T140000
DTEND;TZID=Europe/London:20250830T190000
DTSTAMP:20260423T145334
CREATED:20250214T120758Z
LAST-MODIFIED:20250218T145049Z
UID:10000055-1756562400-1756580400@visitmidhurst.com
SUMMARY:Midhurst Summer Street Party 2025
DESCRIPTION:Midhurst Town Council \nSummer Street Party 2025
URL:https://visitmidhurst.com/event/midhurst-summer-street-party-2025/
LOCATION:West Sussex
ATTACH;FMTTYPE=image/jpeg:https://visitmidhurst.com/content/uploads/2025/02/image002.jpg
END:VEVENT
BEGIN:VEVENT
DTSTART;TZID=Europe/London:20250829T093000
DTEND;TZID=Europe/London:20250829T110000
DTSTAMP:20260423T145334
CREATED:20250312T113448Z
LAST-MODIFIED:20260112T192207Z
UID:10000552-1756459800-1756465200@visitmidhurst.com
SUMMARY:Active Antz by Everyone Active - Soft Play for Under 5's
DESCRIPTION:
URL:https://visitmidhurst.com/event/active-antz-by-everyone-active-soft-play-for-under-5s/2025-08-29/
LOCATION:The Grange Community and Leisure Centre\, GU29 9DH
CATEGORIES:Children
ATTACH;FMTTYPE=image/png:https://visitmidhurst.com/content/uploads/2025/03/Active-ants.png
END:VEVENT
BEGIN:VEVENT
DTSTART;TZID=Europe/London:20250826T093000
DTEND;TZID=Europe/London:20250826T110000
DTSTAMP:20260423T145334
CREATED:20250312T113448Z
LAST-MODIFIED:20260112T192207Z
UID:10000551-1756200600-1756206000@visitmidhurst.com
SUMMARY:Active Antz by Everyone Active - Soft Play for Under 5's
DESCRIPTION:
URL:https://visitmidhurst.com/event/active-antz-by-everyone-active-soft-play-for-under-5s/2025-08-26/
LOCATION:The Grange Community and Leisure Centre\, GU29 9DH
CATEGORIES:Children
ATTACH;FMTTYPE=image/png:https://visitmidhurst.com/content/uploads/2025/03/Active-ants.png
END:VEVENT
END:VCALENDAR