BEGIN:VCALENDAR
VERSION:2.0
PRODID:-//Visit Midhurst - ECPv6.15.0.1//NONSGML v1.0//EN
CALSCALE:GREGORIAN
METHOD:PUBLISH
X-ORIGINAL-URL:https://visitmidhurst.com
X-WR-CALDESC:Events for Visit Midhurst
REFRESH-INTERVAL;VALUE=DURATION:PT1H
X-Robots-Tag:noindex
X-PUBLISHED-TTL:PT1H
BEGIN:VTIMEZONE
TZID:Europe/London
BEGIN:DAYLIGHT
TZOFFSETFROM:+0000
TZOFFSETTO:+0100
TZNAME:BST
DTSTART:20260329T010000
END:DAYLIGHT
BEGIN:STANDARD
TZOFFSETFROM:+0100
TZOFFSETTO:+0000
TZNAME:GMT
DTSTART:20261025T010000
END:STANDARD
END:VTIMEZONE
BEGIN:VEVENT
DTSTART;TZID=Europe/London:20260207T080000
DTEND;TZID=Europe/London:20260207T170000
DTSTAMP:20260423T031004
CREATED:20260122T191548Z
LAST-MODIFIED:20260122T192728Z
UID:10001842-1770451200-1770483600@visitmidhurst.com
SUMMARY:Langham's Brewery Tour
DESCRIPTION:
URL:https://visitmidhurst.com/event/langhams-brewer-tour/2026-02-07/
LOCATION:langhams Brewer\, The Granary\, Langham Lane\,\, Lodsworth\, west sussex\, GU28 9BU\, United Kingdom
CATEGORIES:Activities
ATTACH;FMTTYPE=image/jpeg:https://visitmidhurst.com/content/uploads/2026/01/Brewer-Tour-1.jpg
END:VEVENT
BEGIN:VEVENT
DTSTART;TZID=Europe/London:20260206T203000
DTEND;TZID=Europe/London:20260206T230000
DTSTAMP:20260423T031004
CREATED:20260204T200934Z
LAST-MODIFIED:20260204T200934Z
UID:10001976-1770409800-1770418800@visitmidhurst.com
SUMMARY:Jez The Busker @ The Wheatsheaf
DESCRIPTION:Shot deals\n Double up deals\n 2 glasses of Prosecco for £10\n Buy 2 large glasses of wine & get the rest of the bottle FREE\n(Mon–Sat\, 3pm–6pm)\n Pool table – FREE every Sunday\n Darts with electronic scoreboard\n Jukebox – FREE every Saturday from 7pm\n Sky Sports & TNT\n Multiple screens + a brand new TV so you never miss the action\n\n\nGreat music\, great drinks\, great atmosphere — be great to see you \n Live at The Wheatsheaf
URL:https://visitmidhurst.com/event/jez-the-busker-the-wheatsheaf/
LOCATION:The Wheatsheaf Pub\, Wool Lane\, Midhurst\, West Sussex\, GU29 9BX\, United Kingdom
CATEGORIES:Entertainment,Music
ATTACH;FMTTYPE=image/jpeg:https://visitmidhurst.com/content/uploads/2026/01/Wheatsheaf.jpg
END:VEVENT
BEGIN:VEVENT
DTSTART;TZID=Europe/London:20260206T200000
DTEND;TZID=Europe/London:20260206T230000
DTSTAMP:20260423T031004
CREATED:20260201T225319Z
LAST-MODIFIED:20260201T225319Z
UID:10001953-1770408000-1770418800@visitmidhurst.com
SUMMARY:Fab Fug Trio play Faustinos
DESCRIPTION:Thank F……austino’s it’s February! Shake off the January shivers and and shimmy your way into February! The longest month of the year is offically over and as always we are here to help you celebrate with fantastic live music from The Fab Fug Trio
URL:https://visitmidhurst.com/event/fab-fug-trio-play-faustinos/
LOCATION:Faustino’s\, 2a North Street\, Midhurst\, West Sussex\, GU29 9DJ\, United Kingdom
CATEGORIES:Music
ATTACH;FMTTYPE=image/png:https://visitmidhurst.com/content/uploads/2026/02/fab-fug.png
END:VEVENT
BEGIN:VEVENT
DTSTART;TZID=Europe/London:20260206T200000
DTEND;TZID=Europe/London:20260206T230000
DTSTAMP:20260423T031004
CREATED:20260120T192711Z
LAST-MODIFIED:20260304T202041Z
UID:10001396-1770408000-1770418800@visitmidhurst.com
SUMMARY:First Friday's - Open Mike Nights @ The Bricks
DESCRIPTION:1st Friday of every month \nYou’ve got the talent \nYou Got The Gear \nNow you’ve got the Time and you’ve got place
URL:https://visitmidhurst.com/event/open-mike-night-the-bricks/2026-02-06/
LOCATION:The Bricklayers Arms\, Wool Lane\, Midhurst\, United Kingdom
CATEGORIES:Activities,Music
ATTACH;FMTTYPE=image/png:https://visitmidhurst.com/content/uploads/2026/01/Bricks-Cartoon.png
END:VEVENT
BEGIN:VEVENT
DTSTART;TZID=Europe/London:20260206T180000
DTEND;TZID=Europe/London:20260206T200000
DTSTAMP:20260423T031004
CREATED:20260105T200929Z
LAST-MODIFIED:20260105T201114Z
UID:10001095-1770400800-1770408000@visitmidhurst.com
SUMMARY:An evening with Black Knight Historical @ Weald & Downland Living Museum
DESCRIPTION:Experience an exclusive\, immersive evening with the ‘Black Knight Historical’ Living History Group during their residency at our Museum. \nFrom Saturday 31 January to Sunday 8 February\, the group will be living and working inside North Cray Medieval House\, recreating daily life as it may have been for the fictional Babham family in 1462. As part of their stay\, we are hosting two special evening events where guests can step inside this extraordinary medieval reconstruction. \n  \nFireside Evening Experience.\nJoin us on Tuesday 3 February or Friday 6 February for a rare opportunity to sit around the fire with the Black Knight Historical Group. Hear first-hand about their experiences living as a 15th-century household and discover what life was like during a turbulent moment in English history. \nYour evening begins at 6pm with a private visit to the Museum Gallery and a talk from our Interpretation Team. You will then be welcomed into North Cray Medieval House for an atmospheric fireside discussion\, accompanied by a warming festive mulled drink. \n  \nTickets\n£40 per person\nDates: Tuesday 3 February or Friday 6 February\nTime: 6pm – 8pm\nStrictly limited places (15 per evening)\nRecommended for adults aged 18+ \nThis is a one-of-a-kind heritage event and places will fill quickly — early booking is essential.
URL:https://visitmidhurst.com/event/an-evening-with-black-knight-historical-weald-downland-living-museum-2/
LOCATION:Weald and Downland Living Museum\, Town Lane\, Singleton\, West Sussex\, PO18 0EU\, United Kingdom
ATTACH;FMTTYPE=image/png:https://visitmidhurst.com/content/uploads/2026/01/candlemas-evening-1-scaled.png
END:VEVENT
BEGIN:VEVENT
DTSTART;TZID=Europe/London:20260206T093000
DTEND;TZID=Europe/London:20260206T110000
DTSTAMP:20260423T031004
CREATED:20250312T113448Z
LAST-MODIFIED:20260112T192207Z
UID:10000598-1770370200-1770375600@visitmidhurst.com
SUMMARY:Active Antz by Everyone Active - Soft Play for Under 5's
DESCRIPTION:
URL:https://visitmidhurst.com/event/active-antz-by-everyone-active-soft-play-for-under-5s/2026-02-06/
LOCATION:The Grange Community and Leisure Centre\, GU29 9DH
CATEGORIES:Children
ATTACH;FMTTYPE=image/png:https://visitmidhurst.com/content/uploads/2025/03/Active-ants.png
END:VEVENT
BEGIN:VEVENT
DTSTART;TZID=Europe/London:20260205T201000
DTEND;TZID=Europe/London:20260205T220000
DTSTAMP:20260423T031005
CREATED:20260203T192156Z
LAST-MODIFIED:20260203T192156Z
UID:10001958-1770322200-1770328800@visitmidhurst.com
SUMMARY:FRA vs IRE
DESCRIPTION:Watch in Midhurst at: \n\nThe Bricks\nThe Swan\nThe Wheatsheaf
URL:https://visitmidhurst.com/event/fra-vs-ire/
LOCATION:West sussex
CATEGORIES:Entertainment,Sport
ATTACH;FMTTYPE=image/jpeg:https://visitmidhurst.com/content/uploads/2026/02/6nations-2026.jpg
END:VEVENT
BEGIN:VEVENT
DTSTART;TZID=Europe/London:20260205T200000
DTEND;TZID=Europe/London:20260205T230000
DTSTAMP:20260423T031005
CREATED:20260201T225626Z
LAST-MODIFIED:20260201T225626Z
UID:10001954-1770321600-1770332400@visitmidhurst.com
SUMMARY:Quiz Night @ Faustinos
DESCRIPTION:
URL:https://visitmidhurst.com/event/quiz-night-faustinos-2/
LOCATION:Faustino’s\, 2a North Street\, Midhurst\, West Sussex\, GU29 9DJ\, United Kingdom
CATEGORIES:Activities
ATTACH;FMTTYPE=image/png:https://visitmidhurst.com/content/uploads/2026/02/Quiz-Night.png
END:VEVENT
BEGIN:VEVENT
DTSTART;TZID=Europe/London:20260205T193000
DTEND;TZID=Europe/London:20260205T220000
DTSTAMP:20260423T031005
CREATED:20260112T203444Z
LAST-MODIFIED:20260112T203444Z
UID:10001259-1770319800-1770328800@visitmidhurst.com
SUMMARY:Hamnet @ The Leconfield Hall
DESCRIPTION:After losing their son Hamnet to plague\, Agnes and William Shakespeare grapple with grief in 16th-century England. A healer\, Agnes must find strength to care for her surviving children while processing her devastating loss. \nDirector: Chloé Zhao \nWriter: Chloé Zhao\, Maggie O’Farrell \nStars: Jessie Buckley\, Paul Mescal\, Zac Wishart \nRunning time: 2hrs 5mins \nCertificate: 12A \nEVENT DETAILS \nTue 3 Feb\nDoors: 6.45pm\nFilm: 7.30pm \nTICKETS\nAdults: £11.00\nUnder 16’s: £4.00 \nDoors open 45 minutes before film starts. There will be no trailers\, films starts promptly at advertised time. \nAccessibility: Hearing Loop? YES Audio Description? NO
URL:https://visitmidhurst.com/event/hamnet-the-leconfield-hall-2/
LOCATION:Leconfield Hall\, Petworth.\, Market Square\, Petworth\, West Sussex\, GU28 0AN\, United Kingdom
ATTACH;FMTTYPE=image/png:https://visitmidhurst.com/content/uploads/2026/01/Leconfiled.png
END:VEVENT
BEGIN:VEVENT
DTSTART;TZID=Europe/London:20260205T111500
DTEND;TZID=Europe/London:20260205T234500
DTSTAMP:20260423T031005
CREATED:20260117T144543Z
LAST-MODIFIED:20260117T144845Z
UID:10001294-1770290100-1770335100@visitmidhurst.com
SUMMARY:Rhyme Time @ Midhurst Library
DESCRIPTION:Free\, no booking required.  A drop-in\, interactive\, stories and songs session\, for babies and toddlers under 5 years of age with an accompanying adult.  Held in the Midhurst library within the Grange Community Centre.
URL:https://visitmidhurst.com/event/rhyme-time-midhurst-library/2026-02-05/
LOCATION:Midhurst Library\, The Grange Leisure Centre\, Midhurst\, west Sussex\, GU29 9HD\, United Kingdom
CATEGORIES:Activities,Children,Music
ATTACH;FMTTYPE=image/png:https://visitmidhurst.com/content/uploads/2026/01/rhyme-time.png
END:VEVENT
BEGIN:VEVENT
DTSTART;TZID=Europe/London:20260205T091500
DTEND;TZID=Europe/London:20260205T133000
DTSTAMP:20260423T031005
CREATED:20260201T111309Z
LAST-MODIFIED:20260201T111309Z
UID:10001936-1770282900-1770298200@visitmidhurst.com
SUMMARY:Coat On Coat Off Wet Feet Adventures
DESCRIPTION:Chichester Channel\, Fishbourne Palace & Chichester Cathedral Circular 8.8 miles – 14.2km\nMeeting at 9.15am at Chichester Cathedral we will make our way around the Alltrails route which takes you along the banks of Chichester Channel to the outskirts of Fishbourne\, where we will pass the Fishbourne Roman Palace. We will also join the Chichester Canal and walk a section of this. The Cathedral was founded in 1075 and The Roman Palace has the oldest surviving gardens in the country as well as a large collection of beautiful mosaics. \nAfter the rain there are likely to have some rather muddy stretches of the trail so waterproof footwear is recommended. Car Parking Fees will apply and you can park in any of the car parks in Chichester and meet at the Cathedral for 9.15am to start walking at 9.30am promptly. \nAllowing 4 hours for this walk it is a new walk and a new experience so we look forward to discovering this walk together. The trail says this is one of the easier walks which hopefully means it is a relaxing flat walk. We should be able to discover toilet and refreshment facilities on the way at sections around the trail as we will go past places in Chichester as well as Chichester Marina and Dell Quay. \nMeeting Place (Useing Whatthreewords) ///movie.rotate.stack Chichester Cathedral
URL:https://visitmidhurst.com/event/coat-on-coat-off-wet-feet-adventures/
LOCATION:Chichester Cathedral\, Chichester\, West Sussex\, PO19 1PX
ATTACH;FMTTYPE=image/jpeg:https://visitmidhurst.com/content/uploads/2026/01/Coats-On.jpg
ORGANIZER;CN="Coat On Coat Off Wet Feet":MAILTO:vicki@thetalldog.co.uk
END:VEVENT
BEGIN:VEVENT
DTSTART;TZID=Europe/London:20260204T153000
DTEND;TZID=Europe/London:20260204T163000
DTSTAMP:20260423T031005
CREATED:20260117T150019Z
LAST-MODIFIED:20260117T150019Z
UID:10001345-1770219000-1770222600@visitmidhurst.com
SUMMARY:Construction Club @ Midhurst Library
DESCRIPTION:Little people with little bricks and big ideas. \nFree of charge\, drop in\, no booking required.  Age 4+ accompanied by an adult.
URL:https://visitmidhurst.com/event/construction-club-midhurst-library/2026-02-04/
LOCATION:Midhurst Library\, The Grange Leisure Centre\, Midhurst\, west Sussex\, GU29 9HD\, United Kingdom
CATEGORIES:Activities,Children
ATTACH;FMTTYPE=image/png:https://visitmidhurst.com/content/uploads/2026/01/construction-club.png
END:VEVENT
BEGIN:VEVENT
DTSTART;TZID=Europe/London:20260204T100000
DTEND;TZID=Europe/London:20260204T150000
DTSTAMP:20260423T031005
CREATED:20260122T201125Z
LAST-MODIFIED:20260122T201125Z
UID:10001859-1770199200-1770217200@visitmidhurst.com
SUMMARY:The Repair Shop: Sneak Peek Days @ Weald & Downland Museum
DESCRIPTION:For a limited time during the winter season\, visitors can take a look inside Court Barn\, where the popular series is filmed.
URL:https://visitmidhurst.com/event/the-repair-shop-sneak-peek-days-weald-downland-museum/2026-02-04/
LOCATION:Weald and Downland Living Museum\, Town Lane\, Singleton\, West Sussex\, PO18 0EU\, United Kingdom
CATEGORIES:Activities,Children
ATTACH;FMTTYPE=image/jpeg:https://visitmidhurst.com/content/uploads/2026/01/repear-shop.jpg
END:VEVENT
BEGIN:VEVENT
DTSTART;TZID=Europe/London:20260204T080000
DTEND;TZID=Europe/London:20260204T170000
DTSTAMP:20260423T031005
CREATED:20260122T185902Z
LAST-MODIFIED:20260122T185902Z
UID:10001722-1770192000-1770224400@visitmidhurst.com
SUMMARY:Langham's Brewer For a Day Experience
DESCRIPTION:
URL:https://visitmidhurst.com/event/langhams-brewer-for-a-day-experience/2026-02-04/
LOCATION:langhams Brewer\, The Granary\, Langham Lane\,\, Lodsworth\, west sussex\, GU28 9BU\, United Kingdom
CATEGORIES:Activities
ATTACH;FMTTYPE=image/png:https://visitmidhurst.com/content/uploads/2026/01/Langhams.png
END:VEVENT
BEGIN:VEVENT
DTSTART;TZID=Europe/London:20260203T193000
DTEND;TZID=Europe/London:20260203T220000
DTSTAMP:20260423T031005
CREATED:20260112T203404Z
LAST-MODIFIED:20260112T203404Z
UID:10001258-1770147000-1770156000@visitmidhurst.com
SUMMARY:Hamnet @ The Leconfield Hall
DESCRIPTION:After losing their son Hamnet to plague\, Agnes and William Shakespeare grapple with grief in 16th-century England. A healer\, Agnes must find strength to care for her surviving children while processing her devastating loss. \nDirector: Chloé Zhao \nWriter: Chloé Zhao\, Maggie O’Farrell \nStars: Jessie Buckley\, Paul Mescal\, Zac Wishart \nRunning time: 2hrs 5mins \nCertificate: 12A \nEVENT DETAILS \nTue 3 Feb\nDoors: 6.45pm\nFilm: 7.30pm \nTICKETS\nAdults: £11.00\nUnder 16’s: £4.00 \nDoors open 45 minutes before film starts. There will be no trailers\, films starts promptly at advertised time. \nAccessibility: Hearing Loop? YES Audio Description? NO
URL:https://visitmidhurst.com/event/hamnet-the-leconfield-hall/
LOCATION:Leconfield Hall\, Petworth.\, Market Square\, Petworth\, West Sussex\, GU28 0AN\, United Kingdom
ATTACH;FMTTYPE=image/png:https://visitmidhurst.com/content/uploads/2026/01/Leconfiled.png
END:VEVENT
BEGIN:VEVENT
DTSTART;TZID=Europe/London:20260203T180000
DTEND;TZID=Europe/London:20260203T200000
DTSTAMP:20260423T031005
CREATED:20260105T200907Z
LAST-MODIFIED:20260105T201042Z
UID:10001094-1770141600-1770148800@visitmidhurst.com
SUMMARY:An evening with Black Knight Historical @ Weald & Downland Living Museum
DESCRIPTION:Experience an exclusive\, immersive evening with the ‘Black Knight Historical’ Living History Group during their residency at our Museum. \nFrom Saturday 31 January to Sunday 8 February\, the group will be living and working inside North Cray Medieval House\, recreating daily life as it may have been for the fictional Babham family in 1462. As part of their stay\, we are hosting two special evening events where guests can step inside this extraordinary medieval reconstruction. \n  \nFireside Evening Experience.\nJoin us on Tuesday 3 February or Friday 6 February for a rare opportunity to sit around the fire with the Black Knight Historical Group. Hear first-hand about their experiences living as a 15th-century household and discover what life was like during a turbulent moment in English history. \nYour evening begins at 6pm with a private visit to the Museum Gallery and a talk from our Interpretation Team. You will then be welcomed into North Cray Medieval House for an atmospheric fireside discussion\, accompanied by a warming festive mulled drink. \n  \nTickets\n£40 per person\nDates: Tuesday 3 February or Friday 6 February\nTime: 6pm – 8pm\nStrictly limited places (15 per evening)\nRecommended for adults aged 18+ \nThis is a one-of-a-kind heritage event and places will fill quickly — early booking is essential.
URL:https://visitmidhurst.com/event/an-evening-with-black-knight-historical-weald-downland-living-museum/
LOCATION:Weald and Downland Living Museum\, Town Lane\, Singleton\, West Sussex\, PO18 0EU\, United Kingdom
ATTACH;FMTTYPE=image/png:https://visitmidhurst.com/content/uploads/2026/01/candlemas-evening-1-scaled.png
END:VEVENT
BEGIN:VEVENT
DTSTART;TZID=Europe/London:20260203T164500
DTEND;TZID=Europe/London:20260203T180000
DTSTAMP:20260423T031005
CREATED:20260120T200055Z
LAST-MODIFIED:20260120T200113Z
UID:10001457-1770137100-1770141600@visitmidhurst.com
SUMMARY:South Downs Sing Squad: Community Choir
DESCRIPTION:A new Community Choir has just launched for all in years 3-8 who love to sing.\n\n\n\nCome along on Tuesday afternoons at 1645 to Midhurst Parish Church* to sing with the South Downs Sing Squad!— at Midhurst Parish Church.\n\n\nTerm Time Only
URL:https://visitmidhurst.com/event/south-downs-sing-squad-community-choir/2026-02-03/
LOCATION:Midhurst Parish Church\, Sheep Lane\, Midhurst\, West Sussex\, GU29 9NT\, United Kingdom
CATEGORIES:Activities,Children,Music
ATTACH;FMTTYPE=image/png:https://visitmidhurst.com/content/uploads/2026/01/20260120_193350000_iOS.png
END:VEVENT
BEGIN:VEVENT
DTSTART;TZID=Europe/London:20260203T093000
DTEND;TZID=Europe/London:20260203T110000
DTSTAMP:20260423T031005
CREATED:20250312T113448Z
LAST-MODIFIED:20260112T192207Z
UID:10000597-1770111000-1770116400@visitmidhurst.com
SUMMARY:Active Antz by Everyone Active - Soft Play for Under 5's
DESCRIPTION:
URL:https://visitmidhurst.com/event/active-antz-by-everyone-active-soft-play-for-under-5s/2026-02-03/
LOCATION:The Grange Community and Leisure Centre\, GU29 9DH
CATEGORIES:Children
ATTACH;FMTTYPE=image/png:https://visitmidhurst.com/content/uploads/2025/03/Active-ants.png
END:VEVENT
BEGIN:VEVENT
DTSTART;TZID=Europe/London:20260201T140000
DTEND;TZID=Europe/London:20260201T180000
DTSTAMP:20260423T031005
CREATED:20260116T134931Z
LAST-MODIFIED:20260116T142524Z
UID:10001269-1769954400-1769968800@visitmidhurst.com
SUMMARY:Midhurst RC Truck Bash
DESCRIPTION:We hold a once-a-month meeting in Midhurst at the Methodist Church hall on the first Sunday of the month.  We supply a road layout\, you bring your truck!   It’s £10 per driver or you can come and watch for free.  Anyone is welcome\, and it’s as simple as that – it’s 4 hours of trucking fun.
URL:https://visitmidhurst.com/event/midhurst-rc-truck-bash/2026-02-01/
LOCATION:Methodist Church Hall\, North Street\, Midhurst\, West Sussex\, GU29 9DU\, United Kingdom
CATEGORIES:Activities
ATTACH;FMTTYPE=image/jpeg:https://visitmidhurst.com/content/uploads/2026/01/Trucking.jpg
END:VEVENT
BEGIN:VEVENT
DTSTART;TZID=Europe/London:20260131T200000
DTEND;TZID=Europe/London:20260131T230000
DTSTAMP:20260423T031005
CREATED:20260121T104141Z
LAST-MODIFIED:20260121T105824Z
UID:10001716-1769889600-1769900400@visitmidhurst.com
SUMMARY:Emma Marshall plays Pop\, Soul\, Motown @ The Bricks
DESCRIPTION:
URL:https://visitmidhurst.com/event/emma-marshall-play-pop-soul-motown-the-bricks/
LOCATION:The Bricklayers Arms\, Wool Lane\, Midhurst\, United Kingdom
CATEGORIES:Music
ATTACH;FMTTYPE=image/png:https://visitmidhurst.com/content/uploads/2026/01/Bricks-Cartoon.png
END:VEVENT
BEGIN:VEVENT
DTSTART;TZID=Europe/London:20260131T183000
DTEND;TZID=Europe/London:20260131T220000
DTSTAMP:20260423T031005
CREATED:20260106T184137Z
LAST-MODIFIED:20260106T184439Z
UID:10001101-1769884200-1769896800@visitmidhurst.com
SUMMARY:January Evening Dining: The Estate Table @ Cowdray
DESCRIPTION:
URL:https://visitmidhurst.com/event/january-evening-dining-the-estate-table-cowdray/
LOCATION:Cowdray Cafe\, Easebourne\, West Sussex\, GU29 0AJ\, United Kingdom
ATTACH;FMTTYPE=image/jpeg:https://visitmidhurst.com/content/uploads/2026/01/Cowdray.jpg
END:VEVENT
BEGIN:VEVENT
DTSTART;TZID=Europe/London:20260131T100000
DTEND;TZID=Europe/London:20260131T150000
DTSTAMP:20260423T031005
CREATED:20260122T201125Z
LAST-MODIFIED:20260122T201125Z
UID:10001858-1769853600-1769871600@visitmidhurst.com
SUMMARY:The Repair Shop: Sneak Peek Days @ Weald & Downland Museum
DESCRIPTION:For a limited time during the winter season\, visitors can take a look inside Court Barn\, where the popular series is filmed.
URL:https://visitmidhurst.com/event/the-repair-shop-sneak-peek-days-weald-downland-museum/2026-01-31/
LOCATION:Weald and Downland Living Museum\, Town Lane\, Singleton\, West Sussex\, PO18 0EU\, United Kingdom
CATEGORIES:Activities,Children
ATTACH;FMTTYPE=image/jpeg:https://visitmidhurst.com/content/uploads/2026/01/repear-shop.jpg
END:VEVENT
BEGIN:VEVENT
DTSTART;VALUE=DATE:20260131
DTEND;VALUE=DATE:20260209
DTSTAMP:20260423T031005
CREATED:20260105T200039Z
LAST-MODIFIED:20260105T200039Z
UID:10001093-1769817600-1770595199@visitmidhurst.com
SUMMARY:Living History: Candlemas Residency @ Weald & Downland Living Museum
DESCRIPTION:Step back in time this winter as we welcome back the Black Knight Historical Living History Team for their second Candlemas Residency at the Museum. This immersive medieval living history experience offers visitors a rare glimpse into life during the 15th century\, as people endured the long\, cold winter months while looking forward to spring’s return. \n  \nLiving in the Past at North Cray Medieval House\nFor nine days\, the Black Knight team will inhabit North Cray Medieval House\, dressing and furnishing it as it may have appeared in 1462. They will demonstrate how a late medieval household survived winter\, when the sun is low\, the cold creeps into your bones\, and yet\, daily work must go on. \nVisitors can watch as the team: \n\nCooks\, sleeps\, and lives authentically within the house.\nUndertakes winter tasks such as mending\, ditch digging\, and hedge cutting.\nPerforms daily prayers and observes medieval feast days.\nDemonstrates crafts and skills used to keep homes running through the harsh winter.\n\nThe group will “detox” from modern technology\, focusing instead on wellbeing through rhythm\, reflection\, and faith\, just as our ancestors might have done during the darker months.
URL:https://visitmidhurst.com/event/living-history-candlemas-residency-weald-downland-living-museum/
LOCATION:Weald and Downland Living Museum\, Town Lane\, Singleton\, West Sussex\, PO18 0EU\, United Kingdom
CATEGORIES:Music
ATTACH;FMTTYPE=image/png:https://visitmidhurst.com/content/uploads/2026/01/candlemas2-scaled.png
END:VEVENT
BEGIN:VEVENT
DTSTART;TZID=Europe/London:20260130T204500
DTEND;TZID=Europe/London:20260130T223000
DTSTAMP:20260423T031005
CREATED:20260103T140951Z
LAST-MODIFIED:20260103T140951Z
UID:10001050-1769805900-1769812200@visitmidhurst.com
SUMMARY:Rylee Spooner plays live at The Wheatsheaf
DESCRIPTION:@ryleespoonermusic
URL:https://visitmidhurst.com/event/rylee-spooner-plays-live-at-the-wheatsheaf/
LOCATION:The Wheatsheaf Pub\, Wool Lane\, Midhurst\, West Sussex\, GU29 9BX\, United Kingdom
CATEGORIES:Music
ATTACH;FMTTYPE=image/jpeg:https://visitmidhurst.com/content/uploads/2026/01/Wheatsheaf.jpg
END:VEVENT
BEGIN:VEVENT
DTSTART;TZID=Europe/London:20260130T093000
DTEND;TZID=Europe/London:20260130T110000
DTSTAMP:20260423T031005
CREATED:20250312T113448Z
LAST-MODIFIED:20260112T192207Z
UID:10000596-1769765400-1769770800@visitmidhurst.com
SUMMARY:Active Antz by Everyone Active - Soft Play for Under 5's
DESCRIPTION:
URL:https://visitmidhurst.com/event/active-antz-by-everyone-active-soft-play-for-under-5s/2026-01-30/
LOCATION:The Grange Community and Leisure Centre\, GU29 9DH
CATEGORIES:Children
ATTACH;FMTTYPE=image/png:https://visitmidhurst.com/content/uploads/2025/03/Active-ants.png
END:VEVENT
BEGIN:VEVENT
DTSTART;TZID=Europe/London:20260129T120000
DTEND;TZID=Europe/London:20260129T130000
DTSTAMP:20260423T031005
CREATED:20260106T183152Z
LAST-MODIFIED:20260106T183536Z
UID:10001100-1769688000-1769691600@visitmidhurst.com
SUMMARY:Lunch and learn: Supplements – Shortcut or Support? @ Cowdray
DESCRIPTION:
URL:https://visitmidhurst.com/event/lunch-and-learn-supplements-shortcut-or-support-cowdray/
LOCATION:Cowdray Hall\, Parkway\, Easebourne\, West Sussex\, GU29 0AW\, United Kingdom
ATTACH;FMTTYPE=image/jpeg:https://visitmidhurst.com/content/uploads/2026/01/Cowdray.jpg
END:VEVENT
BEGIN:VEVENT
DTSTART;TZID=Europe/London:20260129T111500
DTEND;TZID=Europe/London:20260129T234500
DTSTAMP:20260423T031005
CREATED:20260117T144543Z
LAST-MODIFIED:20260117T144845Z
UID:10001293-1769685300-1769730300@visitmidhurst.com
SUMMARY:Rhyme Time @ Midhurst Library
DESCRIPTION:Free\, no booking required.  A drop-in\, interactive\, stories and songs session\, for babies and toddlers under 5 years of age with an accompanying adult.  Held in the Midhurst library within the Grange Community Centre.
URL:https://visitmidhurst.com/event/rhyme-time-midhurst-library/2026-01-29/
LOCATION:Midhurst Library\, The Grange Leisure Centre\, Midhurst\, west Sussex\, GU29 9HD\, United Kingdom
CATEGORIES:Activities,Children,Music
ATTACH;FMTTYPE=image/png:https://visitmidhurst.com/content/uploads/2026/01/rhyme-time.png
END:VEVENT
BEGIN:VEVENT
DTSTART;TZID=Europe/London:20260128T200000
DTEND;TZID=Europe/London:20260128T230000
DTSTAMP:20260423T031005
CREATED:20260116T133800Z
LAST-MODIFIED:20260116T133800Z
UID:10001268-1769630400-1769641200@visitmidhurst.com
SUMMARY:Open Mike Night @ Faustino's
DESCRIPTION:
URL:https://visitmidhurst.com/event/open-mike-night-faustinos/
LOCATION:Faustino’s\, 2a North Street\, Midhurst\, West Sussex\, GU29 9DJ\, United Kingdom
CATEGORIES:Activities,Music
ATTACH;FMTTYPE=image/jpeg:https://visitmidhurst.com/content/uploads/2025/12/faustions.jpg
END:VEVENT
BEGIN:VEVENT
DTSTART;TZID=Europe/London:20260128T193000
DTEND;TZID=Europe/London:20260128T220000
DTSTAMP:20260423T031005
CREATED:20260112T203110Z
LAST-MODIFIED:20260112T203110Z
UID:10001257-1769628600-1769637600@visitmidhurst.com
SUMMARY:Marty Supreme (Film) @ The Leconfield Hall
DESCRIPTION:Marty Mauser\, a young man with a dream no one respects\, goes to hell and back in pursuit of greatness. \nDirector: Josh Safdie \nWriter: Josh Safdie\, Ronald Bronstein \nStars: Timothée Chalamet\, Gwyneth Paltrow\, Odessa A’zion \nRunning time: 2hrs 29mins \nCertificate: 15 \nEVENT DETAILS \nWed 28 Jan\nDoors: 6.45pm\nFilm: 7.30pm \nTICKETS\nAdults: £11.00\nUnder 16’s: £4.00 \nDoors open 45 minutes before film starts. There will be no trailers\, films starts promptly at advertised time. \nAccessibility: Hearing Loop? YES Audio Description? NO
URL:https://visitmidhurst.com/event/marty-supreme-film-the-leconfield-hall/
LOCATION:Leconfield Hall\, Petworth.\, Market Square\, Petworth\, West Sussex\, GU28 0AN\, United Kingdom
ATTACH;FMTTYPE=image/png:https://visitmidhurst.com/content/uploads/2026/01/Leconfiled.png
END:VEVENT
BEGIN:VEVENT
DTSTART;TZID=Europe/London:20260128T153000
DTEND;TZID=Europe/London:20260128T163000
DTSTAMP:20260423T031005
CREATED:20260117T150019Z
LAST-MODIFIED:20260117T150019Z
UID:10001344-1769614200-1769617800@visitmidhurst.com
SUMMARY:Construction Club @ Midhurst Library
DESCRIPTION:Little people with little bricks and big ideas. \nFree of charge\, drop in\, no booking required.  Age 4+ accompanied by an adult.
URL:https://visitmidhurst.com/event/construction-club-midhurst-library/2026-01-28/
LOCATION:Midhurst Library\, The Grange Leisure Centre\, Midhurst\, west Sussex\, GU29 9HD\, United Kingdom
CATEGORIES:Activities,Children
ATTACH;FMTTYPE=image/png:https://visitmidhurst.com/content/uploads/2026/01/construction-club.png
END:VEVENT
END:VCALENDAR