BEGIN:VCALENDAR
VERSION:2.0
PRODID:-//Visit Midhurst - ECPv6.15.0.1//NONSGML v1.0//EN
CALSCALE:GREGORIAN
METHOD:PUBLISH
X-WR-CALNAME:Visit Midhurst
X-ORIGINAL-URL:https://visitmidhurst.com
X-WR-CALDESC:Events for Visit Midhurst
REFRESH-INTERVAL;VALUE=DURATION:PT1H
X-Robots-Tag:noindex
X-PUBLISHED-TTL:PT1H
BEGIN:VTIMEZONE
TZID:Europe/London
BEGIN:DAYLIGHT
TZOFFSETFROM:+0000
TZOFFSETTO:+0100
TZNAME:BST
DTSTART:20260329T010000
END:DAYLIGHT
BEGIN:STANDARD
TZOFFSETFROM:+0100
TZOFFSETTO:+0000
TZNAME:GMT
DTSTART:20261025T010000
END:STANDARD
END:VTIMEZONE
BEGIN:VEVENT
DTSTART;TZID=Europe/London:20260721T200000
DTEND;TZID=Europe/London:20260721T230000
DTSTAMP:20260424T235620
CREATED:20260116T140626Z
LAST-MODIFIED:20260116T140853Z
UID:10001286-1784664000-1784674800@visitmidhurst.com
SUMMARY:Pub Quiz Night @ The Greyhound
DESCRIPTION:
URL:https://visitmidhurst.com/event/pub-quiz-night-the-greyhound/2026-07-21/
LOCATION:Greyhound Pub\, Cocking Causeway\, Midhurst\, West Sussex\, GU29 9QH
CATEGORIES:Activities
ATTACH;FMTTYPE=image/png:https://visitmidhurst.com/content/uploads/2026/01/Greyhound-2.png
ORGANIZER;CN="The Greyhound Pub":MAILTO:info@thegreyhoundpub.com
END:VEVENT
BEGIN:VEVENT
DTSTART;TZID=Europe/London:20260722T153000
DTEND;TZID=Europe/London:20260722T163000
DTSTAMP:20260424T235620
CREATED:20260117T150019Z
LAST-MODIFIED:20260117T150019Z
UID:10001369-1784734200-1784737800@visitmidhurst.com
SUMMARY:Construction Club @ Midhurst Library
DESCRIPTION:Little people with little bricks and big ideas. \nFree of charge\, drop in\, no booking required.  Age 4+ accompanied by an adult.
URL:https://visitmidhurst.com/event/construction-club-midhurst-library/2026-07-22/
LOCATION:Midhurst Library\, The Grange Leisure Centre\, Midhurst\, west Sussex\, GU29 9HD\, United Kingdom
CATEGORIES:Activities,Children
ATTACH;FMTTYPE=image/png:https://visitmidhurst.com/content/uploads/2026/01/construction-club.png
END:VEVENT
BEGIN:VEVENT
DTSTART;TZID=Europe/London:20260723T111500
DTEND;TZID=Europe/London:20260723T234500
DTSTAMP:20260424T235620
CREATED:20260117T144543Z
LAST-MODIFIED:20260117T144845Z
UID:10001318-1784805300-1784850300@visitmidhurst.com
SUMMARY:Rhyme Time @ Midhurst Library
DESCRIPTION:Free\, no booking required.  A drop-in\, interactive\, stories and songs session\, for babies and toddlers under 5 years of age with an accompanying adult.  Held in the Midhurst library within the Grange Community Centre.
URL:https://visitmidhurst.com/event/rhyme-time-midhurst-library/2026-07-23/
LOCATION:Midhurst Library\, The Grange Leisure Centre\, Midhurst\, west Sussex\, GU29 9HD\, United Kingdom
CATEGORIES:Activities,Children,Music
ATTACH;FMTTYPE=image/png:https://visitmidhurst.com/content/uploads/2026/01/rhyme-time.png
END:VEVENT
BEGIN:VEVENT
DTSTART;TZID=Europe/London:20260724T093000
DTEND;TZID=Europe/London:20260724T110000
DTSTAMP:20260424T235620
CREATED:20250312T113448Z
LAST-MODIFIED:20260112T192207Z
UID:10000646-1784885400-1784890800@visitmidhurst.com
SUMMARY:Active Antz by Everyone Active - Soft Play for Under 5's
DESCRIPTION:
URL:https://visitmidhurst.com/event/active-antz-by-everyone-active-soft-play-for-under-5s/2026-07-24/
LOCATION:The Grange Community and Leisure Centre\, GU29 9DH
CATEGORIES:Children
ATTACH;FMTTYPE=image/png:https://visitmidhurst.com/content/uploads/2025/03/Active-ants.png
END:VEVENT
BEGIN:VEVENT
DTSTART;TZID=Europe/London:20260725T200000
DTEND;TZID=Europe/London:20260725T230000
DTSTAMP:20260424T235620
CREATED:20260225T231619Z
LAST-MODIFIED:20260225T231619Z
UID:10002064-1785009600-1785020400@visitmidhurst.com
SUMMARY:Straw Dogs: Irish Folk Band
DESCRIPTION:The Three Moles\, Selham\, GU28 0PN. All events are free entry. \nNo tickets or bookings required. No under 12s at any time. No under 18s past 9pm.
URL:https://visitmidhurst.com/event/straw-dogs-irish-folk-band/
LOCATION:Three Moles\, Selham\, West Sussex\, GU28 0PN\, United Kingdom
CATEGORIES:Entertainment,Music
ATTACH;FMTTYPE=image/jpeg:https://visitmidhurst.com/content/uploads/2026/02/Irish-Folk.jpg
ORGANIZER;CN="The Three Moles":MAILTO:contact@thethreemoles.co.uk
END:VEVENT
BEGIN:VEVENT
DTSTART;TZID=Europe/London:20260726T080000
DTEND;TZID=Europe/London:20260726T110000
DTSTAMP:20260424T235620
CREATED:20260125T125611Z
LAST-MODIFIED:20260125T125611Z
UID:10001878-1785052800-1785063600@visitmidhurst.com
SUMMARY:Land Rover Social @ The Royal Oak
DESCRIPTION:A regular meet in the Car park of The Royal Oak for Land Rover Enthusiasts
URL:https://visitmidhurst.com/event/land-rover-social-the-royal-oak/2026-07-26/
LOCATION:Royal Oak\, Oaklands Lane\, Midhurst\, West Sussex\, GU29 0EP\, United Kingdom
CATEGORIES:Activities
ATTACH;FMTTYPE=image/png:https://visitmidhurst.com/content/uploads/2026/01/Landrover.png
END:VEVENT
BEGIN:VEVENT
DTSTART;TZID=Europe/London:20260726T190000
DTEND;TZID=Europe/London:20260726T210000
DTSTAMP:20260424T235620
CREATED:20260225T232101Z
LAST-MODIFIED:20260227T230718Z
UID:10002136-1785092400-1785099600@visitmidhurst.com
SUMMARY:Blues Night @ The Three Moles
DESCRIPTION:The Three Moles\, Selham\, GU28 0PN. All events are free entry. \nNo tickets or bookings required. No under 12s at any time. No under 18s past 9pm.
URL:https://visitmidhurst.com/event/absolutely-dragulous-show-2/2026-07-26/
LOCATION:Three Moles\, Selham\, West Sussex\, GU28 0PN\, United Kingdom
CATEGORIES:Entertainment,Music
ATTACH;FMTTYPE=image/jpeg:https://visitmidhurst.com/content/uploads/2026/02/Blues-Jam-Psychadelic-Hearts-Club.jpg
ORGANIZER;CN="The Three Moles":MAILTO:contact@thethreemoles.co.uk
END:VEVENT
BEGIN:VEVENT
DTSTART;TZID=Europe/London:20260727T200000
DTEND;TZID=Europe/London:20260727T230000
DTSTAMP:20260424T235620
CREATED:20260415T183853Z
LAST-MODIFIED:20260415T193319Z
UID:10003009-1785182400-1785193200@visitmidhurst.com
SUMMARY:Snooker Tournament
DESCRIPTION:
URL:https://visitmidhurst.com/event/snooker-tournament/2026-07-27/
LOCATION:midhurst club\, 47a North Street\, Midhurst\, West sussex\, GU29 9DR\, United Kingdom
CATEGORIES:Activities
ATTACH;FMTTYPE=image/jpeg:https://visitmidhurst.com/content/uploads/2026/04/snooker.jpg
END:VEVENT
BEGIN:VEVENT
DTSTART;VALUE=DATE:20260728
DTEND;VALUE=DATE:20260802
DTSTAMP:20260424T235620
CREATED:20260108T234801Z
LAST-MODIFIED:20260108T234801Z
UID:10001152-1785196800-1785628799@visitmidhurst.com
SUMMARY:Qatar Goodwood Festival 'Glorious Goodwood'
DESCRIPTION:The world famous five-day festival\, affectionately known as ‘Glorious Goodwood’\, is one of the undisputed highlights of the British flat racing season. It’s a social and sporting occasion like no other\, where some of the greatest stars in horse racing are crowned.
URL:https://visitmidhurst.com/event/qatar-goodwood-festival-glorious-goodwood/
LOCATION:Goodwood Racecourse\, Selhurstpark Rd\, Chichester\, West Sussex\, PO18 0PS\, United Kingdom
CATEGORIES:Children,Music,Shopping,Sport
ATTACH;FMTTYPE=image/png:https://visitmidhurst.com/content/uploads/2026/01/GW-Festival.png
ORGANIZER;CN="Goodwood Racecourse":MAILTO:ticket.office@goodwood.com
END:VEVENT
BEGIN:VEVENT
DTSTART;TZID=Europe/London:20260728T093000
DTEND;TZID=Europe/London:20260728T110000
DTSTAMP:20260424T235620
CREATED:20250312T113448Z
LAST-MODIFIED:20260112T192207Z
UID:10000647-1785231000-1785236400@visitmidhurst.com
SUMMARY:Active Antz by Everyone Active - Soft Play for Under 5's
DESCRIPTION:
URL:https://visitmidhurst.com/event/active-antz-by-everyone-active-soft-play-for-under-5s/2026-07-28/
LOCATION:The Grange Community and Leisure Centre\, GU29 9DH
CATEGORIES:Children
ATTACH;FMTTYPE=image/png:https://visitmidhurst.com/content/uploads/2025/03/Active-ants.png
END:VEVENT
BEGIN:VEVENT
DTSTART;TZID=Europe/London:20260728T164500
DTEND;TZID=Europe/London:20260728T180000
DTSTAMP:20260424T235620
CREATED:20260120T200055Z
LAST-MODIFIED:20260120T200113Z
UID:10001482-1785257100-1785261600@visitmidhurst.com
SUMMARY:South Downs Sing Squad: Community Choir
DESCRIPTION:A new Community Choir has just launched for all in years 3-8 who love to sing.\n\n\n\nCome along on Tuesday afternoons at 1645 to Midhurst Parish Church* to sing with the South Downs Sing Squad!— at Midhurst Parish Church.\n\n\nTerm Time Only
URL:https://visitmidhurst.com/event/south-downs-sing-squad-community-choir/2026-07-28/
LOCATION:Midhurst Parish Church\, Sheep Lane\, Midhurst\, West Sussex\, GU29 9NT\, United Kingdom
CATEGORIES:Activities,Children,Music
ATTACH;FMTTYPE=image/png:https://visitmidhurst.com/content/uploads/2026/01/20260120_193350000_iOS.png
END:VEVENT
BEGIN:VEVENT
DTSTART;TZID=Europe/London:20260729T153000
DTEND;TZID=Europe/London:20260729T163000
DTSTAMP:20260424T235620
CREATED:20260117T150019Z
LAST-MODIFIED:20260117T150019Z
UID:10001370-1785339000-1785342600@visitmidhurst.com
SUMMARY:Construction Club @ Midhurst Library
DESCRIPTION:Little people with little bricks and big ideas. \nFree of charge\, drop in\, no booking required.  Age 4+ accompanied by an adult.
URL:https://visitmidhurst.com/event/construction-club-midhurst-library/2026-07-29/
LOCATION:Midhurst Library\, The Grange Leisure Centre\, Midhurst\, west Sussex\, GU29 9HD\, United Kingdom
CATEGORIES:Activities,Children
ATTACH;FMTTYPE=image/png:https://visitmidhurst.com/content/uploads/2026/01/construction-club.png
END:VEVENT
BEGIN:VEVENT
DTSTART;TZID=Europe/London:20260729T200000
DTEND;TZID=Europe/London:20260729T230000
DTSTAMP:20260424T235620
CREATED:20260304T192321Z
LAST-MODIFIED:20260415T185936Z
UID:10002266-1785355200-1785366000@visitmidhurst.com
SUMMARY:Open Mike Night @ Faustino's
DESCRIPTION:
URL:https://visitmidhurst.com/event/open-mike-night-faustinos-2/2026-07-29/
LOCATION:Faustino’s\, 2a North Street\, Midhurst\, West Sussex\, GU29 9DJ\, United Kingdom
CATEGORIES:Activities
ATTACH;FMTTYPE=image/png:https://visitmidhurst.com/content/uploads/2026/03/open-Mike.png
END:VEVENT
BEGIN:VEVENT
DTSTART;TZID=Europe/London:20260730T111500
DTEND;TZID=Europe/London:20260730T234500
DTSTAMP:20260424T235620
CREATED:20260117T144543Z
LAST-MODIFIED:20260117T144845Z
UID:10001319-1785410100-1785455100@visitmidhurst.com
SUMMARY:Rhyme Time @ Midhurst Library
DESCRIPTION:Free\, no booking required.  A drop-in\, interactive\, stories and songs session\, for babies and toddlers under 5 years of age with an accompanying adult.  Held in the Midhurst library within the Grange Community Centre.
URL:https://visitmidhurst.com/event/rhyme-time-midhurst-library/2026-07-30/
LOCATION:Midhurst Library\, The Grange Leisure Centre\, Midhurst\, west Sussex\, GU29 9HD\, United Kingdom
CATEGORIES:Activities,Children,Music
ATTACH;FMTTYPE=image/png:https://visitmidhurst.com/content/uploads/2026/01/rhyme-time.png
END:VEVENT
BEGIN:VEVENT
DTSTART;TZID=Europe/London:20260731T093000
DTEND;TZID=Europe/London:20260731T110000
DTSTAMP:20260424T235620
CREATED:20250312T113448Z
LAST-MODIFIED:20260112T192207Z
UID:10000648-1785490200-1785495600@visitmidhurst.com
SUMMARY:Active Antz by Everyone Active - Soft Play for Under 5's
DESCRIPTION:
URL:https://visitmidhurst.com/event/active-antz-by-everyone-active-soft-play-for-under-5s/2026-07-31/
LOCATION:The Grange Community and Leisure Centre\, GU29 9DH
CATEGORIES:Children
ATTACH;FMTTYPE=image/png:https://visitmidhurst.com/content/uploads/2025/03/Active-ants.png
END:VEVENT
BEGIN:VEVENT
DTSTART;TZID=Europe/London:20260731T180000
DTEND;TZID=Europe/London:20260731T200000
DTSTAMP:20260424T235620
CREATED:20260409T060420Z
LAST-MODIFIED:20260409T060420Z
UID:10002600-1785520800-1785528000@visitmidhurst.com
SUMMARY:The Wife: Outdoor Theatre
DESCRIPTION:
URL:https://visitmidhurst.com/event/the-wife-outdoor-theatre/
LOCATION:Stedham Sports Pavillion\, The Street\, Stedham\, West sussex\, GU29 0NQ\, United Kingdom
CATEGORIES:Entertainment
ATTACH;FMTTYPE=image/jpeg:https://visitmidhurst.com/content/uploads/2026/04/the-wife.jpg
END:VEVENT
BEGIN:VEVENT
DTSTART;TZID=Europe/London:20260801T080000
DTEND;TZID=Europe/London:20260801T170000
DTSTAMP:20260424T235620
CREATED:20260122T191548Z
LAST-MODIFIED:20260122T192728Z
UID:10001848-1785571200-1785603600@visitmidhurst.com
SUMMARY:Langham's Brewery Tour
DESCRIPTION:
URL:https://visitmidhurst.com/event/langhams-brewer-tour/2026-08-01/
LOCATION:langhams Brewer\, The Granary\, Langham Lane\,\, Lodsworth\, west sussex\, GU28 9BU\, United Kingdom
CATEGORIES:Activities
ATTACH;FMTTYPE=image/jpeg:https://visitmidhurst.com/content/uploads/2026/01/Brewer-Tour-1.jpg
END:VEVENT
BEGIN:VEVENT
DTSTART;TZID=Europe/London:20260801T193000
DTEND;TZID=Europe/London:20260801T230000
DTSTAMP:20260424T235620
CREATED:20260207T093745Z
LAST-MODIFIED:20260207T094910Z
UID:10001987-1785612600-1785625200@visitmidhurst.com
SUMMARY:Bingo Night @ Midhurst Club
DESCRIPTION:
URL:https://visitmidhurst.com/event/bingo-night-midhurst-club/2026-08-01/
LOCATION:midhurst club\, 47a North Street\, Midhurst\, West sussex\, GU29 9DR\, United Kingdom
CATEGORIES:Activities,Entertainment,Music
ATTACH;FMTTYPE=image/jpeg:https://visitmidhurst.com/content/uploads/2026/02/Bingo-Midhusr-Club-1.jpg
END:VEVENT
BEGIN:VEVENT
DTSTART;TZID=Europe/London:20260802T140000
DTEND;TZID=Europe/London:20260802T180000
DTSTAMP:20260424T235620
CREATED:20260116T134931Z
LAST-MODIFIED:20260116T142524Z
UID:10001275-1785679200-1785693600@visitmidhurst.com
SUMMARY:Midhurst RC Truck Bash
DESCRIPTION:We hold a once-a-month meeting in Midhurst at the Methodist Church hall on the first Sunday of the month.  We supply a road layout\, you bring your truck!   It’s £10 per driver or you can come and watch for free.  Anyone is welcome\, and it’s as simple as that – it’s 4 hours of trucking fun.
URL:https://visitmidhurst.com/event/midhurst-rc-truck-bash/2026-08-02/
LOCATION:Methodist Church Hall\, North Street\, Midhurst\, West Sussex\, GU29 9DU\, United Kingdom
CATEGORIES:Activities
ATTACH;FMTTYPE=image/jpeg:https://visitmidhurst.com/content/uploads/2026/01/Trucking.jpg
END:VEVENT
BEGIN:VEVENT
DTSTART;TZID=Europe/London:20260803T200000
DTEND;TZID=Europe/London:20260803T230000
DTSTAMP:20260424T235620
CREATED:20260415T183853Z
LAST-MODIFIED:20260415T193319Z
UID:10003010-1785787200-1785798000@visitmidhurst.com
SUMMARY:Snooker Tournament
DESCRIPTION:
URL:https://visitmidhurst.com/event/snooker-tournament/2026-08-03/
LOCATION:midhurst club\, 47a North Street\, Midhurst\, West sussex\, GU29 9DR\, United Kingdom
CATEGORIES:Activities
ATTACH;FMTTYPE=image/jpeg:https://visitmidhurst.com/content/uploads/2026/04/snooker.jpg
END:VEVENT
BEGIN:VEVENT
DTSTART;TZID=Europe/London:20260804T093000
DTEND;TZID=Europe/London:20260804T110000
DTSTAMP:20260424T235620
CREATED:20250312T113448Z
LAST-MODIFIED:20260112T192207Z
UID:10000649-1785835800-1785841200@visitmidhurst.com
SUMMARY:Active Antz by Everyone Active - Soft Play for Under 5's
DESCRIPTION:
URL:https://visitmidhurst.com/event/active-antz-by-everyone-active-soft-play-for-under-5s/2026-08-04/
LOCATION:The Grange Community and Leisure Centre\, GU29 9DH
CATEGORIES:Children
ATTACH;FMTTYPE=image/png:https://visitmidhurst.com/content/uploads/2025/03/Active-ants.png
END:VEVENT
BEGIN:VEVENT
DTSTART;TZID=Europe/London:20260804T164500
DTEND;TZID=Europe/London:20260804T180000
DTSTAMP:20260424T235620
CREATED:20260120T200055Z
LAST-MODIFIED:20260120T200113Z
UID:10001483-1785861900-1785866400@visitmidhurst.com
SUMMARY:South Downs Sing Squad: Community Choir
DESCRIPTION:A new Community Choir has just launched for all in years 3-8 who love to sing.\n\n\n\nCome along on Tuesday afternoons at 1645 to Midhurst Parish Church* to sing with the South Downs Sing Squad!— at Midhurst Parish Church.\n\n\nTerm Time Only
URL:https://visitmidhurst.com/event/south-downs-sing-squad-community-choir/2026-08-04/
LOCATION:Midhurst Parish Church\, Sheep Lane\, Midhurst\, West Sussex\, GU29 9NT\, United Kingdom
CATEGORIES:Activities,Children,Music
ATTACH;FMTTYPE=image/png:https://visitmidhurst.com/content/uploads/2026/01/20260120_193350000_iOS.png
END:VEVENT
BEGIN:VEVENT
DTSTART;TZID=Europe/London:20260805T080000
DTEND;TZID=Europe/London:20260805T170000
DTSTAMP:20260424T235620
CREATED:20260122T185902Z
LAST-MODIFIED:20260122T185902Z
UID:10001728-1785916800-1785949200@visitmidhurst.com
SUMMARY:Langham's Brewer For a Day Experience
DESCRIPTION:
URL:https://visitmidhurst.com/event/langhams-brewer-for-a-day-experience/2026-08-05/
LOCATION:langhams Brewer\, The Granary\, Langham Lane\,\, Lodsworth\, west sussex\, GU28 9BU\, United Kingdom
CATEGORIES:Activities
ATTACH;FMTTYPE=image/png:https://visitmidhurst.com/content/uploads/2026/01/Langhams.png
END:VEVENT
BEGIN:VEVENT
DTSTART;TZID=Europe/London:20260805T153000
DTEND;TZID=Europe/London:20260805T163000
DTSTAMP:20260424T235620
CREATED:20260117T150019Z
LAST-MODIFIED:20260117T150019Z
UID:10001371-1785943800-1785947400@visitmidhurst.com
SUMMARY:Construction Club @ Midhurst Library
DESCRIPTION:Little people with little bricks and big ideas. \nFree of charge\, drop in\, no booking required.  Age 4+ accompanied by an adult.
URL:https://visitmidhurst.com/event/construction-club-midhurst-library/2026-08-05/
LOCATION:Midhurst Library\, The Grange Leisure Centre\, Midhurst\, west Sussex\, GU29 9HD\, United Kingdom
CATEGORIES:Activities,Children
ATTACH;FMTTYPE=image/png:https://visitmidhurst.com/content/uploads/2026/01/construction-club.png
END:VEVENT
BEGIN:VEVENT
DTSTART;TZID=Europe/London:20260806T111500
DTEND;TZID=Europe/London:20260806T234500
DTSTAMP:20260424T235620
CREATED:20260117T144543Z
LAST-MODIFIED:20260117T144845Z
UID:10001320-1786014900-1786059900@visitmidhurst.com
SUMMARY:Rhyme Time @ Midhurst Library
DESCRIPTION:Free\, no booking required.  A drop-in\, interactive\, stories and songs session\, for babies and toddlers under 5 years of age with an accompanying adult.  Held in the Midhurst library within the Grange Community Centre.
URL:https://visitmidhurst.com/event/rhyme-time-midhurst-library/2026-08-06/
LOCATION:Midhurst Library\, The Grange Leisure Centre\, Midhurst\, west Sussex\, GU29 9HD\, United Kingdom
CATEGORIES:Activities,Children,Music
ATTACH;FMTTYPE=image/png:https://visitmidhurst.com/content/uploads/2026/01/rhyme-time.png
END:VEVENT
BEGIN:VEVENT
DTSTART;TZID=Europe/London:20260807T093000
DTEND;TZID=Europe/London:20260807T110000
DTSTAMP:20260424T235620
CREATED:20250312T113448Z
LAST-MODIFIED:20260112T192207Z
UID:10000650-1786095000-1786100400@visitmidhurst.com
SUMMARY:Active Antz by Everyone Active - Soft Play for Under 5's
DESCRIPTION:
URL:https://visitmidhurst.com/event/active-antz-by-everyone-active-soft-play-for-under-5s/2026-08-07/
LOCATION:The Grange Community and Leisure Centre\, GU29 9DH
CATEGORIES:Children
ATTACH;FMTTYPE=image/png:https://visitmidhurst.com/content/uploads/2025/03/Active-ants.png
END:VEVENT
BEGIN:VEVENT
DTSTART;TZID=Europe/London:20260807T200000
DTEND;TZID=Europe/London:20260807T230000
DTSTAMP:20260424T235620
CREATED:20260120T192711Z
LAST-MODIFIED:20260304T202041Z
UID:10001402-1786132800-1786143600@visitmidhurst.com
SUMMARY:First Friday's - Open Mike Nights @ The Bricks
DESCRIPTION:1st Friday of every month \nYou’ve got the talent \nYou Got The Gear \nNow you’ve got the Time and you’ve got place
URL:https://visitmidhurst.com/event/open-mike-night-the-bricks/2026-08-07/
LOCATION:The Bricklayers Arms\, Wool Lane\, Midhurst\, United Kingdom
CATEGORIES:Activities,Music
ATTACH;FMTTYPE=image/png:https://visitmidhurst.com/content/uploads/2026/01/Bricks-Cartoon.png
END:VEVENT
BEGIN:VEVENT
DTSTART;TZID=Europe/London:20260809T190000
DTEND;TZID=Europe/London:20260809T220000
DTSTAMP:20260424T235620
CREATED:20260227T235950Z
LAST-MODIFIED:20260227T235950Z
UID:10002197-1786302000-1786312800@visitmidhurst.com
SUMMARY:Folk Music Night @ Three Moles
DESCRIPTION:
URL:https://visitmidhurst.com/event/folk-music-night-three-moles/2026-08-09/
LOCATION:Three Moles\, Selham\, West Sussex\, GU28 0PN\, United Kingdom
CATEGORIES:Music
ATTACH;FMTTYPE=image/png:https://visitmidhurst.com/content/uploads/2026/02/Folk.png
ORGANIZER;CN="The Three Moles":MAILTO:contact@thethreemoles.co.uk
END:VEVENT
BEGIN:VEVENT
DTSTART;TZID=Europe/London:20260810T200000
DTEND;TZID=Europe/London:20260810T230000
DTSTAMP:20260424T235620
CREATED:20260415T183853Z
LAST-MODIFIED:20260415T193319Z
UID:10003011-1786392000-1786402800@visitmidhurst.com
SUMMARY:Snooker Tournament
DESCRIPTION:
URL:https://visitmidhurst.com/event/snooker-tournament/2026-08-10/
LOCATION:midhurst club\, 47a North Street\, Midhurst\, West sussex\, GU29 9DR\, United Kingdom
CATEGORIES:Activities
ATTACH;FMTTYPE=image/jpeg:https://visitmidhurst.com/content/uploads/2026/04/snooker.jpg
END:VEVENT
BEGIN:VEVENT
DTSTART;TZID=Europe/London:20260811T093000
DTEND;TZID=Europe/London:20260811T110000
DTSTAMP:20260424T235620
CREATED:20250312T113448Z
LAST-MODIFIED:20260112T192207Z
UID:10000651-1786440600-1786446000@visitmidhurst.com
SUMMARY:Active Antz by Everyone Active - Soft Play for Under 5's
DESCRIPTION:
URL:https://visitmidhurst.com/event/active-antz-by-everyone-active-soft-play-for-under-5s/2026-08-11/
LOCATION:The Grange Community and Leisure Centre\, GU29 9DH
CATEGORIES:Children
ATTACH;FMTTYPE=image/png:https://visitmidhurst.com/content/uploads/2025/03/Active-ants.png
END:VEVENT
END:VCALENDAR