BEGIN:VCALENDAR
VERSION:2.0
PRODID:-//Visit Midhurst - ECPv6.15.0.1//NONSGML v1.0//EN
CALSCALE:GREGORIAN
METHOD:PUBLISH
X-WR-CALNAME:Visit Midhurst
X-ORIGINAL-URL:https://visitmidhurst.com
X-WR-CALDESC:Events for Visit Midhurst
REFRESH-INTERVAL;VALUE=DURATION:PT1H
X-Robots-Tag:noindex
X-PUBLISHED-TTL:PT1H
BEGIN:VTIMEZONE
TZID:Europe/London
BEGIN:DAYLIGHT
TZOFFSETFROM:+0000
TZOFFSETTO:+0100
TZNAME:BST
DTSTART:20260329T010000
END:DAYLIGHT
BEGIN:STANDARD
TZOFFSETFROM:+0100
TZOFFSETTO:+0000
TZNAME:GMT
DTSTART:20261025T010000
END:STANDARD
END:VTIMEZONE
BEGIN:VEVENT
DTSTART;TZID=Europe/London:20260228T104000
DTEND;TZID=Europe/London:20260228T110000
DTSTAMP:20260422T134329
CREATED:20260128T220319Z
LAST-MODIFIED:20260215T144312Z
UID:10001932-1772275200-1772276400@visitmidhurst.com
SUMMARY:Street Dance Classes 5-8 yo: Grange Open Day
DESCRIPTION:
URL:https://visitmidhurst.com/event/street-dance-classes-5-8-yo-grange-open-day/
LOCATION:The Grange Community and Leisure Centre\, GU29 9DH
CATEGORIES:Children
ATTACH;FMTTYPE=image/png:https://visitmidhurst.com/content/uploads/2026/01/Street-Dance.png
END:VEVENT
BEGIN:VEVENT
DTSTART;TZID=Europe/London:20260228T100000
DTEND;TZID=Europe/London:20260228T150000
DTSTAMP:20260422T134329
CREATED:20260122T201125Z
LAST-MODIFIED:20260122T201125Z
UID:10001866-1772272800-1772290800@visitmidhurst.com
SUMMARY:The Repair Shop: Sneak Peek Days @ Weald & Downland Museum
DESCRIPTION:For a limited time during the winter season\, visitors can take a look inside Court Barn\, where the popular series is filmed.
URL:https://visitmidhurst.com/event/the-repair-shop-sneak-peek-days-weald-downland-museum/2026-02-28/
LOCATION:Weald and Downland Living Museum\, Town Lane\, Singleton\, West Sussex\, PO18 0EU\, United Kingdom
CATEGORIES:Activities,Children
ATTACH;FMTTYPE=image/jpeg:https://visitmidhurst.com/content/uploads/2026/01/repear-shop.jpg
END:VEVENT
BEGIN:VEVENT
DTSTART;TZID=Europe/London:20260228T093000
DTEND;TZID=Europe/London:20260228T160000
DTSTAMP:20260422T134329
CREATED:20260225T220155Z
LAST-MODIFIED:20260225T220644Z
UID:10002053-1772271000-1772294400@visitmidhurst.com
SUMMARY:Himalayan balsam training day
DESCRIPTION:Join us and the Western Sussex Rivers Trust for a training day and learn how to identify and remove Himalayan balsam across the River Rother catchment.\n\n\nMemorial Hall\, Midhurst\nSaturday 28 February or Saturday 21 March\n9.30am to 4pm\n\n\nBook a place: https://www.eventbrite.com/…/himalayan-balsam-community…
URL:https://visitmidhurst.com/event/himalayan-balsam-training-day/
LOCATION:Memorial Hall\, Midhurst
ATTACH;FMTTYPE=image/png:https://visitmidhurst.com/content/uploads/2026/02/balsam.png
END:VEVENT
BEGIN:VEVENT
DTSTART;TZID=Europe/London:20260228T091500
DTEND;TZID=Europe/London:20260228T230000
DTSTAMP:20260422T134329
CREATED:20260225T222348Z
LAST-MODIFIED:20260225T222453Z
UID:10002055-1772270100-1772319600@visitmidhurst.com
SUMMARY:Breakfast Club: Stedham Sports Association
DESCRIPTION:
URL:https://visitmidhurst.com/event/breakfast-club-stedham-sports-association/
LOCATION:West sussex
ATTACH;FMTTYPE=image/png:https://visitmidhurst.com/content/uploads/2026/02/breakfast.png
END:VEVENT
BEGIN:VEVENT
DTSTART;TZID=Europe/London:20260227T203000
DTEND;TZID=Europe/London:20260227T230000
DTSTAMP:20260422T134329
CREATED:20260204T200514Z
LAST-MODIFIED:20260204T200530Z
UID:10001975-1772224200-1772233200@visitmidhurst.com
SUMMARY:Tabitha Kendal @ The Wheatsheaf
DESCRIPTION:Shot deals\n Double up deals\n 2 glasses of Prosecco for £10\n Buy 2 large glasses of wine & get the rest of the bottle FREE\n(Mon–Sat\, 3pm–6pm)\n Pool table – FREE every Sunday\n Darts with electronic scoreboard\n Jukebox – FREE every Saturday from 7pm\n Sky Sports & TNT\n Multiple screens + a brand new TV so you never miss the action\n\n\nGreat music\, great drinks\, great atmosphere — be great to see you \n Live at The Wheatsheaf
URL:https://visitmidhurst.com/event/tabitha-kendal-the-wheatsheaf/
LOCATION:The Wheatsheaf Pub\, Wool Lane\, Midhurst\, West Sussex\, GU29 9BX\, United Kingdom
CATEGORIES:Entertainment,Music
ATTACH;FMTTYPE=image/jpeg:https://visitmidhurst.com/content/uploads/2026/01/Wheatsheaf.jpg
END:VEVENT
BEGIN:VEVENT
DTSTART;TZID=Europe/London:20260227T093000
DTEND;TZID=Europe/London:20260227T110000
DTSTAMP:20260422T134329
CREATED:20250312T113448Z
LAST-MODIFIED:20260112T192207Z
UID:10000604-1772184600-1772190000@visitmidhurst.com
SUMMARY:Active Antz by Everyone Active - Soft Play for Under 5's
DESCRIPTION:
URL:https://visitmidhurst.com/event/active-antz-by-everyone-active-soft-play-for-under-5s/2026-02-27/
LOCATION:The Grange Community and Leisure Centre\, GU29 9DH
CATEGORIES:Children
ATTACH;FMTTYPE=image/png:https://visitmidhurst.com/content/uploads/2025/03/Active-ants.png
END:VEVENT
BEGIN:VEVENT
DTSTART;TZID=Europe/London:20260226T200000
DTEND;TZID=Europe/London:20260226T230000
DTSTAMP:20260422T134329
CREATED:20260226T145830Z
LAST-MODIFIED:20260226T145830Z
UID:10002128-1772136000-1772146800@visitmidhurst.com
SUMMARY:Quiz Night @ Faustinos
DESCRIPTION:
URL:https://visitmidhurst.com/event/quiz-night-faustinos-3/
LOCATION:Faustino’s\, 2a North Street\, Midhurst\, West Sussex\, GU29 9DJ\, United Kingdom
CATEGORIES:Activities
ATTACH;FMTTYPE=image/png:https://visitmidhurst.com/content/uploads/2026/02/Quiz-Night-1.png
END:VEVENT
BEGIN:VEVENT
DTSTART;TZID=Europe/London:20260226T120000
DTEND;TZID=Europe/London:20260226T130000
DTSTAMP:20260422T134329
CREATED:20260107T205051Z
LAST-MODIFIED:20260108T160052Z
UID:10001103-1772107200-1772110800@visitmidhurst.com
SUMMARY:Lunch & Learn: Weight-Loss Jabs and Nutrition @ Cowdray
DESCRIPTION:
URL:https://visitmidhurst.com/event/lunch-learn-weight-loss-jabs-and-nutrition-cowdray/
LOCATION:Cowdray Hall\, Parkway\, Easebourne\, West Sussex\, GU29 0AW\, United Kingdom
ATTACH;FMTTYPE=image/jpeg:https://visitmidhurst.com/content/uploads/2026/01/Cowdray.jpg
END:VEVENT
BEGIN:VEVENT
DTSTART;TZID=Europe/London:20260226T111500
DTEND;TZID=Europe/London:20260226T234500
DTSTAMP:20260422T134329
CREATED:20260117T144543Z
LAST-MODIFIED:20260117T144845Z
UID:10001297-1772104500-1772149500@visitmidhurst.com
SUMMARY:Rhyme Time @ Midhurst Library
DESCRIPTION:Free\, no booking required.  A drop-in\, interactive\, stories and songs session\, for babies and toddlers under 5 years of age with an accompanying adult.  Held in the Midhurst library within the Grange Community Centre.
URL:https://visitmidhurst.com/event/rhyme-time-midhurst-library/2026-02-26/
LOCATION:Midhurst Library\, The Grange Leisure Centre\, Midhurst\, west Sussex\, GU29 9HD\, United Kingdom
CATEGORIES:Activities,Children,Music
ATTACH;FMTTYPE=image/png:https://visitmidhurst.com/content/uploads/2026/01/rhyme-time.png
END:VEVENT
BEGIN:VEVENT
DTSTART;TZID=Europe/London:20260226T111500
DTEND;TZID=Europe/London:20260226T130000
DTSTAMP:20260422T134330
CREATED:20260201T185844Z
LAST-MODIFIED:20260201T185844Z
UID:10001943-1772104500-1772110800@visitmidhurst.com
SUMMARY:Duncton to Burton Mill Pond – 3.5 Miles
DESCRIPTION:Duncton to Burton Mill Pond – 3.5 Miles\n11am meet for a 11.15am start – Meeting at Duncton Village Hall we will make our way past St Richards Church and head towards Burton Mill Pond as we make our way around the pond\, back to Newpiece Moor and back to the start on this relaxing\, pretty 3.5 mile loop (approx. 5.6km) \nPlease note there are no facilities on this stop so bring refreshments with you and wild wees maybe required if needed. \nMeeting Place – Duncton Village Hall – meeting reference point ///entrusted.relegate.improving
URL:https://visitmidhurst.com/event/duncton-to-burton-mill-pond-3-5-miles/
LOCATION:West sussex
CATEGORIES:Activities,Sport
ATTACH;FMTTYPE=image/jpeg:https://visitmidhurst.com/content/uploads/2026/01/Coats-On.jpg
ORGANIZER;CN="Coat On Coat Off Wet Feet":MAILTO:vicki@thetalldog.co.uk
END:VEVENT
BEGIN:VEVENT
DTSTART;TZID=Europe/London:20260226T093000
DTEND;TZID=Europe/London:20260226T113000
DTSTAMP:20260422T134330
CREATED:20260201T184911Z
LAST-MODIFIED:20260201T185910Z
UID:10001941-1772098200-1772105400@visitmidhurst.com
SUMMARY:Duncton Common Circular Walk – 3.5 Miles
DESCRIPTION:Duncton Common Circular Walk – 3.5 Miles\n9.15am meet for a 9.30am start – Meeting at Duncton Village Hall we will make our way over the main road heading over to and around Duncton Common where we will have a pretty woodland walk admiring the nature and wildlife we see on our way before making our way back to the start on another relaxing\, pretty 3.5 mile loop (approx. 5.6km) \nPlease note there are no facilities on this stop so bring refreshments with you and wild wees maybe required if needed. \nMeeting Place – Duncton Village Hall –meeting reference point ///entrusted.relegate.improving
URL:https://visitmidhurst.com/event/qecp-and-holt-down-4-mile-walk-2/
LOCATION:West sussex
CATEGORIES:Activities,Sport
ATTACH;FMTTYPE=image/jpeg:https://visitmidhurst.com/content/uploads/2026/01/Coats-On.jpg
ORGANIZER;CN="Coat On Coat Off Wet Feet":MAILTO:vicki@thetalldog.co.uk
END:VEVENT
BEGIN:VEVENT
DTSTART;TZID=Europe/London:20260225T200000
DTEND;TZID=Europe/London:20260225T230000
DTSTAMP:20260422T134330
CREATED:20260304T192321Z
LAST-MODIFIED:20260415T185936Z
UID:10002261-1772049600-1772060400@visitmidhurst.com
SUMMARY:Open Mike Night @ Faustino's
DESCRIPTION:
URL:https://visitmidhurst.com/event/open-mike-night-faustinos-2/2026-02-25/
LOCATION:Faustino’s\, 2a North Street\, Midhurst\, West Sussex\, GU29 9DJ\, United Kingdom
CATEGORIES:Activities
ATTACH;FMTTYPE=image/png:https://visitmidhurst.com/content/uploads/2026/03/open-Mike.png
END:VEVENT
BEGIN:VEVENT
DTSTART;TZID=Europe/London:20260225T153000
DTEND;TZID=Europe/London:20260225T163000
DTSTAMP:20260422T134330
CREATED:20260117T150019Z
LAST-MODIFIED:20260117T150019Z
UID:10001348-1772033400-1772037000@visitmidhurst.com
SUMMARY:Construction Club @ Midhurst Library
DESCRIPTION:Little people with little bricks and big ideas. \nFree of charge\, drop in\, no booking required.  Age 4+ accompanied by an adult.
URL:https://visitmidhurst.com/event/construction-club-midhurst-library/2026-02-25/
LOCATION:Midhurst Library\, The Grange Leisure Centre\, Midhurst\, west Sussex\, GU29 9HD\, United Kingdom
CATEGORIES:Activities,Children
ATTACH;FMTTYPE=image/png:https://visitmidhurst.com/content/uploads/2026/01/construction-club.png
END:VEVENT
BEGIN:VEVENT
DTSTART;TZID=Europe/London:20260225T100000
DTEND;TZID=Europe/London:20260225T150000
DTSTAMP:20260422T134330
CREATED:20260122T201125Z
LAST-MODIFIED:20260122T201125Z
UID:10001865-1772013600-1772031600@visitmidhurst.com
SUMMARY:The Repair Shop: Sneak Peek Days @ Weald & Downland Museum
DESCRIPTION:For a limited time during the winter season\, visitors can take a look inside Court Barn\, where the popular series is filmed.
URL:https://visitmidhurst.com/event/the-repair-shop-sneak-peek-days-weald-downland-museum/2026-02-25/
LOCATION:Weald and Downland Living Museum\, Town Lane\, Singleton\, West Sussex\, PO18 0EU\, United Kingdom
CATEGORIES:Activities,Children
ATTACH;FMTTYPE=image/jpeg:https://visitmidhurst.com/content/uploads/2026/01/repear-shop.jpg
END:VEVENT
BEGIN:VEVENT
DTSTART;TZID=Europe/London:20260224T164500
DTEND;TZID=Europe/London:20260224T180000
DTSTAMP:20260422T134330
CREATED:20260120T200055Z
LAST-MODIFIED:20260120T200113Z
UID:10001460-1771951500-1771956000@visitmidhurst.com
SUMMARY:South Downs Sing Squad: Community Choir
DESCRIPTION:A new Community Choir has just launched for all in years 3-8 who love to sing.\n\n\n\nCome along on Tuesday afternoons at 1645 to Midhurst Parish Church* to sing with the South Downs Sing Squad!— at Midhurst Parish Church.\n\n\nTerm Time Only
URL:https://visitmidhurst.com/event/south-downs-sing-squad-community-choir/2026-02-24/
LOCATION:Midhurst Parish Church\, Sheep Lane\, Midhurst\, West Sussex\, GU29 9NT\, United Kingdom
CATEGORIES:Activities,Children,Music
ATTACH;FMTTYPE=image/png:https://visitmidhurst.com/content/uploads/2026/01/20260120_193350000_iOS.png
END:VEVENT
BEGIN:VEVENT
DTSTART;TZID=Europe/London:20260224T093000
DTEND;TZID=Europe/London:20260224T110000
DTSTAMP:20260422T134330
CREATED:20250312T113448Z
LAST-MODIFIED:20260112T192207Z
UID:10000603-1771925400-1771930800@visitmidhurst.com
SUMMARY:Active Antz by Everyone Active - Soft Play for Under 5's
DESCRIPTION:
URL:https://visitmidhurst.com/event/active-antz-by-everyone-active-soft-play-for-under-5s/2026-02-24/
LOCATION:The Grange Community and Leisure Centre\, GU29 9DH
CATEGORIES:Children
ATTACH;FMTTYPE=image/png:https://visitmidhurst.com/content/uploads/2025/03/Active-ants.png
END:VEVENT
BEGIN:VEVENT
DTSTART;TZID=Europe/London:20260222T190000
DTEND;TZID=Europe/London:20260222T210000
DTSTAMP:20260422T134330
CREATED:20260225T232101Z
LAST-MODIFIED:20260227T230718Z
UID:10002131-1771786800-1771794000@visitmidhurst.com
SUMMARY:Blues Night @ The Three Moles
DESCRIPTION:The Three Moles\, Selham\, GU28 0PN. All events are free entry. \nNo tickets or bookings required. No under 12s at any time. No under 18s past 9pm.
URL:https://visitmidhurst.com/event/absolutely-dragulous-show-2/2026-02-22/
LOCATION:Three Moles\, Selham\, West Sussex\, GU28 0PN\, United Kingdom
CATEGORIES:Entertainment,Music
ATTACH;FMTTYPE=image/jpeg:https://visitmidhurst.com/content/uploads/2026/02/Blues-Jam-Psychadelic-Hearts-Club.jpg
ORGANIZER;CN="The Three Moles":MAILTO:contact@thethreemoles.co.uk
END:VEVENT
BEGIN:VEVENT
DTSTART;TZID=Europe/London:20260222T150000
DTEND;TZID=Europe/London:20260222T170000
DTSTAMP:20260422T134330
CREATED:20260203T193216Z
LAST-MODIFIED:20260203T194527Z
UID:10001966-1771772400-1771779600@visitmidhurst.com
SUMMARY:FRA vs ITA
DESCRIPTION:Watch in Midhurst at: \n\nThe Wheatsheaf\nThe Bricks
URL:https://visitmidhurst.com/event/fra-vs-ita/
LOCATION:West sussex
CATEGORIES:Entertainment,Sport
ATTACH;FMTTYPE=image/jpeg:https://visitmidhurst.com/content/uploads/2026/02/6nations-2026.jpg
END:VEVENT
BEGIN:VEVENT
DTSTART;TZID=Europe/London:20260222T100000
DTEND;TZID=Europe/London:20260222T130000
DTSTAMP:20260422T134330
CREATED:20260105T172810Z
LAST-MODIFIED:20260105T172810Z
UID:10001090-1771754400-1771765200@visitmidhurst.com
SUMMARY:Indoor Car Boot Sale @ The Grange
DESCRIPTION:
URL:https://visitmidhurst.com/event/indoor-car-boot-sale-the-grange-6/
LOCATION:The Grange Community and Leisure Centre\, GU29 9DH
CATEGORIES:Shopping
ATTACH;FMTTYPE=image/png:https://visitmidhurst.com/content/uploads/2026/01/Car-Boot-Sale.png
END:VEVENT
BEGIN:VEVENT
DTSTART;TZID=Europe/London:20260222T080000
DTEND;TZID=Europe/London:20260222T110000
DTSTAMP:20260422T134330
CREATED:20260125T125611Z
LAST-MODIFIED:20260125T125611Z
UID:10001873-1771747200-1771758000@visitmidhurst.com
SUMMARY:Land Rover Social @ The Royal Oak
DESCRIPTION:A regular meet in the Car park of The Royal Oak for Land Rover Enthusiasts
URL:https://visitmidhurst.com/event/land-rover-social-the-royal-oak/2026-02-22/
LOCATION:Royal Oak\, Oaklands Lane\, Midhurst\, West Sussex\, GU29 0EP\, United Kingdom
CATEGORIES:Activities
ATTACH;FMTTYPE=image/png:https://visitmidhurst.com/content/uploads/2026/01/Landrover.png
END:VEVENT
BEGIN:VEVENT
DTSTART;TZID=Europe/London:20260221T203000
DTEND;TZID=Europe/London:20260221T230000
DTSTAMP:20260422T134330
CREATED:20260203T181905Z
LAST-MODIFIED:20260203T181905Z
UID:10001956-1771705800-1771714800@visitmidhurst.com
SUMMARY:Magenta Slipperz Drag
DESCRIPTION:
URL:https://visitmidhurst.com/event/magenta-slipperz-drag/
LOCATION:The Bricklayers Arms\, Wool Lane\, Midhurst\, United Kingdom
CATEGORIES:Activities,Music
ATTACH;FMTTYPE=image/png:https://visitmidhurst.com/content/uploads/2026/02/Drag.png
END:VEVENT
BEGIN:VEVENT
DTSTART;TZID=Europe/London:20260221T203000
DTEND;TZID=Europe/London:20260221T230000
DTSTAMP:20260422T134330
CREATED:20260105T145423Z
LAST-MODIFIED:20260226T144323Z
UID:10001065-1771705800-1771714800@visitmidhurst.com
SUMMARY:Double XX Play the Swan
DESCRIPTION:
URL:https://visitmidhurst.com/event/double-xx-play-the-swan/
LOCATION:The Swan Inn\, Midhurst\, GU29 9PB
CATEGORIES:Music
ATTACH;FMTTYPE=image/png:https://visitmidhurst.com/content/uploads/2026/01/Swan-Inn.png
END:VEVENT
BEGIN:VEVENT
DTSTART;TZID=Europe/London:20260221T164000
DTEND;TZID=Europe/London:20260221T190000
DTSTAMP:20260422T134330
CREATED:20260203T193026Z
LAST-MODIFIED:20260203T193026Z
UID:10001965-1771692000-1771700400@visitmidhurst.com
SUMMARY:WAL vs SCO
DESCRIPTION:Watch in Midhurst at: \n\nThe Wheatsheaf\nThe Bricks\nThe Swan
URL:https://visitmidhurst.com/event/wal-vs-sco/
LOCATION:West sussex
CATEGORIES:Entertainment,Sport
ATTACH;FMTTYPE=image/jpeg:https://visitmidhurst.com/content/uploads/2026/02/6nations-2026.jpg
END:VEVENT
BEGIN:VEVENT
DTSTART;TZID=Europe/London:20260221T150000
DTEND;TZID=Europe/London:20260221T170000
DTSTAMP:20260422T134330
CREATED:20260108T205303Z
LAST-MODIFIED:20260215T142317Z
UID:10001136-1771686000-1771693200@visitmidhurst.com
SUMMARY:M&E vs Crawley Down Gatwick:  Midhurst & Easebourne FC "THE STAGS" Home Game
DESCRIPTION:The club has 2 senior teams and 8 youth teams. The First Team are currently members of the Southern Combination Football League and compete in Premier Division \, whilst the Reserves play in the Premier Division of the Hampshire Development League. \nThe club was established in 1946 by a merger of Midhurst\, whose ground had been used to build a school on\, and Easebourne\, who had lost several ofﬁcials and players during the World War II. \nThey joined the West Sussex League and went on to win the title in 1955–56\, 1962–63 and 1964–65\, as well as the Malcolm Simmonds Memorial Cup in 1959–60. After the top division was renamed the Premier Division\, the club won the league again in 1967–68\, the Bareham Cup in 1970–71 and the Malcolm Simmonds Memorial Cup in 1973–74. They won the Premier Division and Malcolm Simmonds Memorial Cup double in 1976–77 and retained the cup the following season\, before winning another league and cup double in 1979–80. Although an application to join the Sussex County League was rejected in 1980\, they were accepted into the league the following year\, becoming members of Division Two. \nIn their ﬁrst season in Division Two\, Midhurst & Easebourne were runners-up\, earning promotion to Division One. The club ﬁnished bottom of Division One in 1986–87 and were relegated back to Division Two. They won the Division Two Cup in 1988–89\, beating Newhaven 5–3 on penalties in a replay. The club returned to Division One after ﬁnishing second in 1991–92\, but were relegated back to Division Two at the end of the following season. A second successive relegation in 1993–94 saw them drop into Division Three. Although they won Division Three at the ﬁrst attempt\, the club were relegated back to the division at the end of the 1997–98 season. \nIn 1998–99 Midhurst & Easebourne ﬁnished bottom of Division Three and were relegated to the Premier Division of the West Sussex League. They were Premier Division champions and Centenary Cup winners in 2001–02 and were promoted back to Division Three of the Sussex County League. The following season saw them win the Division Three title and the Division Three Cup\, earning promotion to Division Two. Although they ﬁnished bottom of Division Two in 2009–10\, the club avoided being relegated to Division Three. In 2015 the Sussex County League was renamed the Southern Combination\, with Division Two becoming Division One. Midway through the 2018-19 season\, the club found themselves bottom of Division One and appointed Liphook United Manager\, Andrew ‘Lemmy’ Ewen as First Team Manager\, who subsequently saved the club from relegation to Division Two. The 2019-20 and 2020-21 seasons were both ended early and deemed null and void due to COVID-19\, with the club sitting 6th and 4th in respective seasons. \nThe 2021-22 saw a return of success to the club. With the first tema winning promotion to the premier division via the playoffs and also winning the league cup. A real triumph for Lemmy and his team after having the two previous seasons curtailed when in strong positions. The reserve team also enjoyed success with a second place finish\, securing promotion to their respective premier division. \nWith last seasons achievements\, and subsequent promotion to step 5 football we now find ourselves competing in the Fa Cup for the first time in our history. 2022-23 is sure to be an exciting historical season for everyone involved in the club and town.
URL:https://visitmidhurst.com/event/me-vs-crawley-down-gatwick-midhurst-easebourne-fc-the-stags-home-game/
LOCATION:Football Club\, Midhurst & Easebourne FC The Rotherfield Dodsley Grove\, Easebourne\, west Sussex\, GU29 9BE\, United Kingdom
CATEGORIES:Sport
ATTACH;FMTTYPE=image/png:https://visitmidhurst.com/content/uploads/2026/01/football-4-3-ratio.png
END:VEVENT
BEGIN:VEVENT
DTSTART;TZID=Europe/London:20260221T140000
DTEND;TZID=Europe/London:20260221T160000
DTSTAMP:20260422T134330
CREATED:20260203T192939Z
LAST-MODIFIED:20260203T192939Z
UID:10001964-1771682400-1771689600@visitmidhurst.com
SUMMARY:ENG vs IRE
DESCRIPTION:Watch in Midhurst at: \n\nThe Bricks\nThe Swan\nThe Wheatsheaf
URL:https://visitmidhurst.com/event/eng-vs-ire/
LOCATION:West sussex
CATEGORIES:Entertainment,Sport
ATTACH;FMTTYPE=image/jpeg:https://visitmidhurst.com/content/uploads/2026/02/6nations-2026.jpg
END:VEVENT
BEGIN:VEVENT
DTSTART;TZID=Europe/London:20260221T103000
DTEND;TZID=Europe/London:20260221T120000
DTSTAMP:20260422T134330
CREATED:20260105T162012Z
LAST-MODIFIED:20260215T141750Z
UID:10001085-1771669800-1771675200@visitmidhurst.com
SUMMARY:Little Pickles Children's Nearly New Sale @ The Grange
DESCRIPTION:
URL:https://visitmidhurst.com/event/little-pickles-childrens-nearly-new-sale-the-grange/
LOCATION:The Grange Community and Leisure Centre\, GU29 9DH
CATEGORIES:Children,Shopping
ATTACH;FMTTYPE=image/png:https://visitmidhurst.com/content/uploads/2026/01/Pickles.png
END:VEVENT
BEGIN:VEVENT
DTSTART;TZID=Europe/London:20260221T100000
DTEND;TZID=Europe/London:20260221T150000
DTSTAMP:20260422T134330
CREATED:20260122T201125Z
LAST-MODIFIED:20260122T201125Z
UID:10001864-1771668000-1771686000@visitmidhurst.com
SUMMARY:The Repair Shop: Sneak Peek Days @ Weald & Downland Museum
DESCRIPTION:For a limited time during the winter season\, visitors can take a look inside Court Barn\, where the popular series is filmed.
URL:https://visitmidhurst.com/event/the-repair-shop-sneak-peek-days-weald-downland-museum/2026-02-21/
LOCATION:Weald and Downland Living Museum\, Town Lane\, Singleton\, West Sussex\, PO18 0EU\, United Kingdom
CATEGORIES:Activities,Children
ATTACH;FMTTYPE=image/jpeg:https://visitmidhurst.com/content/uploads/2026/01/repear-shop.jpg
END:VEVENT
BEGIN:VEVENT
DTSTART;TZID=Europe/London:20260221T083000
DTEND;TZID=Europe/London:20260221T140000
DTSTAMP:20260422T134330
CREATED:20260105T155756Z
LAST-MODIFIED:20260105T155756Z
UID:10001074-1771662600-1771682400@visitmidhurst.com
SUMMARY:Monthly Market @ The Grange
DESCRIPTION:
URL:https://visitmidhurst.com/event/monthly-market-the-grange/
LOCATION:The Grange Community and Leisure Centre\, GU29 9DH
CATEGORIES:Shopping
ATTACH;FMTTYPE=image/png:https://visitmidhurst.com/content/uploads/2026/01/Market.png
END:VEVENT
BEGIN:VEVENT
DTSTART;TZID=Europe/London:20260220T203000
DTEND;TZID=Europe/London:20260220T230000
DTSTAMP:20260422T134330
CREATED:20260204T200411Z
LAST-MODIFIED:20260204T200607Z
UID:10001974-1771619400-1771628400@visitmidhurst.com
SUMMARY:Joe Dunsford @ The Wheatsheaf
DESCRIPTION:Shot deals\n Double up deals\n 2 glasses of Prosecco for £10\n Buy 2 large glasses of wine & get the rest of the bottle FREE\n(Mon–Sat\, 3pm–6pm)\n Pool table – FREE every Sunday\n Darts with electronic scoreboard\n Jukebox – FREE every Saturday from 7pm\n Sky Sports & TNT\n Multiple screens + a brand new TV so you never miss the action\n\n\nGreat music\, great drinks\, great atmosphere — be great to see you \n Live at The Wheatsheaf
URL:https://visitmidhurst.com/event/joe-dunsford-the-wheatsheaf/
LOCATION:The Wheatsheaf Pub\, Wool Lane\, Midhurst\, West Sussex\, GU29 9BX\, United Kingdom
CATEGORIES:Entertainment,Music
ATTACH;FMTTYPE=image/jpeg:https://visitmidhurst.com/content/uploads/2026/01/Wheatsheaf.jpg
END:VEVENT
BEGIN:VEVENT
DTSTART;TZID=Europe/London:20260220T100000
DTEND;TZID=Europe/London:20260220T120000
DTSTAMP:20260422T134330
CREATED:20260122T153346Z
LAST-MODIFIED:20260122T153346Z
UID:10001719-1771581600-1771588800@visitmidhurst.com
SUMMARY:Live Well Midhurst
DESCRIPTION:Health and Wellbeing for children adults and the elderly\, \nSmoothy making \nGym Equipment trials \n 
URL:https://visitmidhurst.com/event/live-well-midhurst/
LOCATION:The Grange Community and Leisure Centre\, GU29 9DH
CATEGORIES:Activities,Children,Sport
ATTACH;FMTTYPE=image/png:https://visitmidhurst.com/content/uploads/2026/01/Live-Well-Midhurst.png
END:VEVENT
END:VCALENDAR