BEGIN:VCALENDAR
VERSION:2.0
PRODID:-//Visit Midhurst - ECPv6.15.0.1//NONSGML v1.0//EN
CALSCALE:GREGORIAN
METHOD:PUBLISH
X-ORIGINAL-URL:https://visitmidhurst.com
X-WR-CALDESC:Events for Visit Midhurst
REFRESH-INTERVAL;VALUE=DURATION:PT1H
X-Robots-Tag:noindex
X-PUBLISHED-TTL:PT1H
BEGIN:VTIMEZONE
TZID:Europe/London
BEGIN:DAYLIGHT
TZOFFSETFROM:+0000
TZOFFSETTO:+0100
TZNAME:BST
DTSTART:20300331T010000
END:DAYLIGHT
BEGIN:STANDARD
TZOFFSETFROM:+0100
TZOFFSETTO:+0000
TZNAME:GMT
DTSTART:20301027T010000
END:STANDARD
END:VTIMEZONE
BEGIN:VEVENT
DTSTART;TZID=Europe/London:20300618T164500
DTEND;TZID=Europe/London:20300618T180000
DTSTAMP:20260424T211038
CREATED:20260120T200055Z
LAST-MODIFIED:20260120T200113Z
UID:10001685-1908031500-1908036000@visitmidhurst.com
SUMMARY:South Downs Sing Squad: Community Choir
DESCRIPTION:A new Community Choir has just launched for all in years 3-8 who love to sing.\n\n\n\nCome along on Tuesday afternoons at 1645 to Midhurst Parish Church* to sing with the South Downs Sing Squad!— at Midhurst Parish Church.\n\n\nTerm Time Only
URL:https://visitmidhurst.com/event/south-downs-sing-squad-community-choir/2030-06-18/
LOCATION:Midhurst Parish Church\, Sheep Lane\, Midhurst\, West Sussex\, GU29 9NT\, United Kingdom
CATEGORIES:Activities,Children,Music
ATTACH;FMTTYPE=image/png:https://visitmidhurst.com/content/uploads/2026/01/20260120_193350000_iOS.png
END:VEVENT
BEGIN:VEVENT
DTSTART;TZID=Europe/London:20300621T093000
DTEND;TZID=Europe/London:20300621T110000
DTSTAMP:20260424T211038
CREATED:20250312T113448Z
LAST-MODIFIED:20260112T192207Z
UID:10001188-1908264600-1908270000@visitmidhurst.com
SUMMARY:Active Antz by Everyone Active - Soft Play for Under 5's
DESCRIPTION:
URL:https://visitmidhurst.com/event/active-antz-by-everyone-active-soft-play-for-under-5s/2030-06-21/
LOCATION:The Grange Community and Leisure Centre\, GU29 9DH
CATEGORIES:Children
ATTACH;FMTTYPE=image/png:https://visitmidhurst.com/content/uploads/2025/03/Active-ants.png
END:VEVENT
BEGIN:VEVENT
DTSTART;TZID=Europe/London:20300623T190000
DTEND;TZID=Europe/London:20300623T210000
DTSTAMP:20260424T211038
CREATED:20260225T232101Z
LAST-MODIFIED:20260227T230718Z
UID:10002183-1908471600-1908478800@visitmidhurst.com
SUMMARY:Blues Night @ The Three Moles
DESCRIPTION:The Three Moles\, Selham\, GU28 0PN. All events are free entry. \nNo tickets or bookings required. No under 12s at any time. No under 18s past 9pm.
URL:https://visitmidhurst.com/event/absolutely-dragulous-show-2/2030-06-23/
LOCATION:Three Moles\, Selham\, West Sussex\, GU28 0PN\, United Kingdom
CATEGORIES:Entertainment,Music
ATTACH;FMTTYPE=image/jpeg:https://visitmidhurst.com/content/uploads/2026/02/Blues-Jam-Psychadelic-Hearts-Club.jpg
ORGANIZER;CN="The Three Moles":MAILTO:contact@thethreemoles.co.uk
END:VEVENT
BEGIN:VEVENT
DTSTART;TZID=Europe/London:20300624T200000
DTEND;TZID=Europe/London:20300624T230000
DTSTAMP:20260424T211038
CREATED:20260415T183853Z
LAST-MODIFIED:20260415T193319Z
UID:10003213-1908561600-1908572400@visitmidhurst.com
SUMMARY:Snooker Tournament
DESCRIPTION:
URL:https://visitmidhurst.com/event/snooker-tournament/2030-06-24/
LOCATION:midhurst club\, 47a North Street\, Midhurst\, West sussex\, GU29 9DR\, United Kingdom
CATEGORIES:Activities
ATTACH;FMTTYPE=image/jpeg:https://visitmidhurst.com/content/uploads/2026/04/snooker.jpg
END:VEVENT
BEGIN:VEVENT
DTSTART;TZID=Europe/London:20300625T093000
DTEND;TZID=Europe/London:20300625T110000
DTSTAMP:20260424T211038
CREATED:20250312T113448Z
LAST-MODIFIED:20260112T192207Z
UID:10001189-1908610200-1908615600@visitmidhurst.com
SUMMARY:Active Antz by Everyone Active - Soft Play for Under 5's
DESCRIPTION:
URL:https://visitmidhurst.com/event/active-antz-by-everyone-active-soft-play-for-under-5s/2030-06-25/
LOCATION:The Grange Community and Leisure Centre\, GU29 9DH
CATEGORIES:Children
ATTACH;FMTTYPE=image/png:https://visitmidhurst.com/content/uploads/2025/03/Active-ants.png
END:VEVENT
BEGIN:VEVENT
DTSTART;TZID=Europe/London:20300625T164500
DTEND;TZID=Europe/London:20300625T180000
DTSTAMP:20260424T211038
CREATED:20260120T200055Z
LAST-MODIFIED:20260120T200113Z
UID:10001686-1908636300-1908640800@visitmidhurst.com
SUMMARY:South Downs Sing Squad: Community Choir
DESCRIPTION:A new Community Choir has just launched for all in years 3-8 who love to sing.\n\n\n\nCome along on Tuesday afternoons at 1645 to Midhurst Parish Church* to sing with the South Downs Sing Squad!— at Midhurst Parish Church.\n\n\nTerm Time Only
URL:https://visitmidhurst.com/event/south-downs-sing-squad-community-choir/2030-06-25/
LOCATION:Midhurst Parish Church\, Sheep Lane\, Midhurst\, West Sussex\, GU29 9NT\, United Kingdom
CATEGORIES:Activities,Children,Music
ATTACH;FMTTYPE=image/png:https://visitmidhurst.com/content/uploads/2026/01/20260120_193350000_iOS.png
END:VEVENT
BEGIN:VEVENT
DTSTART;TZID=Europe/London:20300626T200000
DTEND;TZID=Europe/London:20300626T230000
DTSTAMP:20260424T211038
CREATED:20260304T192321Z
LAST-MODIFIED:20260415T185936Z
UID:10002313-1908734400-1908745200@visitmidhurst.com
SUMMARY:Open Mike Night @ Faustino's
DESCRIPTION:
URL:https://visitmidhurst.com/event/open-mike-night-faustinos-2/2030-06-26/
LOCATION:Faustino’s\, 2a North Street\, Midhurst\, West Sussex\, GU29 9DJ\, United Kingdom
CATEGORIES:Activities
ATTACH;FMTTYPE=image/png:https://visitmidhurst.com/content/uploads/2026/03/open-Mike.png
END:VEVENT
BEGIN:VEVENT
DTSTART;TZID=Europe/London:20300628T093000
DTEND;TZID=Europe/London:20300628T110000
DTSTAMP:20260424T211038
CREATED:20250312T113448Z
LAST-MODIFIED:20260112T192207Z
UID:10001190-1908869400-1908874800@visitmidhurst.com
SUMMARY:Active Antz by Everyone Active - Soft Play for Under 5's
DESCRIPTION:
URL:https://visitmidhurst.com/event/active-antz-by-everyone-active-soft-play-for-under-5s/2030-06-28/
LOCATION:The Grange Community and Leisure Centre\, GU29 9DH
CATEGORIES:Children
ATTACH;FMTTYPE=image/png:https://visitmidhurst.com/content/uploads/2025/03/Active-ants.png
END:VEVENT
BEGIN:VEVENT
DTSTART;TZID=Europe/London:20300630T080000
DTEND;TZID=Europe/London:20300630T110000
DTSTAMP:20260424T211038
CREATED:20260125T125611Z
LAST-MODIFIED:20260125T125611Z
UID:10001925-1909036800-1909047600@visitmidhurst.com
SUMMARY:Land Rover Social @ The Royal Oak
DESCRIPTION:A regular meet in the Car park of The Royal Oak for Land Rover Enthusiasts
URL:https://visitmidhurst.com/event/land-rover-social-the-royal-oak/2030-06-30/
LOCATION:Royal Oak\, Oaklands Lane\, Midhurst\, West Sussex\, GU29 0EP\, United Kingdom
CATEGORIES:Activities
ATTACH;FMTTYPE=image/png:https://visitmidhurst.com/content/uploads/2026/01/Landrover.png
END:VEVENT
BEGIN:VEVENT
DTSTART;TZID=Europe/London:20300701T200000
DTEND;TZID=Europe/London:20300701T230000
DTSTAMP:20260424T211038
CREATED:20260415T183853Z
LAST-MODIFIED:20260415T193319Z
UID:10003214-1909166400-1909177200@visitmidhurst.com
SUMMARY:Snooker Tournament
DESCRIPTION:
URL:https://visitmidhurst.com/event/snooker-tournament/2030-07-01/
LOCATION:midhurst club\, 47a North Street\, Midhurst\, West sussex\, GU29 9DR\, United Kingdom
CATEGORIES:Activities
ATTACH;FMTTYPE=image/jpeg:https://visitmidhurst.com/content/uploads/2026/04/snooker.jpg
END:VEVENT
BEGIN:VEVENT
DTSTART;TZID=Europe/London:20300702T093000
DTEND;TZID=Europe/London:20300702T110000
DTSTAMP:20260424T211038
CREATED:20250312T113448Z
LAST-MODIFIED:20260112T192207Z
UID:10001191-1909215000-1909220400@visitmidhurst.com
SUMMARY:Active Antz by Everyone Active - Soft Play for Under 5's
DESCRIPTION:
URL:https://visitmidhurst.com/event/active-antz-by-everyone-active-soft-play-for-under-5s/2030-07-02/
LOCATION:The Grange Community and Leisure Centre\, GU29 9DH
CATEGORIES:Children
ATTACH;FMTTYPE=image/png:https://visitmidhurst.com/content/uploads/2025/03/Active-ants.png
END:VEVENT
BEGIN:VEVENT
DTSTART;TZID=Europe/London:20300702T164500
DTEND;TZID=Europe/London:20300702T180000
DTSTAMP:20260424T211038
CREATED:20260120T200055Z
LAST-MODIFIED:20260120T200113Z
UID:10001687-1909241100-1909245600@visitmidhurst.com
SUMMARY:South Downs Sing Squad: Community Choir
DESCRIPTION:A new Community Choir has just launched for all in years 3-8 who love to sing.\n\n\n\nCome along on Tuesday afternoons at 1645 to Midhurst Parish Church* to sing with the South Downs Sing Squad!— at Midhurst Parish Church.\n\n\nTerm Time Only
URL:https://visitmidhurst.com/event/south-downs-sing-squad-community-choir/2030-07-02/
LOCATION:Midhurst Parish Church\, Sheep Lane\, Midhurst\, West Sussex\, GU29 9NT\, United Kingdom
CATEGORIES:Activities,Children,Music
ATTACH;FMTTYPE=image/png:https://visitmidhurst.com/content/uploads/2026/01/20260120_193350000_iOS.png
END:VEVENT
BEGIN:VEVENT
DTSTART;TZID=Europe/London:20300703T080000
DTEND;TZID=Europe/London:20300703T170000
DTSTAMP:20260424T211038
CREATED:20260122T185902Z
LAST-MODIFIED:20260122T185902Z
UID:10001775-1909296000-1909328400@visitmidhurst.com
SUMMARY:Langham's Brewer For a Day Experience
DESCRIPTION:
URL:https://visitmidhurst.com/event/langhams-brewer-for-a-day-experience/2030-07-03/
LOCATION:langhams Brewer\, The Granary\, Langham Lane\,\, Lodsworth\, west sussex\, GU28 9BU\, United Kingdom
CATEGORIES:Activities
ATTACH;FMTTYPE=image/png:https://visitmidhurst.com/content/uploads/2026/01/Langhams.png
END:VEVENT
BEGIN:VEVENT
DTSTART;TZID=Europe/London:20300705T093000
DTEND;TZID=Europe/London:20300705T110000
DTSTAMP:20260424T211038
CREATED:20250312T113448Z
LAST-MODIFIED:20260112T192207Z
UID:10001192-1909474200-1909479600@visitmidhurst.com
SUMMARY:Active Antz by Everyone Active - Soft Play for Under 5's
DESCRIPTION:
URL:https://visitmidhurst.com/event/active-antz-by-everyone-active-soft-play-for-under-5s/2030-07-05/
LOCATION:The Grange Community and Leisure Centre\, GU29 9DH
CATEGORIES:Children
ATTACH;FMTTYPE=image/png:https://visitmidhurst.com/content/uploads/2025/03/Active-ants.png
END:VEVENT
BEGIN:VEVENT
DTSTART;TZID=Europe/London:20300705T200000
DTEND;TZID=Europe/London:20300705T230000
DTSTAMP:20260424T211038
CREATED:20260120T192711Z
LAST-MODIFIED:20260304T202041Z
UID:10001449-1909512000-1909522800@visitmidhurst.com
SUMMARY:First Friday's - Open Mike Nights @ The Bricks
DESCRIPTION:1st Friday of every month \nYou’ve got the talent \nYou Got The Gear \nNow you’ve got the Time and you’ve got place
URL:https://visitmidhurst.com/event/open-mike-night-the-bricks/2030-07-05/
LOCATION:The Bricklayers Arms\, Wool Lane\, Midhurst\, United Kingdom
CATEGORIES:Activities,Music
ATTACH;FMTTYPE=image/png:https://visitmidhurst.com/content/uploads/2026/01/Bricks-Cartoon.png
END:VEVENT
BEGIN:VEVENT
DTSTART;TZID=Europe/London:20300706T193000
DTEND;TZID=Europe/London:20300706T230000
DTSTAMP:20260424T211038
CREATED:20260207T093745Z
LAST-MODIFIED:20260207T094910Z
UID:10002034-1909596600-1909609200@visitmidhurst.com
SUMMARY:Bingo Night @ Midhurst Club
DESCRIPTION:
URL:https://visitmidhurst.com/event/bingo-night-midhurst-club/2030-07-06/
LOCATION:midhurst club\, 47a North Street\, Midhurst\, West sussex\, GU29 9DR\, United Kingdom
CATEGORIES:Activities,Entertainment,Music
ATTACH;FMTTYPE=image/jpeg:https://visitmidhurst.com/content/uploads/2026/02/Bingo-Midhusr-Club-1.jpg
END:VEVENT
BEGIN:VEVENT
DTSTART;TZID=Europe/London:20300708T200000
DTEND;TZID=Europe/London:20300708T230000
DTSTAMP:20260424T211038
CREATED:20260415T183853Z
LAST-MODIFIED:20260415T193319Z
UID:10003215-1909771200-1909782000@visitmidhurst.com
SUMMARY:Snooker Tournament
DESCRIPTION:
URL:https://visitmidhurst.com/event/snooker-tournament/2030-07-08/
LOCATION:midhurst club\, 47a North Street\, Midhurst\, West sussex\, GU29 9DR\, United Kingdom
CATEGORIES:Activities
ATTACH;FMTTYPE=image/jpeg:https://visitmidhurst.com/content/uploads/2026/04/snooker.jpg
END:VEVENT
BEGIN:VEVENT
DTSTART;TZID=Europe/London:20300709T093000
DTEND;TZID=Europe/London:20300709T110000
DTSTAMP:20260424T211038
CREATED:20250312T113448Z
LAST-MODIFIED:20260112T192207Z
UID:10001193-1909819800-1909825200@visitmidhurst.com
SUMMARY:Active Antz by Everyone Active - Soft Play for Under 5's
DESCRIPTION:
URL:https://visitmidhurst.com/event/active-antz-by-everyone-active-soft-play-for-under-5s/2030-07-09/
LOCATION:The Grange Community and Leisure Centre\, GU29 9DH
CATEGORIES:Children
ATTACH;FMTTYPE=image/png:https://visitmidhurst.com/content/uploads/2025/03/Active-ants.png
END:VEVENT
BEGIN:VEVENT
DTSTART;TZID=Europe/London:20300709T164500
DTEND;TZID=Europe/London:20300709T180000
DTSTAMP:20260424T211038
CREATED:20260120T200055Z
LAST-MODIFIED:20260120T200113Z
UID:10001688-1909845900-1909850400@visitmidhurst.com
SUMMARY:South Downs Sing Squad: Community Choir
DESCRIPTION:A new Community Choir has just launched for all in years 3-8 who love to sing.\n\n\n\nCome along on Tuesday afternoons at 1645 to Midhurst Parish Church* to sing with the South Downs Sing Squad!— at Midhurst Parish Church.\n\n\nTerm Time Only
URL:https://visitmidhurst.com/event/south-downs-sing-squad-community-choir/2030-07-09/
LOCATION:Midhurst Parish Church\, Sheep Lane\, Midhurst\, West Sussex\, GU29 9NT\, United Kingdom
CATEGORIES:Activities,Children,Music
ATTACH;FMTTYPE=image/png:https://visitmidhurst.com/content/uploads/2026/01/20260120_193350000_iOS.png
END:VEVENT
BEGIN:VEVENT
DTSTART;TZID=Europe/London:20300712T093000
DTEND;TZID=Europe/London:20300712T110000
DTSTAMP:20260424T211038
CREATED:20250312T113448Z
LAST-MODIFIED:20260112T192207Z
UID:10001194-1910079000-1910084400@visitmidhurst.com
SUMMARY:Active Antz by Everyone Active - Soft Play for Under 5's
DESCRIPTION:
URL:https://visitmidhurst.com/event/active-antz-by-everyone-active-soft-play-for-under-5s/2030-07-12/
LOCATION:The Grange Community and Leisure Centre\, GU29 9DH
CATEGORIES:Children
ATTACH;FMTTYPE=image/png:https://visitmidhurst.com/content/uploads/2025/03/Active-ants.png
END:VEVENT
BEGIN:VEVENT
DTSTART;TZID=Europe/London:20300714T190000
DTEND;TZID=Europe/London:20300714T220000
DTSTAMP:20260424T211038
CREATED:20260227T235950Z
LAST-MODIFIED:20260227T235950Z
UID:10002244-1910286000-1910296800@visitmidhurst.com
SUMMARY:Folk Music Night @ Three Moles
DESCRIPTION:
URL:https://visitmidhurst.com/event/folk-music-night-three-moles/2030-07-14/
LOCATION:Three Moles\, Selham\, West Sussex\, GU28 0PN\, United Kingdom
CATEGORIES:Music
ATTACH;FMTTYPE=image/png:https://visitmidhurst.com/content/uploads/2026/02/Folk.png
ORGANIZER;CN="The Three Moles":MAILTO:contact@thethreemoles.co.uk
END:VEVENT
BEGIN:VEVENT
DTSTART;TZID=Europe/London:20300715T200000
DTEND;TZID=Europe/London:20300715T230000
DTSTAMP:20260424T211038
CREATED:20260415T183853Z
LAST-MODIFIED:20260415T193319Z
UID:10003216-1910376000-1910386800@visitmidhurst.com
SUMMARY:Snooker Tournament
DESCRIPTION:
URL:https://visitmidhurst.com/event/snooker-tournament/2030-07-15/
LOCATION:midhurst club\, 47a North Street\, Midhurst\, West sussex\, GU29 9DR\, United Kingdom
CATEGORIES:Activities
ATTACH;FMTTYPE=image/jpeg:https://visitmidhurst.com/content/uploads/2026/04/snooker.jpg
END:VEVENT
BEGIN:VEVENT
DTSTART;TZID=Europe/London:20300716T093000
DTEND;TZID=Europe/London:20300716T110000
DTSTAMP:20260424T211038
CREATED:20250312T113448Z
LAST-MODIFIED:20260112T192207Z
UID:10001195-1910424600-1910430000@visitmidhurst.com
SUMMARY:Active Antz by Everyone Active - Soft Play for Under 5's
DESCRIPTION:
URL:https://visitmidhurst.com/event/active-antz-by-everyone-active-soft-play-for-under-5s/2030-07-16/
LOCATION:The Grange Community and Leisure Centre\, GU29 9DH
CATEGORIES:Children
ATTACH;FMTTYPE=image/png:https://visitmidhurst.com/content/uploads/2025/03/Active-ants.png
END:VEVENT
BEGIN:VEVENT
DTSTART;TZID=Europe/London:20300716T164500
DTEND;TZID=Europe/London:20300716T180000
DTSTAMP:20260424T211038
CREATED:20260120T200055Z
LAST-MODIFIED:20260120T200113Z
UID:10001689-1910450700-1910455200@visitmidhurst.com
SUMMARY:South Downs Sing Squad: Community Choir
DESCRIPTION:A new Community Choir has just launched for all in years 3-8 who love to sing.\n\n\n\nCome along on Tuesday afternoons at 1645 to Midhurst Parish Church* to sing with the South Downs Sing Squad!— at Midhurst Parish Church.\n\n\nTerm Time Only
URL:https://visitmidhurst.com/event/south-downs-sing-squad-community-choir/2030-07-16/
LOCATION:Midhurst Parish Church\, Sheep Lane\, Midhurst\, West Sussex\, GU29 9NT\, United Kingdom
CATEGORIES:Activities,Children,Music
ATTACH;FMTTYPE=image/png:https://visitmidhurst.com/content/uploads/2026/01/20260120_193350000_iOS.png
END:VEVENT
BEGIN:VEVENT
DTSTART;TZID=Europe/London:20300719T093000
DTEND;TZID=Europe/London:20300719T110000
DTSTAMP:20260424T211038
CREATED:20250312T113448Z
LAST-MODIFIED:20260112T192207Z
UID:10001196-1910683800-1910689200@visitmidhurst.com
SUMMARY:Active Antz by Everyone Active - Soft Play for Under 5's
DESCRIPTION:
URL:https://visitmidhurst.com/event/active-antz-by-everyone-active-soft-play-for-under-5s/2030-07-19/
LOCATION:The Grange Community and Leisure Centre\, GU29 9DH
CATEGORIES:Children
ATTACH;FMTTYPE=image/png:https://visitmidhurst.com/content/uploads/2025/03/Active-ants.png
END:VEVENT
BEGIN:VEVENT
DTSTART;TZID=Europe/London:20300722T200000
DTEND;TZID=Europe/London:20300722T230000
DTSTAMP:20260424T211038
CREATED:20260415T183853Z
LAST-MODIFIED:20260415T193319Z
UID:10003217-1910980800-1910991600@visitmidhurst.com
SUMMARY:Snooker Tournament
DESCRIPTION:
URL:https://visitmidhurst.com/event/snooker-tournament/2030-07-22/
LOCATION:midhurst club\, 47a North Street\, Midhurst\, West sussex\, GU29 9DR\, United Kingdom
CATEGORIES:Activities
ATTACH;FMTTYPE=image/jpeg:https://visitmidhurst.com/content/uploads/2026/04/snooker.jpg
END:VEVENT
BEGIN:VEVENT
DTSTART;TZID=Europe/London:20300723T093000
DTEND;TZID=Europe/London:20300723T110000
DTSTAMP:20260424T211038
CREATED:20250312T113448Z
LAST-MODIFIED:20260112T192207Z
UID:10001197-1911029400-1911034800@visitmidhurst.com
SUMMARY:Active Antz by Everyone Active - Soft Play for Under 5's
DESCRIPTION:
URL:https://visitmidhurst.com/event/active-antz-by-everyone-active-soft-play-for-under-5s/2030-07-23/
LOCATION:The Grange Community and Leisure Centre\, GU29 9DH
CATEGORIES:Children
ATTACH;FMTTYPE=image/png:https://visitmidhurst.com/content/uploads/2025/03/Active-ants.png
END:VEVENT
BEGIN:VEVENT
DTSTART;TZID=Europe/London:20300723T164500
DTEND;TZID=Europe/London:20300723T180000
DTSTAMP:20260424T211038
CREATED:20260120T200055Z
LAST-MODIFIED:20260120T200113Z
UID:10001690-1911055500-1911060000@visitmidhurst.com
SUMMARY:South Downs Sing Squad: Community Choir
DESCRIPTION:A new Community Choir has just launched for all in years 3-8 who love to sing.\n\n\n\nCome along on Tuesday afternoons at 1645 to Midhurst Parish Church* to sing with the South Downs Sing Squad!— at Midhurst Parish Church.\n\n\nTerm Time Only
URL:https://visitmidhurst.com/event/south-downs-sing-squad-community-choir/2030-07-23/
LOCATION:Midhurst Parish Church\, Sheep Lane\, Midhurst\, West Sussex\, GU29 9NT\, United Kingdom
CATEGORIES:Activities,Children,Music
ATTACH;FMTTYPE=image/png:https://visitmidhurst.com/content/uploads/2026/01/20260120_193350000_iOS.png
END:VEVENT
BEGIN:VEVENT
DTSTART;TZID=Europe/London:20300726T093000
DTEND;TZID=Europe/London:20300726T110000
DTSTAMP:20260424T211038
CREATED:20250312T113448Z
LAST-MODIFIED:20260112T192207Z
UID:10001198-1911288600-1911294000@visitmidhurst.com
SUMMARY:Active Antz by Everyone Active - Soft Play for Under 5's
DESCRIPTION:
URL:https://visitmidhurst.com/event/active-antz-by-everyone-active-soft-play-for-under-5s/2030-07-26/
LOCATION:The Grange Community and Leisure Centre\, GU29 9DH
CATEGORIES:Children
ATTACH;FMTTYPE=image/png:https://visitmidhurst.com/content/uploads/2025/03/Active-ants.png
END:VEVENT
BEGIN:VEVENT
DTSTART;TZID=Europe/London:20300728T080000
DTEND;TZID=Europe/London:20300728T110000
DTSTAMP:20260424T211038
CREATED:20260125T125611Z
LAST-MODIFIED:20260125T125611Z
UID:10001926-1911456000-1911466800@visitmidhurst.com
SUMMARY:Land Rover Social @ The Royal Oak
DESCRIPTION:A regular meet in the Car park of The Royal Oak for Land Rover Enthusiasts
URL:https://visitmidhurst.com/event/land-rover-social-the-royal-oak/2030-07-28/
LOCATION:Royal Oak\, Oaklands Lane\, Midhurst\, West Sussex\, GU29 0EP\, United Kingdom
CATEGORIES:Activities
ATTACH;FMTTYPE=image/png:https://visitmidhurst.com/content/uploads/2026/01/Landrover.png
END:VEVENT
END:VCALENDAR