BEGIN:VCALENDAR
VERSION:2.0
PRODID:-//Visit Midhurst - ECPv6.15.0.1//NONSGML v1.0//EN
CALSCALE:GREGORIAN
METHOD:PUBLISH
X-ORIGINAL-URL:https://visitmidhurst.com
X-WR-CALDESC:Events for Visit Midhurst
REFRESH-INTERVAL;VALUE=DURATION:PT1H
X-Robots-Tag:noindex
X-PUBLISHED-TTL:PT1H
BEGIN:VTIMEZONE
TZID:Europe/London
BEGIN:DAYLIGHT
TZOFFSETFROM:+0000
TZOFFSETTO:+0100
TZNAME:BST
DTSTART:20260329T010000
END:DAYLIGHT
BEGIN:STANDARD
TZOFFSETFROM:+0100
TZOFFSETTO:+0000
TZNAME:GMT
DTSTART:20261025T010000
END:STANDARD
END:VTIMEZONE
BEGIN:VEVENT
DTSTART;TZID=Europe/London:20260618T101500
DTEND;TZID=Europe/London:20260618T123000
DTSTAMP:20260424T153506
CREATED:20260331T170628Z
LAST-MODIFIED:20260331T170628Z
UID:10002587-1781777700-1781785800@visitmidhurst.com
SUMMARY:Heyshott & The Roughs Circular Approx. 3 Miles - 5km
DESCRIPTION:
URL:https://visitmidhurst.com/event/heyshott-the-roughs-circular-approx-3-miles-5km-2/
LOCATION:West sussex
CATEGORIES:Activities,Sport
ATTACH;FMTTYPE=image/jpeg:https://visitmidhurst.com/content/uploads/2026/01/Coats-On.jpg
END:VEVENT
BEGIN:VEVENT
DTSTART;TZID=Europe/London:20260618T111500
DTEND;TZID=Europe/London:20260618T234500
DTSTAMP:20260424T153506
CREATED:20260117T144543Z
LAST-MODIFIED:20260117T144845Z
UID:10001313-1781781300-1781826300@visitmidhurst.com
SUMMARY:Rhyme Time @ Midhurst Library
DESCRIPTION:Free\, no booking required.  A drop-in\, interactive\, stories and songs session\, for babies and toddlers under 5 years of age with an accompanying adult.  Held in the Midhurst library within the Grange Community Centre.
URL:https://visitmidhurst.com/event/rhyme-time-midhurst-library/2026-06-18/
LOCATION:Midhurst Library\, The Grange Leisure Centre\, Midhurst\, west Sussex\, GU29 9HD\, United Kingdom
CATEGORIES:Activities,Children,Music
ATTACH;FMTTYPE=image/png:https://visitmidhurst.com/content/uploads/2026/01/rhyme-time.png
END:VEVENT
BEGIN:VEVENT
DTSTART;TZID=Europe/London:20260618T193000
DTEND;TZID=Europe/London:20260618T210000
DTSTAMP:20260424T153506
CREATED:20260105T141028Z
LAST-MODIFIED:20260105T142625Z
UID:10001059-1781811000-1781816400@visitmidhurst.com
SUMMARY:Paul Ullson - Vikings and Normans: Midhurst Society Talk
DESCRIPTION:18th June – Paul Ullson – Vikings and Normans \nPaul returns to The Midhurst Society by popular demand. His always entertaining and informative talk this time will be about Vikings and Normans. \nSouth Downs Memorial Hall\, North Street\, Midhurst\, and start at 7.30pm.
URL:https://visitmidhurst.com/event/nigel-goodenough-bellringing-midhurst-society-talk-2/
LOCATION:Memorial Hall\, Midhurst
ATTACH;FMTTYPE=image/jpeg:https://visitmidhurst.com/content/uploads/2026/01/Midhust-Soc.jpg
END:VEVENT
BEGIN:VEVENT
DTSTART;VALUE=DATE:20260619
DTEND;VALUE=DATE:20260620
DTSTAMP:20260424T153506
CREATED:20260108T221105Z
LAST-MODIFIED:20260108T221105Z
UID:10001150-1781827200-1781913599@visitmidhurst.com
SUMMARY:Goodwood Racecourse: Three Friday Nights
DESCRIPTION:Featuring a unique combination of racing and music\, Three Friday Nights hosts a series of unforgettable evenings across June. Dance the night away in our Parade Ring as the sun sets.
URL:https://visitmidhurst.com/event/goodwood-racecourse-three-friday-nights-3/
LOCATION:Goodwood Racecourse\, Selhurstpark Rd\, Chichester\, West Sussex\, PO18 0PS\, United Kingdom
CATEGORIES:Music,Sport
ATTACH;FMTTYPE=image/png:https://visitmidhurst.com/content/uploads/2026/01/3-Fridays.png
ORGANIZER;CN="Goodwood Racecourse":MAILTO:ticket.office@goodwood.com
END:VEVENT
BEGIN:VEVENT
DTSTART;VALUE=DATE:20260619
DTEND;VALUE=DATE:20260622
DTSTAMP:20260424T153506
CREATED:20260215T192811Z
LAST-MODIFIED:20260215T192811Z
UID:10002048-1781827200-1782086399@visitmidhurst.com
SUMMARY:Wests Wood Fair 2026
DESCRIPTION:Hamble and Hound Gundog Club providing gundog displays twice a day. On the Saturday & Sunday they will also be running a dog scurry\, whether your dog is a seasoned pro or has never done it before\, they are welcome to have a go. \nThere will be our chainsaw race on the Saturday & Sunday and pole climbing demonstrations across all 3 days. Joining us again on Saturday & Sunday will be The Dorset Axemen\, who’s displays contain all aspects of speed and accuracy chopping and crosscut sawing with razor sharp axes and saws. \n \nJoining us again are the British Lawnmower Racing Association who will be running lawnmower racing on the Saturday & Sunday. \nhot air balloons\, from the Surrey & Sussex Balloon Group\, taking off from the wood fair both early mornings & early evenings. \nOur Kids Corner will be returning featuring den building\, mud kitchens\, games\, face painting\, storytime a couple of times a day\, paint your own totem pole & plant your own flower. \n \nWe will have heavy horses pulling our wooden pole-waggon and putting on logging demonstrations and our tractor & trailer ride will of course be available taking you into the depths of the forest. Plus our newer activities\, like crazy croquet and I’m a lumberjack get me out of here are returning. \nWe’ll be running the Sussex Scrumpy Stakes again on Saturday & Sunday\, which is a free entry competition. Participants have to drink a glass of scrumpy\, before running down the hill\, do some apple bobbing\, down a shot\, then the winning contestant is the one who finds the golden apple in a trailer full of sawdust\, and walks away with a prize of £100. \n\n \nThere will be lots of other activities to take part in\, such as axe-throwing and archery\, or you could try your hand at the timber identification competition or hammer in the nail challenge\, both of which are free to enter. Plus the log roll will be available\, which is always popular with the kids. \nThere will be the steam engine powering a saw mill\, some vintage tractors and other steam engines & lorries. And we will be bringing some our our showroom products down into the field. \nOur chainsaw carving competition will run over all 3 days\, and once again on Sunday the public will be able to vote for the winner\, see the chainsaw carving competition page for previous results and the winning pieces. And we’re hoping to hold an auction end of the day Sunday where you’ll have the chance to win some of the carvings. \nThere will be a wide range of food and drink available. The Woodturner’s Rest (our specially built pub) will once again be opening it’s doors and serving a selection of locally produced real ales. And there will be live music going on throughout the weekend.
URL:https://visitmidhurst.com/event/wests-wood-fair-2026/
LOCATION:In the field behind West’s of East Dean\, New House Lane\, East Dean\, West sussex\, P018 0NJ\, United Kingdom
CATEGORIES:Activities,Music,Shopping
ATTACH;FMTTYPE=image/png:https://visitmidhurst.com/content/uploads/2026/02/lawnmowers.png
ORGANIZER;CN="wests of East Dean":MAILTO:info@westsofeastdean.co.uk
END:VEVENT
BEGIN:VEVENT
DTSTART;TZID=Europe/London:20260619T093000
DTEND;TZID=Europe/London:20260619T110000
DTSTAMP:20260424T153506
CREATED:20250312T113448Z
LAST-MODIFIED:20260112T192207Z
UID:10000636-1781861400-1781866800@visitmidhurst.com
SUMMARY:Active Antz by Everyone Active - Soft Play for Under 5's
DESCRIPTION:
URL:https://visitmidhurst.com/event/active-antz-by-everyone-active-soft-play-for-under-5s/2026-06-19/
LOCATION:The Grange Community and Leisure Centre\, GU29 9DH
CATEGORIES:Children
ATTACH;FMTTYPE=image/png:https://visitmidhurst.com/content/uploads/2025/03/Active-ants.png
END:VEVENT
BEGIN:VEVENT
DTSTART;TZID=Europe/London:20260619T230000
DTEND;TZID=Europe/London:20260620T010000
DTSTAMP:20260424T153506
CREATED:20260415T173416Z
LAST-MODIFIED:20260415T173550Z
UID:10002719-1781910000-1781917200@visitmidhurst.com
SUMMARY:Scotland vs Morocco
DESCRIPTION:FIFA World Cup 2026 match. Kick-off time shown in UK time. UK broadcaster: ITV.
URL:https://visitmidhurst.com/event/scotland-vs-morocco-2/
LOCATION:West sussex
CATEGORIES:Football
ATTACH;FMTTYPE=image/png:https://visitmidhurst.com/content/uploads/2026/04/world-cup-300x200-FgO50V.png
END:VEVENT
BEGIN:VEVENT
DTSTART;TZID=Europe/London:20260620T083000
DTEND;TZID=Europe/London:20260620T140000
DTSTAMP:20260424T153506
CREATED:20260105T155955Z
LAST-MODIFIED:20260105T155955Z
UID:10001078-1781944200-1781964000@visitmidhurst.com
SUMMARY:Monthly Market @ The Grange
DESCRIPTION:
URL:https://visitmidhurst.com/event/monthly-market-the-grange-5/
LOCATION:The Grange Community and Leisure Centre\, GU29 9DH
CATEGORIES:Shopping
ATTACH;FMTTYPE=image/png:https://visitmidhurst.com/content/uploads/2026/01/Market.png
END:VEVENT
BEGIN:VEVENT
DTSTART;TZID=Europe/London:20260622T200000
DTEND;TZID=Europe/London:20260622T230000
DTSTAMP:20260424T153506
CREATED:20260415T183853Z
LAST-MODIFIED:20260415T193319Z
UID:10003004-1782158400-1782169200@visitmidhurst.com
SUMMARY:Snooker Tournament
DESCRIPTION:
URL:https://visitmidhurst.com/event/snooker-tournament/2026-06-22/
LOCATION:midhurst club\, 47a North Street\, Midhurst\, West sussex\, GU29 9DR\, United Kingdom
CATEGORIES:Activities
ATTACH;FMTTYPE=image/jpeg:https://visitmidhurst.com/content/uploads/2026/04/snooker.jpg
END:VEVENT
BEGIN:VEVENT
DTSTART;TZID=Europe/London:20260623T093000
DTEND;TZID=Europe/London:20260623T110000
DTSTAMP:20260424T153506
CREATED:20250312T113448Z
LAST-MODIFIED:20260112T192207Z
UID:10000637-1782207000-1782212400@visitmidhurst.com
SUMMARY:Active Antz by Everyone Active - Soft Play for Under 5's
DESCRIPTION:
URL:https://visitmidhurst.com/event/active-antz-by-everyone-active-soft-play-for-under-5s/2026-06-23/
LOCATION:The Grange Community and Leisure Centre\, GU29 9DH
CATEGORIES:Children
ATTACH;FMTTYPE=image/png:https://visitmidhurst.com/content/uploads/2025/03/Active-ants.png
END:VEVENT
BEGIN:VEVENT
DTSTART;TZID=Europe/London:20260623T164500
DTEND;TZID=Europe/London:20260623T180000
DTSTAMP:20260424T153506
CREATED:20260120T200055Z
LAST-MODIFIED:20260120T200113Z
UID:10001477-1782233100-1782237600@visitmidhurst.com
SUMMARY:South Downs Sing Squad: Community Choir
DESCRIPTION:A new Community Choir has just launched for all in years 3-8 who love to sing.\n\n\n\nCome along on Tuesday afternoons at 1645 to Midhurst Parish Church* to sing with the South Downs Sing Squad!— at Midhurst Parish Church.\n\n\nTerm Time Only
URL:https://visitmidhurst.com/event/south-downs-sing-squad-community-choir/2026-06-23/
LOCATION:Midhurst Parish Church\, Sheep Lane\, Midhurst\, West Sussex\, GU29 9NT\, United Kingdom
CATEGORIES:Activities,Children,Music
ATTACH;FMTTYPE=image/png:https://visitmidhurst.com/content/uploads/2026/01/20260120_193350000_iOS.png
END:VEVENT
BEGIN:VEVENT
DTSTART;TZID=Europe/London:20260623T210000
DTEND;TZID=Europe/London:20260623T230000
DTSTAMP:20260424T153506
CREATED:20260415T173412Z
LAST-MODIFIED:20260415T173550Z
UID:10002716-1782248400-1782255600@visitmidhurst.com
SUMMARY:England vs Ghana
DESCRIPTION:FIFA World Cup 2026 match. Kick-off time shown in UK time. UK broadcaster: BBC.
URL:https://visitmidhurst.com/event/england-vs-ghana-2/
LOCATION:West sussex
CATEGORIES:Football
ATTACH;FMTTYPE=image/png:https://visitmidhurst.com/content/uploads/2026/04/world-cup-300x200-FgO50V.png
END:VEVENT
BEGIN:VEVENT
DTSTART;TZID=Europe/London:20260624T153000
DTEND;TZID=Europe/London:20260624T163000
DTSTAMP:20260424T153506
CREATED:20260117T150019Z
LAST-MODIFIED:20260117T150019Z
UID:10001365-1782315000-1782318600@visitmidhurst.com
SUMMARY:Construction Club @ Midhurst Library
DESCRIPTION:Little people with little bricks and big ideas. \nFree of charge\, drop in\, no booking required.  Age 4+ accompanied by an adult.
URL:https://visitmidhurst.com/event/construction-club-midhurst-library/2026-06-24/
LOCATION:Midhurst Library\, The Grange Leisure Centre\, Midhurst\, west Sussex\, GU29 9HD\, United Kingdom
CATEGORIES:Activities,Children
ATTACH;FMTTYPE=image/png:https://visitmidhurst.com/content/uploads/2026/01/construction-club.png
END:VEVENT
BEGIN:VEVENT
DTSTART;TZID=Europe/London:20260624T200000
DTEND;TZID=Europe/London:20260624T230000
DTSTAMP:20260424T153506
CREATED:20260304T192321Z
LAST-MODIFIED:20260415T185936Z
UID:10002265-1782331200-1782342000@visitmidhurst.com
SUMMARY:Open Mike Night @ Faustino's
DESCRIPTION:
URL:https://visitmidhurst.com/event/open-mike-night-faustinos-2/2026-06-24/
LOCATION:Faustino’s\, 2a North Street\, Midhurst\, West Sussex\, GU29 9DJ\, United Kingdom
CATEGORIES:Activities
ATTACH;FMTTYPE=image/png:https://visitmidhurst.com/content/uploads/2026/03/open-Mike.png
END:VEVENT
BEGIN:VEVENT
DTSTART;TZID=Europe/London:20260624T230000
DTEND;TZID=Europe/London:20260625T010000
DTSTAMP:20260424T153506
CREATED:20260415T173420Z
LAST-MODIFIED:20260415T173550Z
UID:10002720-1782342000-1782349200@visitmidhurst.com
SUMMARY:Scotland vs Brazil
DESCRIPTION:FIFA World Cup 2026 match. Kick-off time shown in UK time. UK broadcaster: BBC (TBC).
URL:https://visitmidhurst.com/event/scotland-vs-brazil-2/
LOCATION:West sussex
CATEGORIES:Football
ATTACH;FMTTYPE=image/png:https://visitmidhurst.com/content/uploads/2026/04/world-cup-300x200-FgO50V.png
END:VEVENT
BEGIN:VEVENT
DTSTART;TZID=Europe/London:20260625T111500
DTEND;TZID=Europe/London:20260625T234500
DTSTAMP:20260424T153506
CREATED:20260117T144543Z
LAST-MODIFIED:20260117T144845Z
UID:10001314-1782386100-1782431100@visitmidhurst.com
SUMMARY:Rhyme Time @ Midhurst Library
DESCRIPTION:Free\, no booking required.  A drop-in\, interactive\, stories and songs session\, for babies and toddlers under 5 years of age with an accompanying adult.  Held in the Midhurst library within the Grange Community Centre.
URL:https://visitmidhurst.com/event/rhyme-time-midhurst-library/2026-06-25/
LOCATION:Midhurst Library\, The Grange Leisure Centre\, Midhurst\, west Sussex\, GU29 9HD\, United Kingdom
CATEGORIES:Activities,Children,Music
ATTACH;FMTTYPE=image/png:https://visitmidhurst.com/content/uploads/2026/01/rhyme-time.png
END:VEVENT
BEGIN:VEVENT
DTSTART;VALUE=DATE:20260626
DTEND;VALUE=DATE:20260627
DTSTAMP:20260424T153506
CREATED:20260331T170743Z
LAST-MODIFIED:20260331T170821Z
UID:10002588-1782432000-1782518399@visitmidhurst.com
SUMMARY:TUESDAY 26TH JUNE TO BE CONFIRMED
DESCRIPTION:
URL:https://visitmidhurst.com/event/tuesday-26th-june-to-be-confirmed/
LOCATION:West sussex
CATEGORIES:Activities,Sport
ATTACH;FMTTYPE=image/jpeg:https://visitmidhurst.com/content/uploads/2026/01/Coats-On.jpg
ORGANIZER;CN="Coat On Coat Off Wet Feet":MAILTO:vicki@thetalldog.co.uk
END:VEVENT
BEGIN:VEVENT
DTSTART;TZID=Europe/London:20260626T093000
DTEND;TZID=Europe/London:20260626T110000
DTSTAMP:20260424T153506
CREATED:20250312T113448Z
LAST-MODIFIED:20260112T192207Z
UID:10000638-1782466200-1782471600@visitmidhurst.com
SUMMARY:Active Antz by Everyone Active - Soft Play for Under 5's
DESCRIPTION:
URL:https://visitmidhurst.com/event/active-antz-by-everyone-active-soft-play-for-under-5s/2026-06-26/
LOCATION:The Grange Community and Leisure Centre\, GU29 9DH
CATEGORIES:Children
ATTACH;FMTTYPE=image/png:https://visitmidhurst.com/content/uploads/2025/03/Active-ants.png
END:VEVENT
BEGIN:VEVENT
DTSTART;TZID=Europe/London:20260626T190000
DTEND;TZID=Europe/London:20260626T210000
DTSTAMP:20260424T153506
CREATED:20260108T200011Z
LAST-MODIFIED:20260108T200011Z
UID:10001123-1782500400-1782507600@visitmidhurst.com
SUMMARY:Run the Seasons Summer Race 2026 @ Cowdray
DESCRIPTION:Friday 26th June at 7pm is the date for this season’s finale of Run the Seasons. \nIf last year’s event is anything to go by\, this will be the highlight of the series. \nSet above Cowdray’s world class polo field and overlooking the Cowdray Ruins and the South Downs\, we’ll have a BBQ and bar/marquee open to celebrate the end of the series and present Cowdray’s luxury hampers to the lucky winners. \nThe run will take you around the famous Cowdray Polo Lawns and out to Heyshott Common. Runners will have the choice of taking on either a 10km\, 5km or a dog-friendly  course across the stunning grounds of Cowdray Estate and the South Downs National Park. \nOverall winners and series league positions will be decided on a points system with the top three results counting towards the 10km title. \nCompetitors receive a unique medal that interlocks into a four-piece set and free photos. We’ll also be dishing out numerous spot prizes as runners cross the finish line.
URL:https://visitmidhurst.com/event/run-the-seasons-summer-race-2026-cowdray/
LOCATION:West sussex
ATTACH;FMTTYPE=image/jpeg:https://visitmidhurst.com/content/uploads/2026/01/Cowdray.jpg
END:VEVENT
BEGIN:VEVENT
DTSTART;TZID=Europe/London:20260626T193000
DTEND;TZID=Europe/London:20260626T220000
DTSTAMP:20260424T153506
CREATED:20260415T174806Z
LAST-MODIFIED:20260415T174806Z
UID:10002721-1782502200-1782511200@visitmidhurst.com
SUMMARY:MADhurst Fashion Show
DESCRIPTION:
URL:https://visitmidhurst.com/event/madhurst-fashion-show/
LOCATION:Memorial Hall\, Midhurst
CATEGORIES:Activities,Entertainment,Shopping
ATTACH;FMTTYPE=image/png:https://visitmidhurst.com/content/uploads/2026/04/Fashion-Show-Banner.png
ORGANIZER;CN="MADhurst":MAILTO:secretary@madhurst.co.uk
END:VEVENT
BEGIN:VEVENT
DTSTART;TZID=Europe/London:20260627T173000
DTEND;TZID=Europe/London:20260627T230000
DTSTAMP:20260424T153506
CREATED:20260108T200424Z
LAST-MODIFIED:20260108T200445Z
UID:10001124-1782581400-1782601200@visitmidhurst.com
SUMMARY:Cowdray Shop Cowdray & Western at Cowdray Park Polo Club
DESCRIPTION:Cowdray & Western is an event for everyone. Whether you’re a lifelong country fan or just love a great night out\, this promises to be an evening full of fun and Cowdray spirit. Families are especially welcome\, and children under 12 can join the festivities free of charge.  \nEnjoy vintage funfair attractions and western themed games. You might even meet a cowboy at the saloon. \nSo\, dust off your boots\, gather your friends and get ready for a night of great music\, dancing\, and true country charm beneath the Sussex skies.  \nDress Code: Country Glamour \n*Please claim a complimentary child ticket for guests under 12. Limited to 3 per adult with ticket purchase. \nBook your tickets here
URL:https://visitmidhurst.com/event/cowdray-shop-cowdray-western-at-cowdray-park-polo-club/
LOCATION:Cowdray Park Polo Lawns\, Midhurst\, GU290AJ
CATEGORIES:Children
ATTACH;FMTTYPE=image/jpeg:https://visitmidhurst.com/content/uploads/2026/01/Cowdray.jpg
END:VEVENT
BEGIN:VEVENT
DTSTART;TZID=Europe/London:20260627T200000
DTEND;TZID=Europe/London:20260627T230000
DTSTAMP:20260424T153506
CREATED:20260225T231134Z
LAST-MODIFIED:20260225T231134Z
UID:10002063-1782590400-1782601200@visitmidhurst.com
SUMMARY:The Captains Beard: sea-shanties pirate rock style!
DESCRIPTION:The Three Moles\, Selham\, GU28 0PN. All events are free entry. \nNo tickets or bookings required. No under 12s at any time. No under 18s past 9pm.
URL:https://visitmidhurst.com/event/the-captains-beard-sea-shanties-pirate-rock-style/
LOCATION:Three Moles\, Selham\, West Sussex\, GU28 0PN\, United Kingdom
CATEGORIES:Entertainment,Music
ATTACH;FMTTYPE=image/jpeg:https://visitmidhurst.com/content/uploads/2026/02/Sea-Shantys.jpg
ORGANIZER;CN="The Three Moles":MAILTO:contact@thethreemoles.co.uk
END:VEVENT
BEGIN:VEVENT
DTSTART;TZID=Europe/London:20260627T220000
DTEND;TZID=Europe/London:20260628T000000
DTSTAMP:20260424T153506
CREATED:20260415T173413Z
LAST-MODIFIED:20260415T173550Z
UID:10002717-1782597600-1782604800@visitmidhurst.com
SUMMARY:Panama vs England
DESCRIPTION:FIFA World Cup 2026 match. Kick-off time shown in UK time. UK broadcaster: ITV.
URL:https://visitmidhurst.com/event/panama-vs-england-2/
LOCATION:West sussex
CATEGORIES:Football
ATTACH;FMTTYPE=image/png:https://visitmidhurst.com/content/uploads/2026/04/world-cup-300x200-FgO50V.png
END:VEVENT
BEGIN:VEVENT
DTSTART;TZID=Europe/London:20260628T080000
DTEND;TZID=Europe/London:20260628T110000
DTSTAMP:20260424T153506
CREATED:20260125T125611Z
LAST-MODIFIED:20260125T125611Z
UID:10001877-1782633600-1782644400@visitmidhurst.com
SUMMARY:Land Rover Social @ The Royal Oak
DESCRIPTION:A regular meet in the Car park of The Royal Oak for Land Rover Enthusiasts
URL:https://visitmidhurst.com/event/land-rover-social-the-royal-oak/2026-06-28/
LOCATION:Royal Oak\, Oaklands Lane\, Midhurst\, West Sussex\, GU29 0EP\, United Kingdom
CATEGORIES:Activities
ATTACH;FMTTYPE=image/png:https://visitmidhurst.com/content/uploads/2026/01/Landrover.png
END:VEVENT
BEGIN:VEVENT
DTSTART;TZID=Europe/London:20260628T100000
DTEND;TZID=Europe/London:20260628T130000
DTSTAMP:20260424T153506
CREATED:20260105T160847Z
LAST-MODIFIED:20260105T160847Z
UID:10001083-1782640800-1782651600@visitmidhurst.com
SUMMARY:Indoor Car Boot Sale @ The Grange
DESCRIPTION:
URL:https://visitmidhurst.com/event/indoor-car-boot-sale-the-grange-5/
LOCATION:The Grange Community and Leisure Centre\, GU29 9DH
CATEGORIES:Shopping
ATTACH;FMTTYPE=image/png:https://visitmidhurst.com/content/uploads/2026/01/Car-Boot-Sale.png
END:VEVENT
BEGIN:VEVENT
DTSTART;TZID=Europe/London:20260628T100000
DTEND;TZID=Europe/London:20260628T180000
DTSTAMP:20260424T153506
CREATED:20260108T200705Z
LAST-MODIFIED:20260108T200705Z
UID:10001125-1782640800-1782669600@visitmidhurst.com
SUMMARY:Midhurst Town Cup
DESCRIPTION:Held on the opening Sunday in June of the Cowdray Gold Cup tournament\, featuring high-goal polo and a range of entertainment off the pitch including demonstrations\, shopping village\, street food\, pop-up bars and more. \nTickets are limited\, book now to avoid disappointment. Book your tickets here. \nDate: Sunday 28th June 2026\nGates Open: 10:00am\nLocation: Lawns \nLast Entry: 20:00 (No readmittance after this time)
URL:https://visitmidhurst.com/event/midhurst-town-cup/
LOCATION:West sussex
CATEGORIES:Music,Shopping
ATTACH;FMTTYPE=image/jpeg:https://visitmidhurst.com/content/uploads/2026/01/Cowdray.jpg
END:VEVENT
BEGIN:VEVENT
DTSTART;TZID=Europe/London:20260628T190000
DTEND;TZID=Europe/London:20260628T210000
DTSTAMP:20260424T153506
CREATED:20260225T232101Z
LAST-MODIFIED:20260227T230718Z
UID:10002135-1782673200-1782680400@visitmidhurst.com
SUMMARY:Blues Night @ The Three Moles
DESCRIPTION:The Three Moles\, Selham\, GU28 0PN. All events are free entry. \nNo tickets or bookings required. No under 12s at any time. No under 18s past 9pm.
URL:https://visitmidhurst.com/event/absolutely-dragulous-show-2/2026-06-28/
LOCATION:Three Moles\, Selham\, West Sussex\, GU28 0PN\, United Kingdom
CATEGORIES:Entertainment,Music
ATTACH;FMTTYPE=image/jpeg:https://visitmidhurst.com/content/uploads/2026/02/Blues-Jam-Psychadelic-Hearts-Club.jpg
ORGANIZER;CN="The Three Moles":MAILTO:contact@thethreemoles.co.uk
END:VEVENT
BEGIN:VEVENT
DTSTART;TZID=Europe/London:20260629T200000
DTEND;TZID=Europe/London:20260629T230000
DTSTAMP:20260424T153506
CREATED:20260415T183853Z
LAST-MODIFIED:20260415T193319Z
UID:10003005-1782763200-1782774000@visitmidhurst.com
SUMMARY:Snooker Tournament
DESCRIPTION:
URL:https://visitmidhurst.com/event/snooker-tournament/2026-06-29/
LOCATION:midhurst club\, 47a North Street\, Midhurst\, West sussex\, GU29 9DR\, United Kingdom
CATEGORIES:Activities
ATTACH;FMTTYPE=image/jpeg:https://visitmidhurst.com/content/uploads/2026/04/snooker.jpg
END:VEVENT
BEGIN:VEVENT
DTSTART;TZID=Europe/London:20260630T093000
DTEND;TZID=Europe/London:20260630T110000
DTSTAMP:20260424T153506
CREATED:20250312T113448Z
LAST-MODIFIED:20260112T192207Z
UID:10000639-1782811800-1782817200@visitmidhurst.com
SUMMARY:Active Antz by Everyone Active - Soft Play for Under 5's
DESCRIPTION:
URL:https://visitmidhurst.com/event/active-antz-by-everyone-active-soft-play-for-under-5s/2026-06-30/
LOCATION:The Grange Community and Leisure Centre\, GU29 9DH
CATEGORIES:Children
ATTACH;FMTTYPE=image/png:https://visitmidhurst.com/content/uploads/2025/03/Active-ants.png
END:VEVENT
BEGIN:VEVENT
DTSTART;TZID=Europe/London:20260630T164500
DTEND;TZID=Europe/London:20260630T180000
DTSTAMP:20260424T153506
CREATED:20260120T200055Z
LAST-MODIFIED:20260120T200113Z
UID:10001478-1782837900-1782842400@visitmidhurst.com
SUMMARY:South Downs Sing Squad: Community Choir
DESCRIPTION:A new Community Choir has just launched for all in years 3-8 who love to sing.\n\n\n\nCome along on Tuesday afternoons at 1645 to Midhurst Parish Church* to sing with the South Downs Sing Squad!— at Midhurst Parish Church.\n\n\nTerm Time Only
URL:https://visitmidhurst.com/event/south-downs-sing-squad-community-choir/2026-06-30/
LOCATION:Midhurst Parish Church\, Sheep Lane\, Midhurst\, West Sussex\, GU29 9NT\, United Kingdom
CATEGORIES:Activities,Children,Music
ATTACH;FMTTYPE=image/png:https://visitmidhurst.com/content/uploads/2026/01/20260120_193350000_iOS.png
END:VEVENT
END:VCALENDAR