BEGIN:VCALENDAR
VERSION:2.0
PRODID:-//Visit Midhurst - ECPv6.15.0.1//NONSGML v1.0//EN
CALSCALE:GREGORIAN
METHOD:PUBLISH
X-WR-CALNAME:Visit Midhurst
X-ORIGINAL-URL:https://visitmidhurst.com
X-WR-CALDESC:Events for Visit Midhurst
REFRESH-INTERVAL;VALUE=DURATION:PT1H
X-Robots-Tag:noindex
X-PUBLISHED-TTL:PT1H
BEGIN:VTIMEZONE
TZID:Europe/London
BEGIN:DAYLIGHT
TZOFFSETFROM:+0000
TZOFFSETTO:+0100
TZNAME:BST
DTSTART:20260329T010000
END:DAYLIGHT
BEGIN:STANDARD
TZOFFSETFROM:+0100
TZOFFSETTO:+0000
TZNAME:GMT
DTSTART:20261025T010000
END:STANDARD
END:VTIMEZONE
BEGIN:VEVENT
DTSTART;TZID=Europe/London:20260424T093000
DTEND;TZID=Europe/London:20260424T110000
DTSTAMP:20260424T094957
CREATED:20250312T113448Z
LAST-MODIFIED:20260112T192207Z
UID:10000620-1777023000-1777028400@visitmidhurst.com
SUMMARY:Active Antz by Everyone Active - Soft Play for Under 5's
DESCRIPTION:
URL:https://visitmidhurst.com/event/active-antz-by-everyone-active-soft-play-for-under-5s/2026-04-24/
LOCATION:The Grange Community and Leisure Centre\, GU29 9DH
CATEGORIES:Children
ATTACH;FMTTYPE=image/png:https://visitmidhurst.com/content/uploads/2025/03/Active-ants.png
END:VEVENT
BEGIN:VEVENT
DTSTART;TZID=Europe/London:20260424T200000
DTEND;TZID=Europe/London:20260424T230000
DTSTAMP:20260424T094957
CREATED:20260408T170712Z
LAST-MODIFIED:20260408T170712Z
UID:10002595-1777060800-1777071600@visitmidhurst.com
SUMMARY:Tabitha Kendall plays @ The Wheatsheaf
DESCRIPTION:
URL:https://visitmidhurst.com/event/tabitha-kendall-plays-the-wheatsheaf/
LOCATION:The Wheatsheaf Pub\, Wool Lane\, Midhurst\, West Sussex\, GU29 9BX\, United Kingdom
CATEGORIES:Entertainment,Music
ATTACH;FMTTYPE=image/jpeg:https://visitmidhurst.com/content/uploads/2026/04/Tabitha-Kendall.jpg
END:VEVENT
BEGIN:VEVENT
DTSTART;VALUE=DATE:20260425
DTEND;VALUE=DATE:20260426
DTSTAMP:20260424T094957
CREATED:20260415T185442Z
LAST-MODIFIED:20260415T185442Z
UID:10002989-1777075200-1777161599@visitmidhurst.com
SUMMARY:Gundog Challenge: For Midhurst Palliative Care
DESCRIPTION:The Gundog Challenge 2026\, the biggest gundog team test in the UK with 24 teams of 4 dogs from around the UK and the main body of Europe.
URL:https://visitmidhurst.com/event/gundog-challenge-for-midhurst-palliative-care/
LOCATION:Benbow Pond\, Benbow Pond\, Nr Midhurst\, West Sussex\, GU28 0AZ\, United Kingdom
CATEGORIES:Activities,Entertainment,Sport
ATTACH;FMTTYPE=image/png:https://visitmidhurst.com/content/uploads/2026/04/gundog.png
END:VEVENT
BEGIN:VEVENT
DTSTART;TZID=Europe/London:20260425T080000
DTEND;TZID=Europe/London:20260425T170000
DTSTAMP:20260424T094957
CREATED:20260325T172203Z
LAST-MODIFIED:20260325T172234Z
UID:10002555-1777104000-1777136400@visitmidhurst.com
SUMMARY:The Gundog Challenge 2026
DESCRIPTION:The Gundog Challenge 2026\, the biggest gundog team test in the UK with 24 teams of 4 dogs from around the UK and the main body of Europe. \nThe Gundog Challenge is a team competition event where highly trained working dogs will be working with their experienced owners to complete a number of controlled challenges and demonstrations. Teams are coming from all over the country and Europe with some of the best gundog handlers in the world. Each team will be scored by five experienced judges throughout the day on their performance with trophies awarded at the end of the day. \nThere will also be a Scurry in which all types of dogs can have a go by giving a donation for a chance to win the best time and there will be a trophy for the winner. It’s against the clock and the fastest wins. All are welcome to turn up and enter that on the day. \nCome and watch how these highly trained dogs and their owners work. Spectators are welcome\, with a suggested ticket donation to charity of either £2\, £5 or £10. Please select the amount that you would like to donate in the ticket options below. Cash and card will both be accepted on the day. \nThere will be teas\, coffees and pastries served all morning. \nThere will also be a live auction on the day to raise money for Cowdray’s nominated charity for 2025\, Midhurst Palliative Care funding the Midhurst Macmillan Service. Please note spectators are welcome to come to the prize giving where refreshments will be available for purchase. \nTrials will take place in the morning and the afternoon at The Deer Park\, with parking available at Benbow Pond (GU28 9BX). \nDogs on leads are welcome\, however please note that during the trials shots will be used and any dogs sensitive to loud noises should not attend. \nPlease note that this event is not subject to VAT. All proceeds from this event will be donated to Midhurst Palliative Care\, funding the Midhurst Macmillan Service. 
URL:https://visitmidhurst.com/event/the-gundog-challenge-2026/
LOCATION:Benbow Pond\, Benbow Pond\, Nr Midhurst\, West Sussex\, GU28 0AZ\, United Kingdom
CATEGORIES:Activities,Entertainment,Sport
ATTACH;FMTTYPE=image/jpeg:https://visitmidhurst.com/content/uploads/2026/01/Cowdray.jpg
END:VEVENT
BEGIN:VEVENT
DTSTART;TZID=Europe/London:20260425T100000
DTEND;TZID=Europe/London:20260425T120000
DTSTAMP:20260424T094957
CREATED:20260415T180122Z
LAST-MODIFIED:20260415T180122Z
UID:10002722-1777111200-1777118400@visitmidhurst.com
SUMMARY:Spring Fair
DESCRIPTION:
URL:https://visitmidhurst.com/event/spring-fair/
LOCATION:Methodist Church Hall\, North Street\, Midhurst\, West Sussex\, GU29 9DU\, United Kingdom
CATEGORIES:Activities,Shopping
ATTACH;FMTTYPE=image/png:https://visitmidhurst.com/content/uploads/2026/04/spring-fair.png
END:VEVENT
BEGIN:VEVENT
DTSTART;TZID=Europe/London:20260425T103000
DTEND;TZID=Europe/London:20260425T130000
DTSTAMP:20260424T094957
CREATED:20260108T194057Z
LAST-MODIFIED:20260311T190944Z
UID:10001119-1777113000-1777122000@visitmidhurst.com
SUMMARY:Taste the Trees and Learn Wild Foods of spring @ Cowdray
DESCRIPTION:Discover edible trees\, leaves and shoots with Estate forager George\, from the young leaves of lime and beech to the tender tips of hawthorn. \nAs you wander through spring the beautiful grounds of the Cowdray meadows and ruins\, you’ll learn to identify edible saps\, shoots\, and leaves\, tasting their unique flavours and celebrating foraging as a way to learn your landscape seeing it through new eyes and connecting guests to the biodiversity we have all around us. \nWalks will be circular\, beginning and ending at Cowdray Farm Shop and will last approximately 2.5 hours. \nPlease wear footwear that is suitable for undulating terrain. \nMeet George\, Cowdray’s Forager:\nGeorge has been foraging and using wild foods for some years\, supplying the freshest foraged wild edibles to some of the country’s top restaurants\, chefs and food establishments. \nAfter years of being immersed in the ‘wild’ himself\, George now focuses on encouraging others to appreciate the significance of our native countryside\, and how we can enjoy and protect it for future generations. \nOver his years of foraging George has accrued an in-depth knowledge of our countryside\, its diverse habitats and the variety of plants and fungi each contains. He has covered the length and breadth of the country from the Scottish Highlands to the moors and coasts of Cornwall\, in search of new native edibles as well as sustainable sources to pick them. Working closely with chefs consulting on what\, when and how to use each ingredient to best showcase them has led George to be featured on programmes like BBC’s Saturday Kitchen\, following the journey from the forests and fields to fork. George now hopes to inspire you on your own adventure of discovery.
URL:https://visitmidhurst.com/event/taste-the-trees-and-learn-wild-foods-of-spring-cowdray/
LOCATION:Cowdray Cafe\, Easebourne\, West Sussex\, GU29 0AJ\, United Kingdom
CATEGORIES:Activities,Entertainment
ATTACH;FMTTYPE=image/jpeg:https://visitmidhurst.com/content/uploads/2026/01/Cowdray.jpg
END:VEVENT
BEGIN:VEVENT
DTSTART;TZID=Europe/London:20260425T143000
DTEND;TZID=Europe/London:20260425T163000
DTSTAMP:20260424T094957
CREATED:20260325T142318Z
LAST-MODIFIED:20260325T142318Z
UID:10002350-1777127400-1777134600@visitmidhurst.com
SUMMARY:The Super Mario Galaxy Movie (Film)
DESCRIPTION:
URL:https://visitmidhurst.com/event/the-super-mario-galaxy-movie-film/
LOCATION:Leconfield Hall\, Petworth.\, Market Square\, Petworth\, West Sussex\, GU28 0AN\, United Kingdom
CATEGORIES:Children,Entertainment
ATTACH;FMTTYPE=image/png:https://visitmidhurst.com/content/uploads/2026/01/Leconfiled.png
END:VEVENT
BEGIN:VEVENT
DTSTART;TZID=Europe/London:20260425T150000
DTEND;TZID=Europe/London:20260425T200000
DTSTAMP:20260424T094957
CREATED:20260415T150850Z
LAST-MODIFIED:20260415T150850Z
UID:10002602-1777129200-1777147200@visitmidhurst.com
SUMMARY:Bulldog Rescue 25th Celebrations
DESCRIPTION:
URL:https://visitmidhurst.com/event/bulldog-rescue-25th-celebrations/
LOCATION:Bulldog Rescue\, Carron Ln\, Midhurst\, west sussex\, GU29 9DQ\, United Kingdom
CATEGORIES:Activities,Children,Entertainment,Music,Shopping
ATTACH;FMTTYPE=image/jpeg:https://visitmidhurst.com/content/uploads/2026/04/Bulldog.jpg
END:VEVENT
BEGIN:VEVENT
DTSTART;TZID=Europe/London:20260425T200000
DTEND;TZID=Europe/London:20260425T230000
DTSTAMP:20260424T094957
CREATED:20260408T175612Z
LAST-MODIFIED:20260408T175612Z
UID:10002597-1777147200-1777158000@visitmidhurst.com
SUMMARY:Olivia Stevens Plays @ The Bricks
DESCRIPTION:
URL:https://visitmidhurst.com/event/olivia-stevens-plays-the-bricks/
LOCATION:The Bricklayers Arms\, Wool Lane\, Midhurst\, United Kingdom
CATEGORIES:Entertainment,Music
ATTACH;FMTTYPE=image/png:https://visitmidhurst.com/content/uploads/2026/04/olivia-stevens.png
END:VEVENT
BEGIN:VEVENT
DTSTART;TZID=Europe/London:20260426T080000
DTEND;TZID=Europe/London:20260426T110000
DTSTAMP:20260424T094957
CREATED:20260125T125611Z
LAST-MODIFIED:20260125T125611Z
UID:10001875-1777190400-1777201200@visitmidhurst.com
SUMMARY:Land Rover Social @ The Royal Oak
DESCRIPTION:A regular meet in the Car park of The Royal Oak for Land Rover Enthusiasts
URL:https://visitmidhurst.com/event/land-rover-social-the-royal-oak/2026-04-26/
LOCATION:Royal Oak\, Oaklands Lane\, Midhurst\, West Sussex\, GU29 0EP\, United Kingdom
CATEGORIES:Activities
ATTACH;FMTTYPE=image/png:https://visitmidhurst.com/content/uploads/2026/01/Landrover.png
END:VEVENT
BEGIN:VEVENT
DTSTART;TZID=Europe/London:20260426T100000
DTEND;TZID=Europe/London:20260426T130000
DTSTAMP:20260424T094957
CREATED:20260105T160742Z
LAST-MODIFIED:20260105T160742Z
UID:10001081-1777197600-1777208400@visitmidhurst.com
SUMMARY:Indoor Car Boot Sale @ The Grange
DESCRIPTION:
URL:https://visitmidhurst.com/event/indoor-car-boot-sale-the-grange-3/
LOCATION:The Grange Community and Leisure Centre\, GU29 9DH
CATEGORIES:Shopping
ATTACH;FMTTYPE=image/png:https://visitmidhurst.com/content/uploads/2026/01/Car-Boot-Sale.png
END:VEVENT
BEGIN:VEVENT
DTSTART;TZID=Europe/London:20260426T190000
DTEND;TZID=Europe/London:20260426T210000
DTSTAMP:20260424T094957
CREATED:20260225T232101Z
LAST-MODIFIED:20260227T230718Z
UID:10002133-1777230000-1777237200@visitmidhurst.com
SUMMARY:Blues Night @ The Three Moles
DESCRIPTION:The Three Moles\, Selham\, GU28 0PN. All events are free entry. \nNo tickets or bookings required. No under 12s at any time. No under 18s past 9pm.
URL:https://visitmidhurst.com/event/absolutely-dragulous-show-2/2026-04-26/
LOCATION:Three Moles\, Selham\, West Sussex\, GU28 0PN\, United Kingdom
CATEGORIES:Entertainment,Music
ATTACH;FMTTYPE=image/jpeg:https://visitmidhurst.com/content/uploads/2026/02/Blues-Jam-Psychadelic-Hearts-Club.jpg
ORGANIZER;CN="The Three Moles":MAILTO:contact@thethreemoles.co.uk
END:VEVENT
BEGIN:VEVENT
DTSTART;TZID=Europe/London:20260427T200000
DTEND;TZID=Europe/London:20260427T230000
DTSTAMP:20260424T094957
CREATED:20260415T183853Z
LAST-MODIFIED:20260415T193319Z
UID:10002996-1777320000-1777330800@visitmidhurst.com
SUMMARY:Snooker Tournament
DESCRIPTION:
URL:https://visitmidhurst.com/event/snooker-tournament/2026-04-27/
LOCATION:midhurst club\, 47a North Street\, Midhurst\, West sussex\, GU29 9DR\, United Kingdom
CATEGORIES:Activities
ATTACH;FMTTYPE=image/jpeg:https://visitmidhurst.com/content/uploads/2026/04/snooker.jpg
END:VEVENT
BEGIN:VEVENT
DTSTART;TZID=Europe/London:20260428T093000
DTEND;TZID=Europe/London:20260428T110000
DTSTAMP:20260424T094957
CREATED:20250312T113448Z
LAST-MODIFIED:20260112T192207Z
UID:10000621-1777368600-1777374000@visitmidhurst.com
SUMMARY:Active Antz by Everyone Active - Soft Play for Under 5's
DESCRIPTION:
URL:https://visitmidhurst.com/event/active-antz-by-everyone-active-soft-play-for-under-5s/2026-04-28/
LOCATION:The Grange Community and Leisure Centre\, GU29 9DH
CATEGORIES:Children
ATTACH;FMTTYPE=image/png:https://visitmidhurst.com/content/uploads/2025/03/Active-ants.png
END:VEVENT
BEGIN:VEVENT
DTSTART;TZID=Europe/London:20260428T164500
DTEND;TZID=Europe/London:20260428T180000
DTSTAMP:20260424T094957
CREATED:20260120T200055Z
LAST-MODIFIED:20260120T200113Z
UID:10001469-1777394700-1777399200@visitmidhurst.com
SUMMARY:South Downs Sing Squad: Community Choir
DESCRIPTION:A new Community Choir has just launched for all in years 3-8 who love to sing.\n\n\n\nCome along on Tuesday afternoons at 1645 to Midhurst Parish Church* to sing with the South Downs Sing Squad!— at Midhurst Parish Church.\n\n\nTerm Time Only
URL:https://visitmidhurst.com/event/south-downs-sing-squad-community-choir/2026-04-28/
LOCATION:Midhurst Parish Church\, Sheep Lane\, Midhurst\, West Sussex\, GU29 9NT\, United Kingdom
CATEGORIES:Activities,Children,Music
ATTACH;FMTTYPE=image/png:https://visitmidhurst.com/content/uploads/2026/01/20260120_193350000_iOS.png
END:VEVENT
BEGIN:VEVENT
DTSTART;TZID=Europe/London:20260428T183000
DTEND;TZID=Europe/London:20260428T183000
DTSTAMP:20260424T094957
CREATED:20260112T210424Z
LAST-MODIFIED:20260311T191008Z
UID:10001266-1777401000-1777401000@visitmidhurst.com
SUMMARY:STEDHAM TALKS PRESENTS ‘A TALK BY THE CHITHURST BUDDHIST MONASTERY’
DESCRIPTION:We are delighted and privileged to welcome our nearby Buddhist community to give a short talk about the work of the Monastery both locally and as part of the wider Buddhist faith. \nThere will be an opportunity to ask questions after the talk. \nThis promises to be a fascinating talk and we very much hope that it will be of interest to a great number of parishioners. \nDOORS OPEN AT 6.30PM FOR A START AT 7.30PM. £5 ON THE DOOR. BAR OPEN
URL:https://visitmidhurst.com/event/stedham-talks-presents-a-talk-by-the-chithurst-buddhist-monastery/
LOCATION:Stedham Village Hall\, The Street\, Stedham\, West Sussex\, GU29 0NQ
CATEGORIES:Activities,Entertainment
ATTACH;FMTTYPE=image/jpeg:https://visitmidhurst.com/content/uploads/2026/01/Stedham-Buddist.jpg
END:VEVENT
BEGIN:VEVENT
DTSTART;TZID=Europe/London:20260428T193000
DTEND;TZID=Europe/London:20260428T211500
DTSTAMP:20260424T094957
CREATED:20260325T142438Z
LAST-MODIFIED:20260325T142438Z
UID:10002351-1777404600-1777410900@visitmidhurst.com
SUMMARY:The Drama (Film)
DESCRIPTION:
URL:https://visitmidhurst.com/event/the-drama-film/
LOCATION:Leconfield Hall\, Petworth.\, Market Square\, Petworth\, West Sussex\, GU28 0AN\, United Kingdom
CATEGORIES:Entertainment
ATTACH;FMTTYPE=image/png:https://visitmidhurst.com/content/uploads/2026/01/Leconfiled.png
END:VEVENT
BEGIN:VEVENT
DTSTART;TZID=Europe/London:20260429T153000
DTEND;TZID=Europe/London:20260429T163000
DTSTAMP:20260424T094957
CREATED:20260117T150019Z
LAST-MODIFIED:20260117T150019Z
UID:10001357-1777476600-1777480200@visitmidhurst.com
SUMMARY:Construction Club @ Midhurst Library
DESCRIPTION:Little people with little bricks and big ideas. \nFree of charge\, drop in\, no booking required.  Age 4+ accompanied by an adult.
URL:https://visitmidhurst.com/event/construction-club-midhurst-library/2026-04-29/
LOCATION:Midhurst Library\, The Grange Leisure Centre\, Midhurst\, west Sussex\, GU29 9HD\, United Kingdom
CATEGORIES:Activities,Children
ATTACH;FMTTYPE=image/png:https://visitmidhurst.com/content/uploads/2026/01/construction-club.png
END:VEVENT
BEGIN:VEVENT
DTSTART;TZID=Europe/London:20260429T200000
DTEND;TZID=Europe/London:20260429T230000
DTSTAMP:20260424T094957
CREATED:20260304T192321Z
LAST-MODIFIED:20260415T185936Z
UID:10002263-1777492800-1777503600@visitmidhurst.com
SUMMARY:Open Mike Night @ Faustino's
DESCRIPTION:
URL:https://visitmidhurst.com/event/open-mike-night-faustinos-2/2026-04-29/
LOCATION:Faustino’s\, 2a North Street\, Midhurst\, West Sussex\, GU29 9DJ\, United Kingdom
CATEGORIES:Activities
ATTACH;FMTTYPE=image/png:https://visitmidhurst.com/content/uploads/2026/03/open-Mike.png
END:VEVENT
BEGIN:VEVENT
DTSTART;TZID=Europe/London:20260430T111500
DTEND;TZID=Europe/London:20260430T234500
DTSTAMP:20260424T094957
CREATED:20260117T144543Z
LAST-MODIFIED:20260117T144845Z
UID:10001306-1777547700-1777592700@visitmidhurst.com
SUMMARY:Rhyme Time @ Midhurst Library
DESCRIPTION:Free\, no booking required.  A drop-in\, interactive\, stories and songs session\, for babies and toddlers under 5 years of age with an accompanying adult.  Held in the Midhurst library within the Grange Community Centre.
URL:https://visitmidhurst.com/event/rhyme-time-midhurst-library/2026-04-30/
LOCATION:Midhurst Library\, The Grange Leisure Centre\, Midhurst\, west Sussex\, GU29 9HD\, United Kingdom
CATEGORIES:Activities,Children,Music
ATTACH;FMTTYPE=image/png:https://visitmidhurst.com/content/uploads/2026/01/rhyme-time.png
END:VEVENT
BEGIN:VEVENT
DTSTART;VALUE=DATE:20260501
DTEND;VALUE=DATE:20260503
DTSTAMP:20260424T094957
CREATED:20260108T215651Z
LAST-MODIFIED:20260108T220307Z
UID:10001146-1777593600-1777766399@visitmidhurst.com
SUMMARY:Goodwood Racecourse: Season Opener
DESCRIPTION:Goodwood gallops into its first fixture\, with high-quality action on the track featuring two valuable listed contests; The Daisy Warwick Stakes and The Conqueror Stakes\, attracting exciting fillies and mares.
URL:https://visitmidhurst.com/event/goodwood-racecourse-season-opener/
LOCATION:Goodwood Racecourse\, Selhurstpark Rd\, Chichester\, West Sussex\, PO18 0PS\, United Kingdom
CATEGORIES:Sport
ATTACH;FMTTYPE=image/jpeg:https://visitmidhurst.com/content/uploads/2026/01/Season-Opener.jpg
ORGANIZER;CN="Goodwood Racecourse":MAILTO:ticket.office@goodwood.com
END:VEVENT
BEGIN:VEVENT
DTSTART;TZID=Europe/London:20260501T093000
DTEND;TZID=Europe/London:20260501T110000
DTSTAMP:20260424T094957
CREATED:20250312T113448Z
LAST-MODIFIED:20260112T192207Z
UID:10000622-1777627800-1777633200@visitmidhurst.com
SUMMARY:Active Antz by Everyone Active - Soft Play for Under 5's
DESCRIPTION:
URL:https://visitmidhurst.com/event/active-antz-by-everyone-active-soft-play-for-under-5s/2026-05-01/
LOCATION:The Grange Community and Leisure Centre\, GU29 9DH
CATEGORIES:Children
ATTACH;FMTTYPE=image/png:https://visitmidhurst.com/content/uploads/2025/03/Active-ants.png
END:VEVENT
BEGIN:VEVENT
DTSTART;TZID=Europe/London:20260501T200000
DTEND;TZID=Europe/London:20260501T230000
DTSTAMP:20260424T094957
CREATED:20260120T192711Z
LAST-MODIFIED:20260304T202041Z
UID:10001399-1777665600-1777676400@visitmidhurst.com
SUMMARY:First Friday's - Open Mike Nights @ The Bricks
DESCRIPTION:1st Friday of every month \nYou’ve got the talent \nYou Got The Gear \nNow you’ve got the Time and you’ve got place
URL:https://visitmidhurst.com/event/open-mike-night-the-bricks/2026-05-01/
LOCATION:The Bricklayers Arms\, Wool Lane\, Midhurst\, United Kingdom
CATEGORIES:Activities,Music
ATTACH;FMTTYPE=image/png:https://visitmidhurst.com/content/uploads/2026/01/Bricks-Cartoon.png
END:VEVENT
BEGIN:VEVENT
DTSTART;TZID=Europe/London:20260502T080000
DTEND;TZID=Europe/London:20260502T170000
DTSTAMP:20260424T094957
CREATED:20260122T191548Z
LAST-MODIFIED:20260122T192728Z
UID:10001845-1777708800-1777741200@visitmidhurst.com
SUMMARY:Langham's Brewery Tour
DESCRIPTION:
URL:https://visitmidhurst.com/event/langhams-brewer-tour/2026-05-02/
LOCATION:langhams Brewer\, The Granary\, Langham Lane\,\, Lodsworth\, west sussex\, GU28 9BU\, United Kingdom
CATEGORIES:Activities
ATTACH;FMTTYPE=image/jpeg:https://visitmidhurst.com/content/uploads/2026/01/Brewer-Tour-1.jpg
END:VEVENT
BEGIN:VEVENT
DTSTART;TZID=Europe/London:20260502T103000
DTEND;TZID=Europe/London:20260502T140000
DTSTAMP:20260424T094957
CREATED:20260108T194853Z
LAST-MODIFIED:20260108T194853Z
UID:10001120-1777717800-1777730400@visitmidhurst.com
SUMMARY:Field to Fork Foraging: Spring Fungi\, Herbs and Blossoms Picnic Feast @ Cowdray
DESCRIPTION:Join George for a day of Foraging as you safely learn how to gather a wide range of seasonal salads\, fungi and vegetables. \nGuests will harvest and prepare these seasonal treasures before enjoying a wild food picnic among the trees in a scenic spot. The aim of this walk is give people a chance to truly get immersed in nature tasting and cooking your surroundings in a welcoming and engaging celebration of the season. \nWalks will be circular\, beginning and ending at Benbow Pond. \nPlease wear footwear that is suitable for undulating terrain. \nSample Menu:\nWild pickles and preserves with locally sourced cheese \nSt Georgeʼs mushrooms in a garlic and cream sauce \nWild garlic and stinging nettle pesto on sourdough \nWild foraged salad \nHogweed bhajis \nServed with a range of seasonal drinks \nMeet George\, Cowdray’s Forager:\nGeorge has been foraging and using wild foods for some years\, supplying the freshest foraged wild edibles to some of the country’s top restaurants\, chefs and food establishments. \nAfter years of being immersed in the ‘wild’ himself\, George now focuses on encouraging others to appreciate the significance of our native countryside\, and how we can enjoy and protect it for future generations. \nOver his years of foraging George has accrued an in-depth knowledge of our countryside\, its diverse habitats and the variety of plants and fungi each contains. He has covered the length and breadth of the country from the Scottish Highlands to the moors and coasts of Cornwall\, in search of new native edibles as well as sustainable sources to pick them. Working closely with chefs consulting on what\, when and how to use each ingredient to best showcase them has led George to be featured on programmes like BBC’s Saturday Kitchen\, following the journey from the forests and fields to fork. George now hopes to inspire you on your own adventure of discovery.
URL:https://visitmidhurst.com/event/field-to-fork-foraging-spring-fungi-herbs-and-blossoms-picnic-feast-cowdray/
LOCATION:Benbow Pond\, Benbow Pond\, Nr Midhurst\, West Sussex\, GU28 0AZ\, United Kingdom
ATTACH;FMTTYPE=image/jpeg:https://visitmidhurst.com/content/uploads/2026/01/Cowdray.jpg
END:VEVENT
BEGIN:VEVENT
DTSTART;TZID=Europe/London:20260502T110000
DTEND;TZID=Europe/London:20260502T150000
DTSTAMP:20260424T094957
CREATED:20260106T113826Z
LAST-MODIFIED:20260325T144137Z
UID:10001097-1777719600-1777734000@visitmidhurst.com
SUMMARY:Midhurst Medieval Festival
DESCRIPTION:
URL:https://visitmidhurst.com/event/midhurst-medieval-festival/
LOCATION:Throughout Midhurst\, West Sussex\, GU29 9DQ\, United Kingdom
CATEGORIES:Children,Shopping
ATTACH;FMTTYPE=image/jpeg:https://visitmidhurst.com/content/uploads/2026/01/Medievil_Poster.jpg
END:VEVENT
BEGIN:VEVENT
DTSTART;TZID=Europe/London:20260502T193000
DTEND;TZID=Europe/London:20260502T230000
DTSTAMP:20260424T094957
CREATED:20260207T093745Z
LAST-MODIFIED:20260207T094910Z
UID:10001984-1777750200-1777762800@visitmidhurst.com
SUMMARY:Bingo Night @ Midhurst Club
DESCRIPTION:
URL:https://visitmidhurst.com/event/bingo-night-midhurst-club/2026-05-02/
LOCATION:midhurst club\, 47a North Street\, Midhurst\, West sussex\, GU29 9DR\, United Kingdom
CATEGORIES:Activities,Entertainment,Music
ATTACH;FMTTYPE=image/jpeg:https://visitmidhurst.com/content/uploads/2026/02/Bingo-Midhusr-Club-1.jpg
END:VEVENT
BEGIN:VEVENT
DTSTART;TZID=Europe/London:20260503T120000
DTEND;TZID=Europe/London:20260503T163000
DTSTAMP:20260424T094957
CREATED:20260122T165017Z
LAST-MODIFIED:20260122T165017Z
UID:10001720-1777809600-1777825800@visitmidhurst.com
SUMMARY:Lodsworth Village Fete
DESCRIPTION:The Main Event\n12.00                 Lodsworth Fete is open\n12.00                 Registration For Dog Show\n12.45                  Dog Show – Perfect Partnership\n13.00                  Dog Show – Lovliest Lady\n13.15                 Dog Show – Most Fabulous Fella\n14.30                Dog Show – Dog with the waggiest tail\n14.00                   Dog Show – Golden Oldie\n14.15                   Dog Show – Best Party Trick\n14.30                  Dog Show – Floppiest Ears\n14.45                 Dog Show – Best In Show – Dog Judge would like to take home \n16.00                   Kids & Family Races Start\n16.00                  Raffle Drawn\n16.15                   Silent Auction closes\n16.20                   Grand Tug-o-War\n16.30                   Lodsworth Fete closes for another year…….\n\nKids & Toddler Section\n12.00                   Kids Area Is Open – With Traditional Fete Games\, Bouncies & A Mums & Toddlers Picnic Area\n\n13.00                   Molly Moo Cow Interactive Session for Mums & Tots\n\n13.30                   Magic Show\n14.30                   Molly Moo Cow Interactive Session for Mums & Tots\n\n15.30                   Magic Show\n\n16.00                   Kids Area Closes – Ready For Races!!
URL:https://visitmidhurst.com/event/lodsworth-village-fete/
LOCATION:Lodsworth Village Hall\, Heath End Ln\, Lodsworth\, West sussex\, GU28 9BY\, United Kingdom
CATEGORIES:Activities,Children,Music,Shopping
ATTACH;FMTTYPE=image/png:https://visitmidhurst.com/content/uploads/2026/01/Lodsworth-Fete.png
ORGANIZER;CN="Lodsworth Fete":MAILTO:info@lodsworth-fete.co.uk
END:VEVENT
BEGIN:VEVENT
DTSTART;TZID=Europe/London:20260503T140000
DTEND;TZID=Europe/London:20260503T180000
DTSTAMP:20260424T094957
CREATED:20260116T134931Z
LAST-MODIFIED:20260116T142524Z
UID:10001272-1777816800-1777831200@visitmidhurst.com
SUMMARY:Midhurst RC Truck Bash
DESCRIPTION:We hold a once-a-month meeting in Midhurst at the Methodist Church hall on the first Sunday of the month.  We supply a road layout\, you bring your truck!   It’s £10 per driver or you can come and watch for free.  Anyone is welcome\, and it’s as simple as that – it’s 4 hours of trucking fun.
URL:https://visitmidhurst.com/event/midhurst-rc-truck-bash/2026-05-03/
LOCATION:Methodist Church Hall\, North Street\, Midhurst\, West Sussex\, GU29 9DU\, United Kingdom
CATEGORIES:Activities
ATTACH;FMTTYPE=image/jpeg:https://visitmidhurst.com/content/uploads/2026/01/Trucking.jpg
END:VEVENT
BEGIN:VEVENT
DTSTART;TZID=Europe/London:20260503T143000
DTEND;TZID=Europe/London:20260503T161500
DTSTAMP:20260424T094957
CREATED:20260325T141719Z
LAST-MODIFIED:20260325T141806Z
UID:10002347-1777818600-1777824900@visitmidhurst.com
SUMMARY:Hoppers (Film)
DESCRIPTION:
URL:https://visitmidhurst.com/event/hoppers-film/
LOCATION:Leconfield Hall\, Petworth.\, Market Square\, Petworth\, West Sussex\, GU28 0AN\, United Kingdom
CATEGORIES:Children,Entertainment
ATTACH;FMTTYPE=image/png:https://visitmidhurst.com/content/uploads/2026/01/Leconfiled.png
END:VEVENT
END:VCALENDAR