BEGIN:VCALENDAR
VERSION:2.0
PRODID:-//Visit Midhurst - ECPv6.15.0.1//NONSGML v1.0//EN
CALSCALE:GREGORIAN
METHOD:PUBLISH
X-WR-CALNAME:Visit Midhurst
X-ORIGINAL-URL:https://visitmidhurst.com
X-WR-CALDESC:Events for Visit Midhurst
REFRESH-INTERVAL;VALUE=DURATION:PT1H
X-Robots-Tag:noindex
X-PUBLISHED-TTL:PT1H
BEGIN:VTIMEZONE
TZID:Europe/London
BEGIN:DAYLIGHT
TZOFFSETFROM:+0000
TZOFFSETTO:+0100
TZNAME:BST
DTSTART:20310330T010000
END:DAYLIGHT
BEGIN:STANDARD
TZOFFSETFROM:+0100
TZOFFSETTO:+0000
TZNAME:GMT
DTSTART:20311026T010000
END:STANDARD
END:VTIMEZONE
BEGIN:VEVENT
DTSTART;TZID=Europe/London:20310303T200000
DTEND;TZID=Europe/London:20310303T230000
DTSTAMP:20260421T223512
CREATED:20260415T183853Z
LAST-MODIFIED:20260415T193319Z
UID:10003249-1930334400-1930345200@visitmidhurst.com
SUMMARY:Snooker Tournament
DESCRIPTION:
URL:https://visitmidhurst.com/event/snooker-tournament/2031-03-03/
LOCATION:midhurst club\, 47a North Street\, Midhurst\, West sussex\, GU29 9DR\, United Kingdom
CATEGORIES:Activities
ATTACH;FMTTYPE=image/jpeg:https://visitmidhurst.com/content/uploads/2026/04/snooker.jpg
END:VEVENT
BEGIN:VEVENT
DTSTART;TZID=Europe/London:20310310T200000
DTEND;TZID=Europe/London:20310310T230000
DTSTAMP:20260421T223512
CREATED:20260415T183853Z
LAST-MODIFIED:20260415T193319Z
UID:10003250-1930939200-1930950000@visitmidhurst.com
SUMMARY:Snooker Tournament
DESCRIPTION:
URL:https://visitmidhurst.com/event/snooker-tournament/2031-03-10/
LOCATION:midhurst club\, 47a North Street\, Midhurst\, West sussex\, GU29 9DR\, United Kingdom
CATEGORIES:Activities
ATTACH;FMTTYPE=image/jpeg:https://visitmidhurst.com/content/uploads/2026/04/snooker.jpg
END:VEVENT
BEGIN:VEVENT
DTSTART;TZID=Europe/London:20310317T200000
DTEND;TZID=Europe/London:20310317T230000
DTSTAMP:20260421T223512
CREATED:20260415T183853Z
LAST-MODIFIED:20260415T193319Z
UID:10003251-1931544000-1931554800@visitmidhurst.com
SUMMARY:Snooker Tournament
DESCRIPTION:
URL:https://visitmidhurst.com/event/snooker-tournament/2031-03-17/
LOCATION:midhurst club\, 47a North Street\, Midhurst\, West sussex\, GU29 9DR\, United Kingdom
CATEGORIES:Activities
ATTACH;FMTTYPE=image/jpeg:https://visitmidhurst.com/content/uploads/2026/04/snooker.jpg
END:VEVENT
BEGIN:VEVENT
DTSTART;TZID=Europe/London:20310324T200000
DTEND;TZID=Europe/London:20310324T230000
DTSTAMP:20260421T223512
CREATED:20260415T183853Z
LAST-MODIFIED:20260415T193319Z
UID:10003252-1932148800-1932159600@visitmidhurst.com
SUMMARY:Snooker Tournament
DESCRIPTION:
URL:https://visitmidhurst.com/event/snooker-tournament/2031-03-24/
LOCATION:midhurst club\, 47a North Street\, Midhurst\, West sussex\, GU29 9DR\, United Kingdom
CATEGORIES:Activities
ATTACH;FMTTYPE=image/jpeg:https://visitmidhurst.com/content/uploads/2026/04/snooker.jpg
END:VEVENT
BEGIN:VEVENT
DTSTART;TZID=Europe/London:20310331T200000
DTEND;TZID=Europe/London:20310331T230000
DTSTAMP:20260421T223512
CREATED:20260415T183853Z
LAST-MODIFIED:20260415T193319Z
UID:10003253-1932753600-1932764400@visitmidhurst.com
SUMMARY:Snooker Tournament
DESCRIPTION:
URL:https://visitmidhurst.com/event/snooker-tournament/2031-03-31/
LOCATION:midhurst club\, 47a North Street\, Midhurst\, West sussex\, GU29 9DR\, United Kingdom
CATEGORIES:Activities
ATTACH;FMTTYPE=image/jpeg:https://visitmidhurst.com/content/uploads/2026/04/snooker.jpg
END:VEVENT
BEGIN:VEVENT
DTSTART;TZID=Europe/London:20310407T200000
DTEND;TZID=Europe/London:20310407T230000
DTSTAMP:20260421T223512
CREATED:20260415T183853Z
LAST-MODIFIED:20260415T193319Z
UID:10003254-1933358400-1933369200@visitmidhurst.com
SUMMARY:Snooker Tournament
DESCRIPTION:
URL:https://visitmidhurst.com/event/snooker-tournament/2031-04-07/
LOCATION:midhurst club\, 47a North Street\, Midhurst\, West sussex\, GU29 9DR\, United Kingdom
CATEGORIES:Activities
ATTACH;FMTTYPE=image/jpeg:https://visitmidhurst.com/content/uploads/2026/04/snooker.jpg
END:VEVENT
BEGIN:VEVENT
DTSTART;TZID=Europe/London:20310414T200000
DTEND;TZID=Europe/London:20310414T230000
DTSTAMP:20260421T223512
CREATED:20260415T183853Z
LAST-MODIFIED:20260415T193319Z
UID:10003255-1933963200-1933974000@visitmidhurst.com
SUMMARY:Snooker Tournament
DESCRIPTION:
URL:https://visitmidhurst.com/event/snooker-tournament/2031-04-14/
LOCATION:midhurst club\, 47a North Street\, Midhurst\, West sussex\, GU29 9DR\, United Kingdom
CATEGORIES:Activities
ATTACH;FMTTYPE=image/jpeg:https://visitmidhurst.com/content/uploads/2026/04/snooker.jpg
END:VEVENT
END:VCALENDAR