BEGIN:VCALENDAR
VERSION:2.0
PRODID:-//Visit Midhurst - ECPv6.15.0.1//NONSGML v1.0//EN
CALSCALE:GREGORIAN
METHOD:PUBLISH
X-ORIGINAL-URL:https://visitmidhurst.com
X-WR-CALDESC:Events for Visit Midhurst
REFRESH-INTERVAL;VALUE=DURATION:PT1H
X-Robots-Tag:noindex
X-PUBLISHED-TTL:PT1H
BEGIN:VTIMEZONE
TZID:Europe/London
BEGIN:DAYLIGHT
TZOFFSETFROM:+0000
TZOFFSETTO:+0100
TZNAME:BST
DTSTART:20300331T010000
END:DAYLIGHT
BEGIN:STANDARD
TZOFFSETFROM:+0100
TZOFFSETTO:+0000
TZNAME:GMT
DTSTART:20301027T010000
END:STANDARD
BEGIN:DAYLIGHT
TZOFFSETFROM:+0000
TZOFFSETTO:+0100
TZNAME:BST
DTSTART:20310330T010000
END:DAYLIGHT
BEGIN:STANDARD
TZOFFSETFROM:+0100
TZOFFSETTO:+0000
TZNAME:GMT
DTSTART:20311026T010000
END:STANDARD
END:VTIMEZONE
BEGIN:VEVENT
DTSTART;TZID=Europe/London:20301223T200000
DTEND;TZID=Europe/London:20301223T230000
DTSTAMP:20260421T210233
CREATED:20260415T183853Z
LAST-MODIFIED:20260415T193319Z
UID:10003239-1924286400-1924297200@visitmidhurst.com
SUMMARY:Snooker Tournament
DESCRIPTION:
URL:https://visitmidhurst.com/event/snooker-tournament/2030-12-23/
LOCATION:midhurst club\, 47a North Street\, Midhurst\, West sussex\, GU29 9DR\, United Kingdom
CATEGORIES:Activities
ATTACH;FMTTYPE=image/jpeg:https://visitmidhurst.com/content/uploads/2026/04/snooker.jpg
END:VEVENT
BEGIN:VEVENT
DTSTART;TZID=Europe/London:20301230T200000
DTEND;TZID=Europe/London:20301230T230000
DTSTAMP:20260421T210233
CREATED:20260415T183853Z
LAST-MODIFIED:20260415T193319Z
UID:10003240-1924891200-1924902000@visitmidhurst.com
SUMMARY:Snooker Tournament
DESCRIPTION:
URL:https://visitmidhurst.com/event/snooker-tournament/2030-12-30/
LOCATION:midhurst club\, 47a North Street\, Midhurst\, West sussex\, GU29 9DR\, United Kingdom
CATEGORIES:Activities
ATTACH;FMTTYPE=image/jpeg:https://visitmidhurst.com/content/uploads/2026/04/snooker.jpg
END:VEVENT
BEGIN:VEVENT
DTSTART;TZID=Europe/London:20310104T193000
DTEND;TZID=Europe/London:20310104T230000
DTSTAMP:20260421T210233
CREATED:20260207T093745Z
LAST-MODIFIED:20260207T094910Z
UID:10002040-1925321400-1925334000@visitmidhurst.com
SUMMARY:Bingo Night @ Midhurst Club
DESCRIPTION:
URL:https://visitmidhurst.com/event/bingo-night-midhurst-club/2031-01-04/
LOCATION:midhurst club\, 47a North Street\, Midhurst\, West sussex\, GU29 9DR\, United Kingdom
CATEGORIES:Activities,Entertainment,Music
ATTACH;FMTTYPE=image/jpeg:https://visitmidhurst.com/content/uploads/2026/02/Bingo-Midhusr-Club-1.jpg
END:VEVENT
BEGIN:VEVENT
DTSTART;TZID=Europe/London:20310106T200000
DTEND;TZID=Europe/London:20310106T230000
DTSTAMP:20260421T210233
CREATED:20260415T183853Z
LAST-MODIFIED:20260415T193319Z
UID:10003241-1925496000-1925506800@visitmidhurst.com
SUMMARY:Snooker Tournament
DESCRIPTION:
URL:https://visitmidhurst.com/event/snooker-tournament/2031-01-06/
LOCATION:midhurst club\, 47a North Street\, Midhurst\, West sussex\, GU29 9DR\, United Kingdom
CATEGORIES:Activities
ATTACH;FMTTYPE=image/jpeg:https://visitmidhurst.com/content/uploads/2026/04/snooker.jpg
END:VEVENT
BEGIN:VEVENT
DTSTART;TZID=Europe/London:20310113T200000
DTEND;TZID=Europe/London:20310113T230000
DTSTAMP:20260421T210233
CREATED:20260415T183853Z
LAST-MODIFIED:20260415T193319Z
UID:10003242-1926100800-1926111600@visitmidhurst.com
SUMMARY:Snooker Tournament
DESCRIPTION:
URL:https://visitmidhurst.com/event/snooker-tournament/2031-01-13/
LOCATION:midhurst club\, 47a North Street\, Midhurst\, West sussex\, GU29 9DR\, United Kingdom
CATEGORIES:Activities
ATTACH;FMTTYPE=image/jpeg:https://visitmidhurst.com/content/uploads/2026/04/snooker.jpg
END:VEVENT
BEGIN:VEVENT
DTSTART;TZID=Europe/London:20310120T200000
DTEND;TZID=Europe/London:20310120T230000
DTSTAMP:20260421T210234
CREATED:20260415T183853Z
LAST-MODIFIED:20260415T193319Z
UID:10003243-1926705600-1926716400@visitmidhurst.com
SUMMARY:Snooker Tournament
DESCRIPTION:
URL:https://visitmidhurst.com/event/snooker-tournament/2031-01-20/
LOCATION:midhurst club\, 47a North Street\, Midhurst\, West sussex\, GU29 9DR\, United Kingdom
CATEGORIES:Activities
ATTACH;FMTTYPE=image/jpeg:https://visitmidhurst.com/content/uploads/2026/04/snooker.jpg
END:VEVENT
BEGIN:VEVENT
DTSTART;TZID=Europe/London:20310127T200000
DTEND;TZID=Europe/London:20310127T230000
DTSTAMP:20260421T210234
CREATED:20260415T183853Z
LAST-MODIFIED:20260415T193319Z
UID:10003244-1927310400-1927321200@visitmidhurst.com
SUMMARY:Snooker Tournament
DESCRIPTION:
URL:https://visitmidhurst.com/event/snooker-tournament/2031-01-27/
LOCATION:midhurst club\, 47a North Street\, Midhurst\, West sussex\, GU29 9DR\, United Kingdom
CATEGORIES:Activities
ATTACH;FMTTYPE=image/jpeg:https://visitmidhurst.com/content/uploads/2026/04/snooker.jpg
END:VEVENT
BEGIN:VEVENT
DTSTART;TZID=Europe/London:20310201T193000
DTEND;TZID=Europe/London:20310201T230000
DTSTAMP:20260421T210234
CREATED:20260207T093745Z
LAST-MODIFIED:20260207T094910Z
UID:10002041-1927740600-1927753200@visitmidhurst.com
SUMMARY:Bingo Night @ Midhurst Club
DESCRIPTION:
URL:https://visitmidhurst.com/event/bingo-night-midhurst-club/2031-02-01/
LOCATION:midhurst club\, 47a North Street\, Midhurst\, West sussex\, GU29 9DR\, United Kingdom
CATEGORIES:Activities,Entertainment,Music
ATTACH;FMTTYPE=image/jpeg:https://visitmidhurst.com/content/uploads/2026/02/Bingo-Midhusr-Club-1.jpg
END:VEVENT
BEGIN:VEVENT
DTSTART;TZID=Europe/London:20310203T200000
DTEND;TZID=Europe/London:20310203T230000
DTSTAMP:20260421T210234
CREATED:20260415T183853Z
LAST-MODIFIED:20260415T193319Z
UID:10003245-1927915200-1927926000@visitmidhurst.com
SUMMARY:Snooker Tournament
DESCRIPTION:
URL:https://visitmidhurst.com/event/snooker-tournament/2031-02-03/
LOCATION:midhurst club\, 47a North Street\, Midhurst\, West sussex\, GU29 9DR\, United Kingdom
CATEGORIES:Activities
ATTACH;FMTTYPE=image/jpeg:https://visitmidhurst.com/content/uploads/2026/04/snooker.jpg
END:VEVENT
BEGIN:VEVENT
DTSTART;TZID=Europe/London:20310210T200000
DTEND;TZID=Europe/London:20310210T230000
DTSTAMP:20260421T210234
CREATED:20260415T183853Z
LAST-MODIFIED:20260415T193319Z
UID:10003246-1928520000-1928530800@visitmidhurst.com
SUMMARY:Snooker Tournament
DESCRIPTION:
URL:https://visitmidhurst.com/event/snooker-tournament/2031-02-10/
LOCATION:midhurst club\, 47a North Street\, Midhurst\, West sussex\, GU29 9DR\, United Kingdom
CATEGORIES:Activities
ATTACH;FMTTYPE=image/jpeg:https://visitmidhurst.com/content/uploads/2026/04/snooker.jpg
END:VEVENT
BEGIN:VEVENT
DTSTART;TZID=Europe/London:20310217T200000
DTEND;TZID=Europe/London:20310217T230000
DTSTAMP:20260421T210234
CREATED:20260415T183853Z
LAST-MODIFIED:20260415T193319Z
UID:10003247-1929124800-1929135600@visitmidhurst.com
SUMMARY:Snooker Tournament
DESCRIPTION:
URL:https://visitmidhurst.com/event/snooker-tournament/2031-02-17/
LOCATION:midhurst club\, 47a North Street\, Midhurst\, West sussex\, GU29 9DR\, United Kingdom
CATEGORIES:Activities
ATTACH;FMTTYPE=image/jpeg:https://visitmidhurst.com/content/uploads/2026/04/snooker.jpg
END:VEVENT
BEGIN:VEVENT
DTSTART;TZID=Europe/London:20310224T200000
DTEND;TZID=Europe/London:20310224T230000
DTSTAMP:20260421T210234
CREATED:20260415T183853Z
LAST-MODIFIED:20260415T193319Z
UID:10003248-1929729600-1929740400@visitmidhurst.com
SUMMARY:Snooker Tournament
DESCRIPTION:
URL:https://visitmidhurst.com/event/snooker-tournament/2031-02-24/
LOCATION:midhurst club\, 47a North Street\, Midhurst\, West sussex\, GU29 9DR\, United Kingdom
CATEGORIES:Activities
ATTACH;FMTTYPE=image/jpeg:https://visitmidhurst.com/content/uploads/2026/04/snooker.jpg
END:VEVENT
BEGIN:VEVENT
DTSTART;TZID=Europe/London:20310303T200000
DTEND;TZID=Europe/London:20310303T230000
DTSTAMP:20260421T210234
CREATED:20260415T183853Z
LAST-MODIFIED:20260415T193319Z
UID:10003249-1930334400-1930345200@visitmidhurst.com
SUMMARY:Snooker Tournament
DESCRIPTION:
URL:https://visitmidhurst.com/event/snooker-tournament/2031-03-03/
LOCATION:midhurst club\, 47a North Street\, Midhurst\, West sussex\, GU29 9DR\, United Kingdom
CATEGORIES:Activities
ATTACH;FMTTYPE=image/jpeg:https://visitmidhurst.com/content/uploads/2026/04/snooker.jpg
END:VEVENT
BEGIN:VEVENT
DTSTART;TZID=Europe/London:20310310T200000
DTEND;TZID=Europe/London:20310310T230000
DTSTAMP:20260421T210234
CREATED:20260415T183853Z
LAST-MODIFIED:20260415T193319Z
UID:10003250-1930939200-1930950000@visitmidhurst.com
SUMMARY:Snooker Tournament
DESCRIPTION:
URL:https://visitmidhurst.com/event/snooker-tournament/2031-03-10/
LOCATION:midhurst club\, 47a North Street\, Midhurst\, West sussex\, GU29 9DR\, United Kingdom
CATEGORIES:Activities
ATTACH;FMTTYPE=image/jpeg:https://visitmidhurst.com/content/uploads/2026/04/snooker.jpg
END:VEVENT
BEGIN:VEVENT
DTSTART;TZID=Europe/London:20310317T200000
DTEND;TZID=Europe/London:20310317T230000
DTSTAMP:20260421T210234
CREATED:20260415T183853Z
LAST-MODIFIED:20260415T193319Z
UID:10003251-1931544000-1931554800@visitmidhurst.com
SUMMARY:Snooker Tournament
DESCRIPTION:
URL:https://visitmidhurst.com/event/snooker-tournament/2031-03-17/
LOCATION:midhurst club\, 47a North Street\, Midhurst\, West sussex\, GU29 9DR\, United Kingdom
CATEGORIES:Activities
ATTACH;FMTTYPE=image/jpeg:https://visitmidhurst.com/content/uploads/2026/04/snooker.jpg
END:VEVENT
BEGIN:VEVENT
DTSTART;TZID=Europe/London:20310324T200000
DTEND;TZID=Europe/London:20310324T230000
DTSTAMP:20260421T210234
CREATED:20260415T183853Z
LAST-MODIFIED:20260415T193319Z
UID:10003252-1932148800-1932159600@visitmidhurst.com
SUMMARY:Snooker Tournament
DESCRIPTION:
URL:https://visitmidhurst.com/event/snooker-tournament/2031-03-24/
LOCATION:midhurst club\, 47a North Street\, Midhurst\, West sussex\, GU29 9DR\, United Kingdom
CATEGORIES:Activities
ATTACH;FMTTYPE=image/jpeg:https://visitmidhurst.com/content/uploads/2026/04/snooker.jpg
END:VEVENT
BEGIN:VEVENT
DTSTART;TZID=Europe/London:20310331T200000
DTEND;TZID=Europe/London:20310331T230000
DTSTAMP:20260421T210234
CREATED:20260415T183853Z
LAST-MODIFIED:20260415T193319Z
UID:10003253-1932753600-1932764400@visitmidhurst.com
SUMMARY:Snooker Tournament
DESCRIPTION:
URL:https://visitmidhurst.com/event/snooker-tournament/2031-03-31/
LOCATION:midhurst club\, 47a North Street\, Midhurst\, West sussex\, GU29 9DR\, United Kingdom
CATEGORIES:Activities
ATTACH;FMTTYPE=image/jpeg:https://visitmidhurst.com/content/uploads/2026/04/snooker.jpg
END:VEVENT
BEGIN:VEVENT
DTSTART;TZID=Europe/London:20310407T200000
DTEND;TZID=Europe/London:20310407T230000
DTSTAMP:20260421T210234
CREATED:20260415T183853Z
LAST-MODIFIED:20260415T193319Z
UID:10003254-1933358400-1933369200@visitmidhurst.com
SUMMARY:Snooker Tournament
DESCRIPTION:
URL:https://visitmidhurst.com/event/snooker-tournament/2031-04-07/
LOCATION:midhurst club\, 47a North Street\, Midhurst\, West sussex\, GU29 9DR\, United Kingdom
CATEGORIES:Activities
ATTACH;FMTTYPE=image/jpeg:https://visitmidhurst.com/content/uploads/2026/04/snooker.jpg
END:VEVENT
BEGIN:VEVENT
DTSTART;TZID=Europe/London:20310414T200000
DTEND;TZID=Europe/London:20310414T230000
DTSTAMP:20260421T210234
CREATED:20260415T183853Z
LAST-MODIFIED:20260415T193319Z
UID:10003255-1933963200-1933974000@visitmidhurst.com
SUMMARY:Snooker Tournament
DESCRIPTION:
URL:https://visitmidhurst.com/event/snooker-tournament/2031-04-14/
LOCATION:midhurst club\, 47a North Street\, Midhurst\, West sussex\, GU29 9DR\, United Kingdom
CATEGORIES:Activities
ATTACH;FMTTYPE=image/jpeg:https://visitmidhurst.com/content/uploads/2026/04/snooker.jpg
END:VEVENT
END:VCALENDAR