BEGIN:VCALENDAR
VERSION:2.0
PRODID:-//Visit Midhurst - ECPv6.15.0.1//NONSGML v1.0//EN
CALSCALE:GREGORIAN
METHOD:PUBLISH
X-WR-CALNAME:Visit Midhurst
X-ORIGINAL-URL:https://visitmidhurst.com
X-WR-CALDESC:Events for Visit Midhurst
REFRESH-INTERVAL;VALUE=DURATION:PT1H
X-Robots-Tag:noindex
X-PUBLISHED-TTL:PT1H
BEGIN:VTIMEZONE
TZID:Europe/London
BEGIN:DAYLIGHT
TZOFFSETFROM:+0000
TZOFFSETTO:+0100
TZNAME:BST
DTSTART:20300331T010000
END:DAYLIGHT
BEGIN:STANDARD
TZOFFSETFROM:+0100
TZOFFSETTO:+0000
TZNAME:GMT
DTSTART:20301027T010000
END:STANDARD
END:VTIMEZONE
BEGIN:VEVENT
DTSTART;TZID=Europe/London:20300601T193000
DTEND;TZID=Europe/London:20300601T230000
DTSTAMP:20260421T164158
CREATED:20260207T093745Z
LAST-MODIFIED:20260207T094910Z
UID:10002033-1906572600-1906585200@visitmidhurst.com
SUMMARY:Bingo Night @ Midhurst Club
DESCRIPTION:
URL:https://visitmidhurst.com/event/bingo-night-midhurst-club/2030-06-01/
LOCATION:midhurst club\, 47a North Street\, Midhurst\, West sussex\, GU29 9DR\, United Kingdom
CATEGORIES:Activities,Entertainment,Music
ATTACH;FMTTYPE=image/jpeg:https://visitmidhurst.com/content/uploads/2026/02/Bingo-Midhusr-Club-1.jpg
END:VEVENT
BEGIN:VEVENT
DTSTART;TZID=Europe/London:20300603T200000
DTEND;TZID=Europe/London:20300603T230000
DTSTAMP:20260421T164158
CREATED:20260415T183853Z
LAST-MODIFIED:20260415T193319Z
UID:10003210-1906747200-1906758000@visitmidhurst.com
SUMMARY:Snooker Tournament
DESCRIPTION:
URL:https://visitmidhurst.com/event/snooker-tournament/2030-06-03/
LOCATION:midhurst club\, 47a North Street\, Midhurst\, West sussex\, GU29 9DR\, United Kingdom
CATEGORIES:Activities
ATTACH;FMTTYPE=image/jpeg:https://visitmidhurst.com/content/uploads/2026/04/snooker.jpg
END:VEVENT
BEGIN:VEVENT
DTSTART;TZID=Europe/London:20300610T200000
DTEND;TZID=Europe/London:20300610T230000
DTSTAMP:20260421T164158
CREATED:20260415T183853Z
LAST-MODIFIED:20260415T193319Z
UID:10003211-1907352000-1907362800@visitmidhurst.com
SUMMARY:Snooker Tournament
DESCRIPTION:
URL:https://visitmidhurst.com/event/snooker-tournament/2030-06-10/
LOCATION:midhurst club\, 47a North Street\, Midhurst\, West sussex\, GU29 9DR\, United Kingdom
CATEGORIES:Activities
ATTACH;FMTTYPE=image/jpeg:https://visitmidhurst.com/content/uploads/2026/04/snooker.jpg
END:VEVENT
BEGIN:VEVENT
DTSTART;TZID=Europe/London:20300617T200000
DTEND;TZID=Europe/London:20300617T230000
DTSTAMP:20260421T164158
CREATED:20260415T183853Z
LAST-MODIFIED:20260415T193319Z
UID:10003212-1907956800-1907967600@visitmidhurst.com
SUMMARY:Snooker Tournament
DESCRIPTION:
URL:https://visitmidhurst.com/event/snooker-tournament/2030-06-17/
LOCATION:midhurst club\, 47a North Street\, Midhurst\, West sussex\, GU29 9DR\, United Kingdom
CATEGORIES:Activities
ATTACH;FMTTYPE=image/jpeg:https://visitmidhurst.com/content/uploads/2026/04/snooker.jpg
END:VEVENT
BEGIN:VEVENT
DTSTART;TZID=Europe/London:20300624T200000
DTEND;TZID=Europe/London:20300624T230000
DTSTAMP:20260421T164158
CREATED:20260415T183853Z
LAST-MODIFIED:20260415T193319Z
UID:10003213-1908561600-1908572400@visitmidhurst.com
SUMMARY:Snooker Tournament
DESCRIPTION:
URL:https://visitmidhurst.com/event/snooker-tournament/2030-06-24/
LOCATION:midhurst club\, 47a North Street\, Midhurst\, West sussex\, GU29 9DR\, United Kingdom
CATEGORIES:Activities
ATTACH;FMTTYPE=image/jpeg:https://visitmidhurst.com/content/uploads/2026/04/snooker.jpg
END:VEVENT
BEGIN:VEVENT
DTSTART;TZID=Europe/London:20300701T200000
DTEND;TZID=Europe/London:20300701T230000
DTSTAMP:20260421T164158
CREATED:20260415T183853Z
LAST-MODIFIED:20260415T193319Z
UID:10003214-1909166400-1909177200@visitmidhurst.com
SUMMARY:Snooker Tournament
DESCRIPTION:
URL:https://visitmidhurst.com/event/snooker-tournament/2030-07-01/
LOCATION:midhurst club\, 47a North Street\, Midhurst\, West sussex\, GU29 9DR\, United Kingdom
CATEGORIES:Activities
ATTACH;FMTTYPE=image/jpeg:https://visitmidhurst.com/content/uploads/2026/04/snooker.jpg
END:VEVENT
BEGIN:VEVENT
DTSTART;TZID=Europe/London:20300706T193000
DTEND;TZID=Europe/London:20300706T230000
DTSTAMP:20260421T164158
CREATED:20260207T093745Z
LAST-MODIFIED:20260207T094910Z
UID:10002034-1909596600-1909609200@visitmidhurst.com
SUMMARY:Bingo Night @ Midhurst Club
DESCRIPTION:
URL:https://visitmidhurst.com/event/bingo-night-midhurst-club/2030-07-06/
LOCATION:midhurst club\, 47a North Street\, Midhurst\, West sussex\, GU29 9DR\, United Kingdom
CATEGORIES:Activities,Entertainment,Music
ATTACH;FMTTYPE=image/jpeg:https://visitmidhurst.com/content/uploads/2026/02/Bingo-Midhusr-Club-1.jpg
END:VEVENT
BEGIN:VEVENT
DTSTART;TZID=Europe/London:20300708T200000
DTEND;TZID=Europe/London:20300708T230000
DTSTAMP:20260421T164158
CREATED:20260415T183853Z
LAST-MODIFIED:20260415T193319Z
UID:10003215-1909771200-1909782000@visitmidhurst.com
SUMMARY:Snooker Tournament
DESCRIPTION:
URL:https://visitmidhurst.com/event/snooker-tournament/2030-07-08/
LOCATION:midhurst club\, 47a North Street\, Midhurst\, West sussex\, GU29 9DR\, United Kingdom
CATEGORIES:Activities
ATTACH;FMTTYPE=image/jpeg:https://visitmidhurst.com/content/uploads/2026/04/snooker.jpg
END:VEVENT
BEGIN:VEVENT
DTSTART;TZID=Europe/London:20300715T200000
DTEND;TZID=Europe/London:20300715T230000
DTSTAMP:20260421T164158
CREATED:20260415T183853Z
LAST-MODIFIED:20260415T193319Z
UID:10003216-1910376000-1910386800@visitmidhurst.com
SUMMARY:Snooker Tournament
DESCRIPTION:
URL:https://visitmidhurst.com/event/snooker-tournament/2030-07-15/
LOCATION:midhurst club\, 47a North Street\, Midhurst\, West sussex\, GU29 9DR\, United Kingdom
CATEGORIES:Activities
ATTACH;FMTTYPE=image/jpeg:https://visitmidhurst.com/content/uploads/2026/04/snooker.jpg
END:VEVENT
BEGIN:VEVENT
DTSTART;TZID=Europe/London:20300722T200000
DTEND;TZID=Europe/London:20300722T230000
DTSTAMP:20260421T164158
CREATED:20260415T183853Z
LAST-MODIFIED:20260415T193319Z
UID:10003217-1910980800-1910991600@visitmidhurst.com
SUMMARY:Snooker Tournament
DESCRIPTION:
URL:https://visitmidhurst.com/event/snooker-tournament/2030-07-22/
LOCATION:midhurst club\, 47a North Street\, Midhurst\, West sussex\, GU29 9DR\, United Kingdom
CATEGORIES:Activities
ATTACH;FMTTYPE=image/jpeg:https://visitmidhurst.com/content/uploads/2026/04/snooker.jpg
END:VEVENT
BEGIN:VEVENT
DTSTART;TZID=Europe/London:20300729T200000
DTEND;TZID=Europe/London:20300729T230000
DTSTAMP:20260421T164158
CREATED:20260415T183853Z
LAST-MODIFIED:20260415T193319Z
UID:10003218-1911585600-1911596400@visitmidhurst.com
SUMMARY:Snooker Tournament
DESCRIPTION:
URL:https://visitmidhurst.com/event/snooker-tournament/2030-07-29/
LOCATION:midhurst club\, 47a North Street\, Midhurst\, West sussex\, GU29 9DR\, United Kingdom
CATEGORIES:Activities
ATTACH;FMTTYPE=image/jpeg:https://visitmidhurst.com/content/uploads/2026/04/snooker.jpg
END:VEVENT
BEGIN:VEVENT
DTSTART;TZID=Europe/London:20300803T193000
DTEND;TZID=Europe/London:20300803T230000
DTSTAMP:20260421T164158
CREATED:20260207T093745Z
LAST-MODIFIED:20260207T094910Z
UID:10002035-1912015800-1912028400@visitmidhurst.com
SUMMARY:Bingo Night @ Midhurst Club
DESCRIPTION:
URL:https://visitmidhurst.com/event/bingo-night-midhurst-club/2030-08-03/
LOCATION:midhurst club\, 47a North Street\, Midhurst\, West sussex\, GU29 9DR\, United Kingdom
CATEGORIES:Activities,Entertainment,Music
ATTACH;FMTTYPE=image/jpeg:https://visitmidhurst.com/content/uploads/2026/02/Bingo-Midhusr-Club-1.jpg
END:VEVENT
BEGIN:VEVENT
DTSTART;TZID=Europe/London:20300805T200000
DTEND;TZID=Europe/London:20300805T230000
DTSTAMP:20260421T164158
CREATED:20260415T183853Z
LAST-MODIFIED:20260415T193319Z
UID:10003219-1912190400-1912201200@visitmidhurst.com
SUMMARY:Snooker Tournament
DESCRIPTION:
URL:https://visitmidhurst.com/event/snooker-tournament/2030-08-05/
LOCATION:midhurst club\, 47a North Street\, Midhurst\, West sussex\, GU29 9DR\, United Kingdom
CATEGORIES:Activities
ATTACH;FMTTYPE=image/jpeg:https://visitmidhurst.com/content/uploads/2026/04/snooker.jpg
END:VEVENT
BEGIN:VEVENT
DTSTART;TZID=Europe/London:20300812T200000
DTEND;TZID=Europe/London:20300812T230000
DTSTAMP:20260421T164158
CREATED:20260415T183853Z
LAST-MODIFIED:20260415T193319Z
UID:10003220-1912795200-1912806000@visitmidhurst.com
SUMMARY:Snooker Tournament
DESCRIPTION:
URL:https://visitmidhurst.com/event/snooker-tournament/2030-08-12/
LOCATION:midhurst club\, 47a North Street\, Midhurst\, West sussex\, GU29 9DR\, United Kingdom
CATEGORIES:Activities
ATTACH;FMTTYPE=image/jpeg:https://visitmidhurst.com/content/uploads/2026/04/snooker.jpg
END:VEVENT
BEGIN:VEVENT
DTSTART;TZID=Europe/London:20300819T200000
DTEND;TZID=Europe/London:20300819T230000
DTSTAMP:20260421T164158
CREATED:20260415T183853Z
LAST-MODIFIED:20260415T193319Z
UID:10003221-1913400000-1913410800@visitmidhurst.com
SUMMARY:Snooker Tournament
DESCRIPTION:
URL:https://visitmidhurst.com/event/snooker-tournament/2030-08-19/
LOCATION:midhurst club\, 47a North Street\, Midhurst\, West sussex\, GU29 9DR\, United Kingdom
CATEGORIES:Activities
ATTACH;FMTTYPE=image/jpeg:https://visitmidhurst.com/content/uploads/2026/04/snooker.jpg
END:VEVENT
BEGIN:VEVENT
DTSTART;TZID=Europe/London:20300826T200000
DTEND;TZID=Europe/London:20300826T230000
DTSTAMP:20260421T164159
CREATED:20260415T183853Z
LAST-MODIFIED:20260415T193319Z
UID:10003222-1914004800-1914015600@visitmidhurst.com
SUMMARY:Snooker Tournament
DESCRIPTION:
URL:https://visitmidhurst.com/event/snooker-tournament/2030-08-26/
LOCATION:midhurst club\, 47a North Street\, Midhurst\, West sussex\, GU29 9DR\, United Kingdom
CATEGORIES:Activities
ATTACH;FMTTYPE=image/jpeg:https://visitmidhurst.com/content/uploads/2026/04/snooker.jpg
END:VEVENT
BEGIN:VEVENT
DTSTART;TZID=Europe/London:20300902T200000
DTEND;TZID=Europe/London:20300902T230000
DTSTAMP:20260421T164159
CREATED:20260415T183853Z
LAST-MODIFIED:20260415T193319Z
UID:10003223-1914609600-1914620400@visitmidhurst.com
SUMMARY:Snooker Tournament
DESCRIPTION:
URL:https://visitmidhurst.com/event/snooker-tournament/2030-09-02/
LOCATION:midhurst club\, 47a North Street\, Midhurst\, West sussex\, GU29 9DR\, United Kingdom
CATEGORIES:Activities
ATTACH;FMTTYPE=image/jpeg:https://visitmidhurst.com/content/uploads/2026/04/snooker.jpg
END:VEVENT
BEGIN:VEVENT
DTSTART;TZID=Europe/London:20300907T193000
DTEND;TZID=Europe/London:20300907T230000
DTSTAMP:20260421T164159
CREATED:20260207T093745Z
LAST-MODIFIED:20260207T094910Z
UID:10002036-1915039800-1915052400@visitmidhurst.com
SUMMARY:Bingo Night @ Midhurst Club
DESCRIPTION:
URL:https://visitmidhurst.com/event/bingo-night-midhurst-club/2030-09-07/
LOCATION:midhurst club\, 47a North Street\, Midhurst\, West sussex\, GU29 9DR\, United Kingdom
CATEGORIES:Activities,Entertainment,Music
ATTACH;FMTTYPE=image/jpeg:https://visitmidhurst.com/content/uploads/2026/02/Bingo-Midhusr-Club-1.jpg
END:VEVENT
BEGIN:VEVENT
DTSTART;TZID=Europe/London:20300909T200000
DTEND;TZID=Europe/London:20300909T230000
DTSTAMP:20260421T164159
CREATED:20260415T183853Z
LAST-MODIFIED:20260415T193319Z
UID:10003224-1915214400-1915225200@visitmidhurst.com
SUMMARY:Snooker Tournament
DESCRIPTION:
URL:https://visitmidhurst.com/event/snooker-tournament/2030-09-09/
LOCATION:midhurst club\, 47a North Street\, Midhurst\, West sussex\, GU29 9DR\, United Kingdom
CATEGORIES:Activities
ATTACH;FMTTYPE=image/jpeg:https://visitmidhurst.com/content/uploads/2026/04/snooker.jpg
END:VEVENT
BEGIN:VEVENT
DTSTART;TZID=Europe/London:20300916T200000
DTEND;TZID=Europe/London:20300916T230000
DTSTAMP:20260421T164159
CREATED:20260415T183853Z
LAST-MODIFIED:20260415T193319Z
UID:10003225-1915819200-1915830000@visitmidhurst.com
SUMMARY:Snooker Tournament
DESCRIPTION:
URL:https://visitmidhurst.com/event/snooker-tournament/2030-09-16/
LOCATION:midhurst club\, 47a North Street\, Midhurst\, West sussex\, GU29 9DR\, United Kingdom
CATEGORIES:Activities
ATTACH;FMTTYPE=image/jpeg:https://visitmidhurst.com/content/uploads/2026/04/snooker.jpg
END:VEVENT
BEGIN:VEVENT
DTSTART;TZID=Europe/London:20300923T200000
DTEND;TZID=Europe/London:20300923T230000
DTSTAMP:20260421T164159
CREATED:20260415T183853Z
LAST-MODIFIED:20260415T193319Z
UID:10003226-1916424000-1916434800@visitmidhurst.com
SUMMARY:Snooker Tournament
DESCRIPTION:
URL:https://visitmidhurst.com/event/snooker-tournament/2030-09-23/
LOCATION:midhurst club\, 47a North Street\, Midhurst\, West sussex\, GU29 9DR\, United Kingdom
CATEGORIES:Activities
ATTACH;FMTTYPE=image/jpeg:https://visitmidhurst.com/content/uploads/2026/04/snooker.jpg
END:VEVENT
BEGIN:VEVENT
DTSTART;TZID=Europe/London:20300930T200000
DTEND;TZID=Europe/London:20300930T230000
DTSTAMP:20260421T164159
CREATED:20260415T183853Z
LAST-MODIFIED:20260415T193319Z
UID:10003227-1917028800-1917039600@visitmidhurst.com
SUMMARY:Snooker Tournament
DESCRIPTION:
URL:https://visitmidhurst.com/event/snooker-tournament/2030-09-30/
LOCATION:midhurst club\, 47a North Street\, Midhurst\, West sussex\, GU29 9DR\, United Kingdom
CATEGORIES:Activities
ATTACH;FMTTYPE=image/jpeg:https://visitmidhurst.com/content/uploads/2026/04/snooker.jpg
END:VEVENT
BEGIN:VEVENT
DTSTART;TZID=Europe/London:20301005T193000
DTEND;TZID=Europe/London:20301005T230000
DTSTAMP:20260421T164159
CREATED:20260207T093745Z
LAST-MODIFIED:20260207T094910Z
UID:10002037-1917459000-1917471600@visitmidhurst.com
SUMMARY:Bingo Night @ Midhurst Club
DESCRIPTION:
URL:https://visitmidhurst.com/event/bingo-night-midhurst-club/2030-10-05/
LOCATION:midhurst club\, 47a North Street\, Midhurst\, West sussex\, GU29 9DR\, United Kingdom
CATEGORIES:Activities,Entertainment,Music
ATTACH;FMTTYPE=image/jpeg:https://visitmidhurst.com/content/uploads/2026/02/Bingo-Midhusr-Club-1.jpg
END:VEVENT
BEGIN:VEVENT
DTSTART;TZID=Europe/London:20301007T200000
DTEND;TZID=Europe/London:20301007T230000
DTSTAMP:20260421T164159
CREATED:20260415T183853Z
LAST-MODIFIED:20260415T193319Z
UID:10003228-1917633600-1917644400@visitmidhurst.com
SUMMARY:Snooker Tournament
DESCRIPTION:
URL:https://visitmidhurst.com/event/snooker-tournament/2030-10-07/
LOCATION:midhurst club\, 47a North Street\, Midhurst\, West sussex\, GU29 9DR\, United Kingdom
CATEGORIES:Activities
ATTACH;FMTTYPE=image/jpeg:https://visitmidhurst.com/content/uploads/2026/04/snooker.jpg
END:VEVENT
BEGIN:VEVENT
DTSTART;TZID=Europe/London:20301014T200000
DTEND;TZID=Europe/London:20301014T230000
DTSTAMP:20260421T164159
CREATED:20260415T183853Z
LAST-MODIFIED:20260415T193319Z
UID:10003229-1918238400-1918249200@visitmidhurst.com
SUMMARY:Snooker Tournament
DESCRIPTION:
URL:https://visitmidhurst.com/event/snooker-tournament/2030-10-14/
LOCATION:midhurst club\, 47a North Street\, Midhurst\, West sussex\, GU29 9DR\, United Kingdom
CATEGORIES:Activities
ATTACH;FMTTYPE=image/jpeg:https://visitmidhurst.com/content/uploads/2026/04/snooker.jpg
END:VEVENT
BEGIN:VEVENT
DTSTART;TZID=Europe/London:20301021T200000
DTEND;TZID=Europe/London:20301021T230000
DTSTAMP:20260421T164159
CREATED:20260415T183853Z
LAST-MODIFIED:20260415T193319Z
UID:10003230-1918843200-1918854000@visitmidhurst.com
SUMMARY:Snooker Tournament
DESCRIPTION:
URL:https://visitmidhurst.com/event/snooker-tournament/2030-10-21/
LOCATION:midhurst club\, 47a North Street\, Midhurst\, West sussex\, GU29 9DR\, United Kingdom
CATEGORIES:Activities
ATTACH;FMTTYPE=image/jpeg:https://visitmidhurst.com/content/uploads/2026/04/snooker.jpg
END:VEVENT
BEGIN:VEVENT
DTSTART;TZID=Europe/London:20301028T200000
DTEND;TZID=Europe/London:20301028T230000
DTSTAMP:20260421T164159
CREATED:20260415T183853Z
LAST-MODIFIED:20260415T193319Z
UID:10003231-1919448000-1919458800@visitmidhurst.com
SUMMARY:Snooker Tournament
DESCRIPTION:
URL:https://visitmidhurst.com/event/snooker-tournament/2030-10-28/
LOCATION:midhurst club\, 47a North Street\, Midhurst\, West sussex\, GU29 9DR\, United Kingdom
CATEGORIES:Activities
ATTACH;FMTTYPE=image/jpeg:https://visitmidhurst.com/content/uploads/2026/04/snooker.jpg
END:VEVENT
BEGIN:VEVENT
DTSTART;TZID=Europe/London:20301102T193000
DTEND;TZID=Europe/London:20301102T230000
DTSTAMP:20260421T164159
CREATED:20260207T093745Z
LAST-MODIFIED:20260207T094910Z
UID:10002038-1919878200-1919890800@visitmidhurst.com
SUMMARY:Bingo Night @ Midhurst Club
DESCRIPTION:
URL:https://visitmidhurst.com/event/bingo-night-midhurst-club/2030-11-02/
LOCATION:midhurst club\, 47a North Street\, Midhurst\, West sussex\, GU29 9DR\, United Kingdom
CATEGORIES:Activities,Entertainment,Music
ATTACH;FMTTYPE=image/jpeg:https://visitmidhurst.com/content/uploads/2026/02/Bingo-Midhusr-Club-1.jpg
END:VEVENT
BEGIN:VEVENT
DTSTART;TZID=Europe/London:20301104T200000
DTEND;TZID=Europe/London:20301104T230000
DTSTAMP:20260421T164159
CREATED:20260415T183853Z
LAST-MODIFIED:20260415T193319Z
UID:10003232-1920052800-1920063600@visitmidhurst.com
SUMMARY:Snooker Tournament
DESCRIPTION:
URL:https://visitmidhurst.com/event/snooker-tournament/2030-11-04/
LOCATION:midhurst club\, 47a North Street\, Midhurst\, West sussex\, GU29 9DR\, United Kingdom
CATEGORIES:Activities
ATTACH;FMTTYPE=image/jpeg:https://visitmidhurst.com/content/uploads/2026/04/snooker.jpg
END:VEVENT
BEGIN:VEVENT
DTSTART;TZID=Europe/London:20301111T200000
DTEND;TZID=Europe/London:20301111T230000
DTSTAMP:20260421T164159
CREATED:20260415T183853Z
LAST-MODIFIED:20260415T193319Z
UID:10003233-1920657600-1920668400@visitmidhurst.com
SUMMARY:Snooker Tournament
DESCRIPTION:
URL:https://visitmidhurst.com/event/snooker-tournament/2030-11-11/
LOCATION:midhurst club\, 47a North Street\, Midhurst\, West sussex\, GU29 9DR\, United Kingdom
CATEGORIES:Activities
ATTACH;FMTTYPE=image/jpeg:https://visitmidhurst.com/content/uploads/2026/04/snooker.jpg
END:VEVENT
END:VCALENDAR